BEGIN:VCALENDAR
VERSION:2.0
PRODID:-//Black-Owned in Rochester - ECPv6.15.20//NONSGML v1.0//EN
CALSCALE:GREGORIAN
METHOD:PUBLISH
X-WR-CALNAME:Black-Owned in Rochester
X-ORIGINAL-URL:https://blackownedinrochester.com
X-WR-CALDESC:Events for Black-Owned in Rochester
REFRESH-INTERVAL;VALUE=DURATION:PT1H
X-Robots-Tag:noindex
X-PUBLISHED-TTL:PT1H
BEGIN:VTIMEZONE
TZID:America/New_York
BEGIN:DAYLIGHT
TZOFFSETFROM:-0500
TZOFFSETTO:-0400
TZNAME:EDT
DTSTART:20250309T070000
END:DAYLIGHT
BEGIN:STANDARD
TZOFFSETFROM:-0400
TZOFFSETTO:-0500
TZNAME:EST
DTSTART:20251102T060000
END:STANDARD
BEGIN:DAYLIGHT
TZOFFSETFROM:-0500
TZOFFSETTO:-0400
TZNAME:EDT
DTSTART:20260308T070000
END:DAYLIGHT
BEGIN:STANDARD
TZOFFSETFROM:-0400
TZOFFSETTO:-0500
TZNAME:EST
DTSTART:20261101T060000
END:STANDARD
BEGIN:DAYLIGHT
TZOFFSETFROM:-0500
TZOFFSETTO:-0400
TZNAME:EDT
DTSTART:20270314T070000
END:DAYLIGHT
BEGIN:STANDARD
TZOFFSETFROM:-0400
TZOFFSETTO:-0500
TZNAME:EST
DTSTART:20271107T060000
END:STANDARD
END:VTIMEZONE
BEGIN:VEVENT
DTSTART;TZID=America/New_York:20260429T190000
DTEND;TZID=America/New_York:20260429T210000
DTSTAMP:20260423T140639
CREATED:20260306T204328Z
LAST-MODIFIED:20260306T204328Z
UID:10000710-1777489200-1777496400@blackownedinrochester.com
SUMMARY:Adult Skate Night @ Willie W Lightfoot R-Center
DESCRIPTION:Bring your skates to get your roll on with your peers. You will enjoy great music and fun conversations with others while skating. Please note all exclusion dates for skate night!\nRestrictions\nGender\nCo-ed\nAge Restriction\n18+
URL:https://blackownedinrochester.com/event/adult-skate-night-willie-w-lightfoot-r-center/2026-04-29/
LOCATION:Willie W. Lightfoot R-Center\, 271 Flint St\, Rochester\, NY\, 14608\, United States
CATEGORIES:Free Events in Rochester NY
ORGANIZER;CN="Community Organizer":MAILTO:blackownedinrochester+events@gmail.com
END:VEVENT
BEGIN:VEVENT
DTSTART;TZID=America/New_York:20260506T190000
DTEND;TZID=America/New_York:20260506T210000
DTSTAMP:20260423T140639
CREATED:20260306T204328Z
LAST-MODIFIED:20260306T204328Z
UID:10000711-1778094000-1778101200@blackownedinrochester.com
SUMMARY:Adult Skate Night @ Willie W Lightfoot R-Center
DESCRIPTION:Bring your skates to get your roll on with your peers. You will enjoy great music and fun conversations with others while skating. Please note all exclusion dates for skate night!\nRestrictions\nGender\nCo-ed\nAge Restriction\n18+
URL:https://blackownedinrochester.com/event/adult-skate-night-willie-w-lightfoot-r-center/2026-05-06/
LOCATION:Willie W. Lightfoot R-Center\, 271 Flint St\, Rochester\, NY\, 14608\, United States
CATEGORIES:Free Events in Rochester NY
ORGANIZER;CN="Community Organizer":MAILTO:blackownedinrochester+events@gmail.com
END:VEVENT
BEGIN:VEVENT
DTSTART;TZID=America/New_York:20260513T190000
DTEND;TZID=America/New_York:20260513T210000
DTSTAMP:20260423T140639
CREATED:20260306T204328Z
LAST-MODIFIED:20260306T204328Z
UID:10000712-1778698800-1778706000@blackownedinrochester.com
SUMMARY:Adult Skate Night @ Willie W Lightfoot R-Center
DESCRIPTION:Bring your skates to get your roll on with your peers. You will enjoy great music and fun conversations with others while skating. Please note all exclusion dates for skate night!\nRestrictions\nGender\nCo-ed\nAge Restriction\n18+
URL:https://blackownedinrochester.com/event/adult-skate-night-willie-w-lightfoot-r-center/2026-05-13/
LOCATION:Willie W. Lightfoot R-Center\, 271 Flint St\, Rochester\, NY\, 14608\, United States
CATEGORIES:Free Events in Rochester NY
ORGANIZER;CN="Community Organizer":MAILTO:blackownedinrochester+events@gmail.com
END:VEVENT
BEGIN:VEVENT
DTSTART;TZID=America/New_York:20260520T190000
DTEND;TZID=America/New_York:20260520T210000
DTSTAMP:20260423T140639
CREATED:20260306T204328Z
LAST-MODIFIED:20260306T204328Z
UID:10000713-1779303600-1779310800@blackownedinrochester.com
SUMMARY:Adult Skate Night @ Willie W Lightfoot R-Center
DESCRIPTION:Bring your skates to get your roll on with your peers. You will enjoy great music and fun conversations with others while skating. Please note all exclusion dates for skate night!\nRestrictions\nGender\nCo-ed\nAge Restriction\n18+
URL:https://blackownedinrochester.com/event/adult-skate-night-willie-w-lightfoot-r-center/2026-05-20/
LOCATION:Willie W. Lightfoot R-Center\, 271 Flint St\, Rochester\, NY\, 14608\, United States
CATEGORIES:Free Events in Rochester NY
ORGANIZER;CN="Community Organizer":MAILTO:blackownedinrochester+events@gmail.com
END:VEVENT
BEGIN:VEVENT
DTSTART;TZID=America/New_York:20260527T190000
DTEND;TZID=America/New_York:20260527T210000
DTSTAMP:20260423T140639
CREATED:20260306T204328Z
LAST-MODIFIED:20260306T204328Z
UID:10000714-1779908400-1779915600@blackownedinrochester.com
SUMMARY:Adult Skate Night @ Willie W Lightfoot R-Center
DESCRIPTION:Bring your skates to get your roll on with your peers. You will enjoy great music and fun conversations with others while skating. Please note all exclusion dates for skate night!\nRestrictions\nGender\nCo-ed\nAge Restriction\n18+
URL:https://blackownedinrochester.com/event/adult-skate-night-willie-w-lightfoot-r-center/2026-05-27/
LOCATION:Willie W. Lightfoot R-Center\, 271 Flint St\, Rochester\, NY\, 14608\, United States
CATEGORIES:Free Events in Rochester NY
ORGANIZER;CN="Community Organizer":MAILTO:blackownedinrochester+events@gmail.com
END:VEVENT
BEGIN:VEVENT
DTSTART;TZID=America/New_York:20260603T190000
DTEND;TZID=America/New_York:20260603T210000
DTSTAMP:20260423T140639
CREATED:20260306T204328Z
LAST-MODIFIED:20260306T204328Z
UID:10000715-1780513200-1780520400@blackownedinrochester.com
SUMMARY:Adult Skate Night @ Willie W Lightfoot R-Center
DESCRIPTION:Bring your skates to get your roll on with your peers. You will enjoy great music and fun conversations with others while skating. Please note all exclusion dates for skate night!\nRestrictions\nGender\nCo-ed\nAge Restriction\n18+
URL:https://blackownedinrochester.com/event/adult-skate-night-willie-w-lightfoot-r-center/2026-06-03/
LOCATION:Willie W. Lightfoot R-Center\, 271 Flint St\, Rochester\, NY\, 14608\, United States
CATEGORIES:Free Events in Rochester NY
ORGANIZER;CN="Community Organizer":MAILTO:blackownedinrochester+events@gmail.com
END:VEVENT
BEGIN:VEVENT
DTSTART;TZID=America/New_York:20260610T190000
DTEND;TZID=America/New_York:20260610T210000
DTSTAMP:20260423T140639
CREATED:20260306T204328Z
LAST-MODIFIED:20260306T204328Z
UID:10000716-1781118000-1781125200@blackownedinrochester.com
SUMMARY:Adult Skate Night @ Willie W Lightfoot R-Center
DESCRIPTION:Bring your skates to get your roll on with your peers. You will enjoy great music and fun conversations with others while skating. Please note all exclusion dates for skate night!\nRestrictions\nGender\nCo-ed\nAge Restriction\n18+
URL:https://blackownedinrochester.com/event/adult-skate-night-willie-w-lightfoot-r-center/2026-06-10/
LOCATION:Willie W. Lightfoot R-Center\, 271 Flint St\, Rochester\, NY\, 14608\, United States
CATEGORIES:Free Events in Rochester NY
ORGANIZER;CN="Community Organizer":MAILTO:blackownedinrochester+events@gmail.com
END:VEVENT
END:VCALENDAR