BEGIN:VCALENDAR
VERSION:2.0
PRODID:-//Black-Owned in Rochester - ECPv6.15.20//NONSGML v1.0//EN
CALSCALE:GREGORIAN
METHOD:PUBLISH
X-WR-CALNAME:Black-Owned in Rochester
X-ORIGINAL-URL:https://blackownedinrochester.com
X-WR-CALDESC:Events for Black-Owned in Rochester
REFRESH-INTERVAL;VALUE=DURATION:PT1H
X-Robots-Tag:noindex
X-PUBLISHED-TTL:PT1H
BEGIN:VTIMEZONE
TZID:America/New_York
BEGIN:DAYLIGHT
TZOFFSETFROM:-0500
TZOFFSETTO:-0400
TZNAME:EDT
DTSTART:20250309T070000
END:DAYLIGHT
BEGIN:STANDARD
TZOFFSETFROM:-0400
TZOFFSETTO:-0500
TZNAME:EST
DTSTART:20251102T060000
END:STANDARD
BEGIN:DAYLIGHT
TZOFFSETFROM:-0500
TZOFFSETTO:-0400
TZNAME:EDT
DTSTART:20260308T070000
END:DAYLIGHT
BEGIN:STANDARD
TZOFFSETFROM:-0400
TZOFFSETTO:-0500
TZNAME:EST
DTSTART:20261101T060000
END:STANDARD
BEGIN:DAYLIGHT
TZOFFSETFROM:-0500
TZOFFSETTO:-0400
TZNAME:EDT
DTSTART:20270314T070000
END:DAYLIGHT
BEGIN:STANDARD
TZOFFSETFROM:-0400
TZOFFSETTO:-0500
TZNAME:EST
DTSTART:20271107T060000
END:STANDARD
END:VTIMEZONE
BEGIN:VEVENT
DTSTART;TZID=America/New_York:20260605T113000
DTEND;TZID=America/New_York:20260605T133000
DTSTAMP:20260423T151444
CREATED:20260408T033039Z
LAST-MODIFIED:20260408T033344Z
UID:10000785-1780659000-1780666200@blackownedinrochester.com
SUMMARY:Food Truck Fridays In Washington Square Park
DESCRIPTION:Food Truck Fridays in Washington Square\nFridays\, 11:30 AM — 1:30 pm\nJune 5th — August 28th\nWashington Square Park | 10 st. mary’s place\nEase into the weekend with Food Truck Fridays in Washington Square— a lunchtime series in the heart of downtown! \nEnjoy a rotating selection of local food trucks\, lawn games\, and live music curated by Local Sound Collaborative\, all set in the leafy\, green oasis of Washington Square Park. \nWhether you’re craving something savory\, sweet\, or globally inspired\, there’s always something new to try— and great music to enjoy while you eat! \n\n\n\n\nJUNE 5TH\nMacarollin’\nRoc City Sammich\nScoop Up Creamery\nJUNE 12TH\nEat Greek\nRob’s Kabobs\nJUNE 19TH\nRoc Bowlevard\nRoc Dilla\nJune 26th\nMelt Truck\nWraps on Wheels\nScoop Up Creamery\nJuly 3rd – No\nEvent\nJuly 10th\nEat Greek\nMacarollin’\nScoop Up Creamery\nJuly 17th\nRoc City Sammich\nRob’s Kabobs\nJULY 24TH\nChef’s on Wheels\nMelt Truck\nScoop Up Creamery\nJULY 31ST\nMacarollin’\nRoc Bowlevard\nAUGUST 7TH\nEat Greek\nRoc City Sammich\nAugust 14th\nMelt Truck\nWraps on Wheels\nAugust 21st\nRoc Dilla\nVasko’s on Wheels\nScoop Up Creamery\nAugust 28th\nRoll’n Deep ROC\nVasko’s on Wheels
URL:https://blackownedinrochester.com/event/food-truck-fridays-in-washington-square-park/2026-06-05/
LOCATION:Washington Square\, 10 St. Mary's Pl.\, Rochester\, NY\, 14607\, United States
CATEGORIES:Free Events in Rochester NY,Live Music Rochester NY
ATTACH;FMTTYPE=image/jpeg:https://blackownedinrochester.com/wp-content/uploads/2026/04/FoodTruckFridaysFlyer2026.jpg
ORGANIZER;CN="Community Organizer":MAILTO:blackownedinrochester+events@gmail.com
END:VEVENT
BEGIN:VEVENT
DTSTART;TZID=America/New_York:20260612T113000
DTEND;TZID=America/New_York:20260612T133000
DTSTAMP:20260423T151444
CREATED:20260408T033039Z
LAST-MODIFIED:20260408T033344Z
UID:10000786-1781263800-1781271000@blackownedinrochester.com
SUMMARY:Food Truck Fridays In Washington Square Park
DESCRIPTION:Food Truck Fridays in Washington Square\nFridays\, 11:30 AM — 1:30 pm\nJune 5th — August 28th\nWashington Square Park | 10 st. mary’s place\nEase into the weekend with Food Truck Fridays in Washington Square— a lunchtime series in the heart of downtown! \nEnjoy a rotating selection of local food trucks\, lawn games\, and live music curated by Local Sound Collaborative\, all set in the leafy\, green oasis of Washington Square Park. \nWhether you’re craving something savory\, sweet\, or globally inspired\, there’s always something new to try— and great music to enjoy while you eat! \n\n\n\n\nJUNE 5TH\nMacarollin’\nRoc City Sammich\nScoop Up Creamery\nJUNE 12TH\nEat Greek\nRob’s Kabobs\nJUNE 19TH\nRoc Bowlevard\nRoc Dilla\nJune 26th\nMelt Truck\nWraps on Wheels\nScoop Up Creamery\nJuly 3rd – No\nEvent\nJuly 10th\nEat Greek\nMacarollin’\nScoop Up Creamery\nJuly 17th\nRoc City Sammich\nRob’s Kabobs\nJULY 24TH\nChef’s on Wheels\nMelt Truck\nScoop Up Creamery\nJULY 31ST\nMacarollin’\nRoc Bowlevard\nAUGUST 7TH\nEat Greek\nRoc City Sammich\nAugust 14th\nMelt Truck\nWraps on Wheels\nAugust 21st\nRoc Dilla\nVasko’s on Wheels\nScoop Up Creamery\nAugust 28th\nRoll’n Deep ROC\nVasko’s on Wheels
URL:https://blackownedinrochester.com/event/food-truck-fridays-in-washington-square-park/2026-06-12/
LOCATION:Washington Square\, 10 St. Mary's Pl.\, Rochester\, NY\, 14607\, United States
CATEGORIES:Free Events in Rochester NY,Live Music Rochester NY
ATTACH;FMTTYPE=image/jpeg:https://blackownedinrochester.com/wp-content/uploads/2026/04/FoodTruckFridaysFlyer2026.jpg
ORGANIZER;CN="Community Organizer":MAILTO:blackownedinrochester+events@gmail.com
END:VEVENT
BEGIN:VEVENT
DTSTART;TZID=America/New_York:20260619T113000
DTEND;TZID=America/New_York:20260619T133000
DTSTAMP:20260423T151444
CREATED:20260408T033039Z
LAST-MODIFIED:20260408T033344Z
UID:10000787-1781868600-1781875800@blackownedinrochester.com
SUMMARY:Food Truck Fridays In Washington Square Park
DESCRIPTION:Food Truck Fridays in Washington Square\nFridays\, 11:30 AM — 1:30 pm\nJune 5th — August 28th\nWashington Square Park | 10 st. mary’s place\nEase into the weekend with Food Truck Fridays in Washington Square— a lunchtime series in the heart of downtown! \nEnjoy a rotating selection of local food trucks\, lawn games\, and live music curated by Local Sound Collaborative\, all set in the leafy\, green oasis of Washington Square Park. \nWhether you’re craving something savory\, sweet\, or globally inspired\, there’s always something new to try— and great music to enjoy while you eat! \n\n\n\n\nJUNE 5TH\nMacarollin’\nRoc City Sammich\nScoop Up Creamery\nJUNE 12TH\nEat Greek\nRob’s Kabobs\nJUNE 19TH\nRoc Bowlevard\nRoc Dilla\nJune 26th\nMelt Truck\nWraps on Wheels\nScoop Up Creamery\nJuly 3rd – No\nEvent\nJuly 10th\nEat Greek\nMacarollin’\nScoop Up Creamery\nJuly 17th\nRoc City Sammich\nRob’s Kabobs\nJULY 24TH\nChef’s on Wheels\nMelt Truck\nScoop Up Creamery\nJULY 31ST\nMacarollin’\nRoc Bowlevard\nAUGUST 7TH\nEat Greek\nRoc City Sammich\nAugust 14th\nMelt Truck\nWraps on Wheels\nAugust 21st\nRoc Dilla\nVasko’s on Wheels\nScoop Up Creamery\nAugust 28th\nRoll’n Deep ROC\nVasko’s on Wheels
URL:https://blackownedinrochester.com/event/food-truck-fridays-in-washington-square-park/2026-06-19/
LOCATION:Washington Square\, 10 St. Mary's Pl.\, Rochester\, NY\, 14607\, United States
CATEGORIES:Free Events in Rochester NY,Live Music Rochester NY
ATTACH;FMTTYPE=image/jpeg:https://blackownedinrochester.com/wp-content/uploads/2026/04/FoodTruckFridaysFlyer2026.jpg
ORGANIZER;CN="Community Organizer":MAILTO:blackownedinrochester+events@gmail.com
END:VEVENT
BEGIN:VEVENT
DTSTART;TZID=America/New_York:20260626T113000
DTEND;TZID=America/New_York:20260626T133000
DTSTAMP:20260423T151444
CREATED:20260408T033039Z
LAST-MODIFIED:20260408T033344Z
UID:10000788-1782473400-1782480600@blackownedinrochester.com
SUMMARY:Food Truck Fridays In Washington Square Park
DESCRIPTION:Food Truck Fridays in Washington Square\nFridays\, 11:30 AM — 1:30 pm\nJune 5th — August 28th\nWashington Square Park | 10 st. mary’s place\nEase into the weekend with Food Truck Fridays in Washington Square— a lunchtime series in the heart of downtown! \nEnjoy a rotating selection of local food trucks\, lawn games\, and live music curated by Local Sound Collaborative\, all set in the leafy\, green oasis of Washington Square Park. \nWhether you’re craving something savory\, sweet\, or globally inspired\, there’s always something new to try— and great music to enjoy while you eat! \n\n\n\n\nJUNE 5TH\nMacarollin’\nRoc City Sammich\nScoop Up Creamery\nJUNE 12TH\nEat Greek\nRob’s Kabobs\nJUNE 19TH\nRoc Bowlevard\nRoc Dilla\nJune 26th\nMelt Truck\nWraps on Wheels\nScoop Up Creamery\nJuly 3rd – No\nEvent\nJuly 10th\nEat Greek\nMacarollin’\nScoop Up Creamery\nJuly 17th\nRoc City Sammich\nRob’s Kabobs\nJULY 24TH\nChef’s on Wheels\nMelt Truck\nScoop Up Creamery\nJULY 31ST\nMacarollin’\nRoc Bowlevard\nAUGUST 7TH\nEat Greek\nRoc City Sammich\nAugust 14th\nMelt Truck\nWraps on Wheels\nAugust 21st\nRoc Dilla\nVasko’s on Wheels\nScoop Up Creamery\nAugust 28th\nRoll’n Deep ROC\nVasko’s on Wheels
URL:https://blackownedinrochester.com/event/food-truck-fridays-in-washington-square-park/2026-06-26/
LOCATION:Washington Square\, 10 St. Mary's Pl.\, Rochester\, NY\, 14607\, United States
CATEGORIES:Free Events in Rochester NY,Live Music Rochester NY
ATTACH;FMTTYPE=image/jpeg:https://blackownedinrochester.com/wp-content/uploads/2026/04/FoodTruckFridaysFlyer2026.jpg
ORGANIZER;CN="Community Organizer":MAILTO:blackownedinrochester+events@gmail.com
END:VEVENT
BEGIN:VEVENT
DTSTART;TZID=America/New_York:20260710T113000
DTEND;TZID=America/New_York:20260710T133000
DTSTAMP:20260423T151444
CREATED:20260408T033039Z
LAST-MODIFIED:20260408T033344Z
UID:10000789-1783683000-1783690200@blackownedinrochester.com
SUMMARY:Food Truck Fridays In Washington Square Park
DESCRIPTION:Food Truck Fridays in Washington Square\nFridays\, 11:30 AM — 1:30 pm\nJune 5th — August 28th\nWashington Square Park | 10 st. mary’s place\nEase into the weekend with Food Truck Fridays in Washington Square— a lunchtime series in the heart of downtown! \nEnjoy a rotating selection of local food trucks\, lawn games\, and live music curated by Local Sound Collaborative\, all set in the leafy\, green oasis of Washington Square Park. \nWhether you’re craving something savory\, sweet\, or globally inspired\, there’s always something new to try— and great music to enjoy while you eat! \n\n\n\n\nJUNE 5TH\nMacarollin’\nRoc City Sammich\nScoop Up Creamery\nJUNE 12TH\nEat Greek\nRob’s Kabobs\nJUNE 19TH\nRoc Bowlevard\nRoc Dilla\nJune 26th\nMelt Truck\nWraps on Wheels\nScoop Up Creamery\nJuly 3rd – No\nEvent\nJuly 10th\nEat Greek\nMacarollin’\nScoop Up Creamery\nJuly 17th\nRoc City Sammich\nRob’s Kabobs\nJULY 24TH\nChef’s on Wheels\nMelt Truck\nScoop Up Creamery\nJULY 31ST\nMacarollin’\nRoc Bowlevard\nAUGUST 7TH\nEat Greek\nRoc City Sammich\nAugust 14th\nMelt Truck\nWraps on Wheels\nAugust 21st\nRoc Dilla\nVasko’s on Wheels\nScoop Up Creamery\nAugust 28th\nRoll’n Deep ROC\nVasko’s on Wheels
URL:https://blackownedinrochester.com/event/food-truck-fridays-in-washington-square-park/2026-07-10/
LOCATION:Washington Square\, 10 St. Mary's Pl.\, Rochester\, NY\, 14607\, United States
CATEGORIES:Free Events in Rochester NY,Live Music Rochester NY
ATTACH;FMTTYPE=image/jpeg:https://blackownedinrochester.com/wp-content/uploads/2026/04/FoodTruckFridaysFlyer2026.jpg
ORGANIZER;CN="Community Organizer":MAILTO:blackownedinrochester+events@gmail.com
END:VEVENT
BEGIN:VEVENT
DTSTART;TZID=America/New_York:20260717T113000
DTEND;TZID=America/New_York:20260717T133000
DTSTAMP:20260423T151444
CREATED:20260408T033039Z
LAST-MODIFIED:20260408T033344Z
UID:10000790-1784287800-1784295000@blackownedinrochester.com
SUMMARY:Food Truck Fridays In Washington Square Park
DESCRIPTION:Food Truck Fridays in Washington Square\nFridays\, 11:30 AM — 1:30 pm\nJune 5th — August 28th\nWashington Square Park | 10 st. mary’s place\nEase into the weekend with Food Truck Fridays in Washington Square— a lunchtime series in the heart of downtown! \nEnjoy a rotating selection of local food trucks\, lawn games\, and live music curated by Local Sound Collaborative\, all set in the leafy\, green oasis of Washington Square Park. \nWhether you’re craving something savory\, sweet\, or globally inspired\, there’s always something new to try— and great music to enjoy while you eat! \n\n\n\n\nJUNE 5TH\nMacarollin’\nRoc City Sammich\nScoop Up Creamery\nJUNE 12TH\nEat Greek\nRob’s Kabobs\nJUNE 19TH\nRoc Bowlevard\nRoc Dilla\nJune 26th\nMelt Truck\nWraps on Wheels\nScoop Up Creamery\nJuly 3rd – No\nEvent\nJuly 10th\nEat Greek\nMacarollin’\nScoop Up Creamery\nJuly 17th\nRoc City Sammich\nRob’s Kabobs\nJULY 24TH\nChef’s on Wheels\nMelt Truck\nScoop Up Creamery\nJULY 31ST\nMacarollin’\nRoc Bowlevard\nAUGUST 7TH\nEat Greek\nRoc City Sammich\nAugust 14th\nMelt Truck\nWraps on Wheels\nAugust 21st\nRoc Dilla\nVasko’s on Wheels\nScoop Up Creamery\nAugust 28th\nRoll’n Deep ROC\nVasko’s on Wheels
URL:https://blackownedinrochester.com/event/food-truck-fridays-in-washington-square-park/2026-07-17/
LOCATION:Washington Square\, 10 St. Mary's Pl.\, Rochester\, NY\, 14607\, United States
CATEGORIES:Free Events in Rochester NY,Live Music Rochester NY
ATTACH;FMTTYPE=image/jpeg:https://blackownedinrochester.com/wp-content/uploads/2026/04/FoodTruckFridaysFlyer2026.jpg
ORGANIZER;CN="Community Organizer":MAILTO:blackownedinrochester+events@gmail.com
END:VEVENT
BEGIN:VEVENT
DTSTART;TZID=America/New_York:20260724T113000
DTEND;TZID=America/New_York:20260724T133000
DTSTAMP:20260423T151444
CREATED:20260408T033039Z
LAST-MODIFIED:20260408T033344Z
UID:10000791-1784892600-1784899800@blackownedinrochester.com
SUMMARY:Food Truck Fridays In Washington Square Park
DESCRIPTION:Food Truck Fridays in Washington Square\nFridays\, 11:30 AM — 1:30 pm\nJune 5th — August 28th\nWashington Square Park | 10 st. mary’s place\nEase into the weekend with Food Truck Fridays in Washington Square— a lunchtime series in the heart of downtown! \nEnjoy a rotating selection of local food trucks\, lawn games\, and live music curated by Local Sound Collaborative\, all set in the leafy\, green oasis of Washington Square Park. \nWhether you’re craving something savory\, sweet\, or globally inspired\, there’s always something new to try— and great music to enjoy while you eat! \n\n\n\n\nJUNE 5TH\nMacarollin’\nRoc City Sammich\nScoop Up Creamery\nJUNE 12TH\nEat Greek\nRob’s Kabobs\nJUNE 19TH\nRoc Bowlevard\nRoc Dilla\nJune 26th\nMelt Truck\nWraps on Wheels\nScoop Up Creamery\nJuly 3rd – No\nEvent\nJuly 10th\nEat Greek\nMacarollin’\nScoop Up Creamery\nJuly 17th\nRoc City Sammich\nRob’s Kabobs\nJULY 24TH\nChef’s on Wheels\nMelt Truck\nScoop Up Creamery\nJULY 31ST\nMacarollin’\nRoc Bowlevard\nAUGUST 7TH\nEat Greek\nRoc City Sammich\nAugust 14th\nMelt Truck\nWraps on Wheels\nAugust 21st\nRoc Dilla\nVasko’s on Wheels\nScoop Up Creamery\nAugust 28th\nRoll’n Deep ROC\nVasko’s on Wheels
URL:https://blackownedinrochester.com/event/food-truck-fridays-in-washington-square-park/2026-07-24/
LOCATION:Washington Square\, 10 St. Mary's Pl.\, Rochester\, NY\, 14607\, United States
CATEGORIES:Free Events in Rochester NY,Live Music Rochester NY
ATTACH;FMTTYPE=image/jpeg:https://blackownedinrochester.com/wp-content/uploads/2026/04/FoodTruckFridaysFlyer2026.jpg
ORGANIZER;CN="Community Organizer":MAILTO:blackownedinrochester+events@gmail.com
END:VEVENT
BEGIN:VEVENT
DTSTART;TZID=America/New_York:20260731T113000
DTEND;TZID=America/New_York:20260731T133000
DTSTAMP:20260423T151444
CREATED:20260408T033039Z
LAST-MODIFIED:20260408T033344Z
UID:10000792-1785497400-1785504600@blackownedinrochester.com
SUMMARY:Food Truck Fridays In Washington Square Park
DESCRIPTION:Food Truck Fridays in Washington Square\nFridays\, 11:30 AM — 1:30 pm\nJune 5th — August 28th\nWashington Square Park | 10 st. mary’s place\nEase into the weekend with Food Truck Fridays in Washington Square— a lunchtime series in the heart of downtown! \nEnjoy a rotating selection of local food trucks\, lawn games\, and live music curated by Local Sound Collaborative\, all set in the leafy\, green oasis of Washington Square Park. \nWhether you’re craving something savory\, sweet\, or globally inspired\, there’s always something new to try— and great music to enjoy while you eat! \n\n\n\n\nJUNE 5TH\nMacarollin’\nRoc City Sammich\nScoop Up Creamery\nJUNE 12TH\nEat Greek\nRob’s Kabobs\nJUNE 19TH\nRoc Bowlevard\nRoc Dilla\nJune 26th\nMelt Truck\nWraps on Wheels\nScoop Up Creamery\nJuly 3rd – No\nEvent\nJuly 10th\nEat Greek\nMacarollin’\nScoop Up Creamery\nJuly 17th\nRoc City Sammich\nRob’s Kabobs\nJULY 24TH\nChef’s on Wheels\nMelt Truck\nScoop Up Creamery\nJULY 31ST\nMacarollin’\nRoc Bowlevard\nAUGUST 7TH\nEat Greek\nRoc City Sammich\nAugust 14th\nMelt Truck\nWraps on Wheels\nAugust 21st\nRoc Dilla\nVasko’s on Wheels\nScoop Up Creamery\nAugust 28th\nRoll’n Deep ROC\nVasko’s on Wheels
URL:https://blackownedinrochester.com/event/food-truck-fridays-in-washington-square-park/2026-07-31/
LOCATION:Washington Square\, 10 St. Mary's Pl.\, Rochester\, NY\, 14607\, United States
CATEGORIES:Free Events in Rochester NY,Live Music Rochester NY
ATTACH;FMTTYPE=image/jpeg:https://blackownedinrochester.com/wp-content/uploads/2026/04/FoodTruckFridaysFlyer2026.jpg
ORGANIZER;CN="Community Organizer":MAILTO:blackownedinrochester+events@gmail.com
END:VEVENT
BEGIN:VEVENT
DTSTART;TZID=America/New_York:20260807T113000
DTEND;TZID=America/New_York:20260807T133000
DTSTAMP:20260423T151444
CREATED:20260408T033039Z
LAST-MODIFIED:20260408T033344Z
UID:10000793-1786102200-1786109400@blackownedinrochester.com
SUMMARY:Food Truck Fridays In Washington Square Park
DESCRIPTION:Food Truck Fridays in Washington Square\nFridays\, 11:30 AM — 1:30 pm\nJune 5th — August 28th\nWashington Square Park | 10 st. mary’s place\nEase into the weekend with Food Truck Fridays in Washington Square— a lunchtime series in the heart of downtown! \nEnjoy a rotating selection of local food trucks\, lawn games\, and live music curated by Local Sound Collaborative\, all set in the leafy\, green oasis of Washington Square Park. \nWhether you’re craving something savory\, sweet\, or globally inspired\, there’s always something new to try— and great music to enjoy while you eat! \n\n\n\n\nJUNE 5TH\nMacarollin’\nRoc City Sammich\nScoop Up Creamery\nJUNE 12TH\nEat Greek\nRob’s Kabobs\nJUNE 19TH\nRoc Bowlevard\nRoc Dilla\nJune 26th\nMelt Truck\nWraps on Wheels\nScoop Up Creamery\nJuly 3rd – No\nEvent\nJuly 10th\nEat Greek\nMacarollin’\nScoop Up Creamery\nJuly 17th\nRoc City Sammich\nRob’s Kabobs\nJULY 24TH\nChef’s on Wheels\nMelt Truck\nScoop Up Creamery\nJULY 31ST\nMacarollin’\nRoc Bowlevard\nAUGUST 7TH\nEat Greek\nRoc City Sammich\nAugust 14th\nMelt Truck\nWraps on Wheels\nAugust 21st\nRoc Dilla\nVasko’s on Wheels\nScoop Up Creamery\nAugust 28th\nRoll’n Deep ROC\nVasko’s on Wheels
URL:https://blackownedinrochester.com/event/food-truck-fridays-in-washington-square-park/2026-08-07/
LOCATION:Washington Square\, 10 St. Mary's Pl.\, Rochester\, NY\, 14607\, United States
CATEGORIES:Free Events in Rochester NY,Live Music Rochester NY
ATTACH;FMTTYPE=image/jpeg:https://blackownedinrochester.com/wp-content/uploads/2026/04/FoodTruckFridaysFlyer2026.jpg
ORGANIZER;CN="Community Organizer":MAILTO:blackownedinrochester+events@gmail.com
END:VEVENT
BEGIN:VEVENT
DTSTART;TZID=America/New_York:20260814T113000
DTEND;TZID=America/New_York:20260814T133000
DTSTAMP:20260423T151444
CREATED:20260408T033039Z
LAST-MODIFIED:20260408T033344Z
UID:10000794-1786707000-1786714200@blackownedinrochester.com
SUMMARY:Food Truck Fridays In Washington Square Park
DESCRIPTION:Food Truck Fridays in Washington Square\nFridays\, 11:30 AM — 1:30 pm\nJune 5th — August 28th\nWashington Square Park | 10 st. mary’s place\nEase into the weekend with Food Truck Fridays in Washington Square— a lunchtime series in the heart of downtown! \nEnjoy a rotating selection of local food trucks\, lawn games\, and live music curated by Local Sound Collaborative\, all set in the leafy\, green oasis of Washington Square Park. \nWhether you’re craving something savory\, sweet\, or globally inspired\, there’s always something new to try— and great music to enjoy while you eat! \n\n\n\n\nJUNE 5TH\nMacarollin’\nRoc City Sammich\nScoop Up Creamery\nJUNE 12TH\nEat Greek\nRob’s Kabobs\nJUNE 19TH\nRoc Bowlevard\nRoc Dilla\nJune 26th\nMelt Truck\nWraps on Wheels\nScoop Up Creamery\nJuly 3rd – No\nEvent\nJuly 10th\nEat Greek\nMacarollin’\nScoop Up Creamery\nJuly 17th\nRoc City Sammich\nRob’s Kabobs\nJULY 24TH\nChef’s on Wheels\nMelt Truck\nScoop Up Creamery\nJULY 31ST\nMacarollin’\nRoc Bowlevard\nAUGUST 7TH\nEat Greek\nRoc City Sammich\nAugust 14th\nMelt Truck\nWraps on Wheels\nAugust 21st\nRoc Dilla\nVasko’s on Wheels\nScoop Up Creamery\nAugust 28th\nRoll’n Deep ROC\nVasko’s on Wheels
URL:https://blackownedinrochester.com/event/food-truck-fridays-in-washington-square-park/2026-08-14/
LOCATION:Washington Square\, 10 St. Mary's Pl.\, Rochester\, NY\, 14607\, United States
CATEGORIES:Free Events in Rochester NY,Live Music Rochester NY
ATTACH;FMTTYPE=image/jpeg:https://blackownedinrochester.com/wp-content/uploads/2026/04/FoodTruckFridaysFlyer2026.jpg
ORGANIZER;CN="Community Organizer":MAILTO:blackownedinrochester+events@gmail.com
END:VEVENT
BEGIN:VEVENT
DTSTART;TZID=America/New_York:20260821T113000
DTEND;TZID=America/New_York:20260821T133000
DTSTAMP:20260423T151444
CREATED:20260408T033039Z
LAST-MODIFIED:20260408T033344Z
UID:10000795-1787311800-1787319000@blackownedinrochester.com
SUMMARY:Food Truck Fridays In Washington Square Park
DESCRIPTION:Food Truck Fridays in Washington Square\nFridays\, 11:30 AM — 1:30 pm\nJune 5th — August 28th\nWashington Square Park | 10 st. mary’s place\nEase into the weekend with Food Truck Fridays in Washington Square— a lunchtime series in the heart of downtown! \nEnjoy a rotating selection of local food trucks\, lawn games\, and live music curated by Local Sound Collaborative\, all set in the leafy\, green oasis of Washington Square Park. \nWhether you’re craving something savory\, sweet\, or globally inspired\, there’s always something new to try— and great music to enjoy while you eat! \n\n\n\n\nJUNE 5TH\nMacarollin’\nRoc City Sammich\nScoop Up Creamery\nJUNE 12TH\nEat Greek\nRob’s Kabobs\nJUNE 19TH\nRoc Bowlevard\nRoc Dilla\nJune 26th\nMelt Truck\nWraps on Wheels\nScoop Up Creamery\nJuly 3rd – No\nEvent\nJuly 10th\nEat Greek\nMacarollin’\nScoop Up Creamery\nJuly 17th\nRoc City Sammich\nRob’s Kabobs\nJULY 24TH\nChef’s on Wheels\nMelt Truck\nScoop Up Creamery\nJULY 31ST\nMacarollin’\nRoc Bowlevard\nAUGUST 7TH\nEat Greek\nRoc City Sammich\nAugust 14th\nMelt Truck\nWraps on Wheels\nAugust 21st\nRoc Dilla\nVasko’s on Wheels\nScoop Up Creamery\nAugust 28th\nRoll’n Deep ROC\nVasko’s on Wheels
URL:https://blackownedinrochester.com/event/food-truck-fridays-in-washington-square-park/2026-08-21/
LOCATION:Washington Square\, 10 St. Mary's Pl.\, Rochester\, NY\, 14607\, United States
CATEGORIES:Free Events in Rochester NY,Live Music Rochester NY
ATTACH;FMTTYPE=image/jpeg:https://blackownedinrochester.com/wp-content/uploads/2026/04/FoodTruckFridaysFlyer2026.jpg
ORGANIZER;CN="Community Organizer":MAILTO:blackownedinrochester+events@gmail.com
END:VEVENT
BEGIN:VEVENT
DTSTART;TZID=America/New_York:20260828T113000
DTEND;TZID=America/New_York:20260828T133000
DTSTAMP:20260423T151444
CREATED:20260408T033039Z
LAST-MODIFIED:20260408T033344Z
UID:10000796-1787916600-1787923800@blackownedinrochester.com
SUMMARY:Food Truck Fridays In Washington Square Park
DESCRIPTION:Food Truck Fridays in Washington Square\nFridays\, 11:30 AM — 1:30 pm\nJune 5th — August 28th\nWashington Square Park | 10 st. mary’s place\nEase into the weekend with Food Truck Fridays in Washington Square— a lunchtime series in the heart of downtown! \nEnjoy a rotating selection of local food trucks\, lawn games\, and live music curated by Local Sound Collaborative\, all set in the leafy\, green oasis of Washington Square Park. \nWhether you’re craving something savory\, sweet\, or globally inspired\, there’s always something new to try— and great music to enjoy while you eat! \n\n\n\n\nJUNE 5TH\nMacarollin’\nRoc City Sammich\nScoop Up Creamery\nJUNE 12TH\nEat Greek\nRob’s Kabobs\nJUNE 19TH\nRoc Bowlevard\nRoc Dilla\nJune 26th\nMelt Truck\nWraps on Wheels\nScoop Up Creamery\nJuly 3rd – No\nEvent\nJuly 10th\nEat Greek\nMacarollin’\nScoop Up Creamery\nJuly 17th\nRoc City Sammich\nRob’s Kabobs\nJULY 24TH\nChef’s on Wheels\nMelt Truck\nScoop Up Creamery\nJULY 31ST\nMacarollin’\nRoc Bowlevard\nAUGUST 7TH\nEat Greek\nRoc City Sammich\nAugust 14th\nMelt Truck\nWraps on Wheels\nAugust 21st\nRoc Dilla\nVasko’s on Wheels\nScoop Up Creamery\nAugust 28th\nRoll’n Deep ROC\nVasko’s on Wheels
URL:https://blackownedinrochester.com/event/food-truck-fridays-in-washington-square-park/2026-08-28/
LOCATION:Washington Square\, 10 St. Mary's Pl.\, Rochester\, NY\, 14607\, United States
CATEGORIES:Free Events in Rochester NY,Live Music Rochester NY
ATTACH;FMTTYPE=image/jpeg:https://blackownedinrochester.com/wp-content/uploads/2026/04/FoodTruckFridaysFlyer2026.jpg
ORGANIZER;CN="Community Organizer":MAILTO:blackownedinrochester+events@gmail.com
END:VEVENT
END:VCALENDAR