BEGIN:VCALENDAR
VERSION:2.0
PRODID:-//Black-Owned in Rochester - ECPv6.15.20//NONSGML v1.0//EN
CALSCALE:GREGORIAN
METHOD:PUBLISH
X-ORIGINAL-URL:https://blackownedinrochester.com
X-WR-CALDESC:Events for Black-Owned in Rochester
REFRESH-INTERVAL;VALUE=DURATION:PT1H
X-Robots-Tag:noindex
X-PUBLISHED-TTL:PT1H
BEGIN:VTIMEZONE
TZID:America/New_York
BEGIN:DAYLIGHT
TZOFFSETFROM:-0500
TZOFFSETTO:-0400
TZNAME:EDT
DTSTART:20250309T070000
END:DAYLIGHT
BEGIN:STANDARD
TZOFFSETFROM:-0400
TZOFFSETTO:-0500
TZNAME:EST
DTSTART:20251102T060000
END:STANDARD
BEGIN:DAYLIGHT
TZOFFSETFROM:-0500
TZOFFSETTO:-0400
TZNAME:EDT
DTSTART:20260308T070000
END:DAYLIGHT
BEGIN:STANDARD
TZOFFSETFROM:-0400
TZOFFSETTO:-0500
TZNAME:EST
DTSTART:20261101T060000
END:STANDARD
BEGIN:DAYLIGHT
TZOFFSETFROM:-0500
TZOFFSETTO:-0400
TZNAME:EDT
DTSTART:20270314T070000
END:DAYLIGHT
BEGIN:STANDARD
TZOFFSETFROM:-0400
TZOFFSETTO:-0500
TZNAME:EST
DTSTART:20271107T060000
END:STANDARD
END:VTIMEZONE
BEGIN:VEVENT
DTSTART;TZID=America/New_York:20260322T110000
DTEND;TZID=America/New_York:20260322T160000
DTSTAMP:20260423T155523
CREATED:20260319T170126Z
LAST-MODIFIED:20260319T170126Z
UID:10000773-1774177200-1774195200@blackownedinrochester.com
SUMMARY:Makers to the Rescue - RocOnly Events
DESCRIPTION:Makers to the Rescue is a one-day community market and fundraiser bringing together local artisans\, animal lovers\, and good food—all in support of Verona Street Animal Society – VSAS is a not-for-profit organization dedicated to supporting Rochester Animal Services in helping pets and their owners in our community. Their mission includes keeping pets safe\, strengthening the human-animal bond\, and saving lives—through programs that help both shelter animals and those in foster care.\nHosted at The Old Farm Cafe\, this free-entry event features handmade goods for pets and people\, interactive experiences\, and multiple ways to give back while enjoying a relaxed afternoon out.\nWhat to expect:\n*A curated lineup of local\, pet- and animal-centric vendors offering artwork\, custom pet portraits\, treats\, accessories\, and gifts\n*Animal-themed flash tattoos and tarot readings\n*Chair massage\n*A raffle filled with people- and pet-friendly prizes\, with all proceeds benefiting Verona Street Animal Society\n*Food and specialty beverages available from The Old Farm Cafe\nWhether you’re shopping for your four-legged best friend\, looking for art inspired by animals\, or just want to support a local cause that truly matters\, Makers to the Rescue is a feel-good way to spend your day.
URL:https://blackownedinrochester.com/event/makers-to-the-rescue-roconly-events/
LOCATION:The Old Farm Cafe & Dining Experience\, 3450 Winton Pl Suite 6\, Rochester\, NY\, 14623\, United States
ATTACH;FMTTYPE=image/jpeg:https://blackownedinrochester.com/wp-content/uploads/2026/03/616846605_915429391068475_6854067130673753223_n.jpg
ORGANIZER;CN="Community Organizer":MAILTO:blackownedinrochester+events@gmail.com
END:VEVENT
END:VCALENDAR