BEGIN:VCALENDAR
VERSION:2.0
PRODID:-//Black-Owned in Rochester - ECPv6.15.20//NONSGML v1.0//EN
CALSCALE:GREGORIAN
METHOD:PUBLISH
X-WR-CALNAME:Black-Owned in Rochester
X-ORIGINAL-URL:https://blackownedinrochester.com
X-WR-CALDESC:Events for Black-Owned in Rochester
REFRESH-INTERVAL;VALUE=DURATION:PT1H
X-Robots-Tag:noindex
X-PUBLISHED-TTL:PT1H
BEGIN:VTIMEZONE
TZID:America/New_York
BEGIN:DAYLIGHT
TZOFFSETFROM:-0500
TZOFFSETTO:-0400
TZNAME:EDT
DTSTART:20250309T070000
END:DAYLIGHT
BEGIN:STANDARD
TZOFFSETFROM:-0400
TZOFFSETTO:-0500
TZNAME:EST
DTSTART:20251102T060000
END:STANDARD
BEGIN:DAYLIGHT
TZOFFSETFROM:-0500
TZOFFSETTO:-0400
TZNAME:EDT
DTSTART:20260308T070000
END:DAYLIGHT
BEGIN:STANDARD
TZOFFSETFROM:-0400
TZOFFSETTO:-0500
TZNAME:EST
DTSTART:20261101T060000
END:STANDARD
BEGIN:DAYLIGHT
TZOFFSETFROM:-0500
TZOFFSETTO:-0400
TZNAME:EDT
DTSTART:20270314T070000
END:DAYLIGHT
BEGIN:STANDARD
TZOFFSETFROM:-0400
TZOFFSETTO:-0500
TZNAME:EST
DTSTART:20271107T060000
END:STANDARD
END:VTIMEZONE
BEGIN:VEVENT
DTSTART;TZID=America/New_York:20260607T100000
DTEND;TZID=America/New_York:20260607T160000
DTSTAMP:20260423T135549
CREATED:20250326T040042Z
LAST-MODIFIED:20260421T193057Z
UID:10000865-1780826400-1780848000@blackownedinrochester.com
SUMMARY:The Lucky Flea - Vintage Market
DESCRIPTION:The Lucky Flea is an open-air vintage market hosted within The Grove (266 E Broad Street) located right in the heart of Downtown Rochester. The Flea is a space for local creatives\, collectors and vintage curators to gather and sell while connecting with their local customers every week. \nOur alternative market provides an accessible shopping experience that welcomes patrons to support sustainable efforts and small businesses. The diverse crew of vendors changes weekly\, creating a consistently new experience to discover.
URL:https://blackownedinrochester.com/event/the-lucky-flea-vintage-market/2026-06-07/
LOCATION:The Grove\, 266 E Broad St.\, Rochester\, 14604\, United States
CATEGORIES:Free Events in Rochester NY,Rochester Flea Markets,Vendor Markets Rochester NY
ATTACH;FMTTYPE=image/png:https://blackownedinrochester.com/wp-content/uploads/2024/07/Screen-Shot-2024-07-22-at-8.54.55-PM.png
ORGANIZER;CN="Community Organizer":MAILTO:blackownedinrochester+events@gmail.com
END:VEVENT
BEGIN:VEVENT
DTSTART;TZID=America/New_York:20260614T100000
DTEND;TZID=America/New_York:20260614T160000
DTSTAMP:20260423T135549
CREATED:20250326T040042Z
LAST-MODIFIED:20260421T193057Z
UID:10000866-1781431200-1781452800@blackownedinrochester.com
SUMMARY:The Lucky Flea - Vintage Market
DESCRIPTION:The Lucky Flea is an open-air vintage market hosted within The Grove (266 E Broad Street) located right in the heart of Downtown Rochester. The Flea is a space for local creatives\, collectors and vintage curators to gather and sell while connecting with their local customers every week. \nOur alternative market provides an accessible shopping experience that welcomes patrons to support sustainable efforts and small businesses. The diverse crew of vendors changes weekly\, creating a consistently new experience to discover.
URL:https://blackownedinrochester.com/event/the-lucky-flea-vintage-market/2026-06-14/
LOCATION:The Grove\, 266 E Broad St.\, Rochester\, 14604\, United States
CATEGORIES:Free Events in Rochester NY,Rochester Flea Markets,Vendor Markets Rochester NY
ATTACH;FMTTYPE=image/png:https://blackownedinrochester.com/wp-content/uploads/2024/07/Screen-Shot-2024-07-22-at-8.54.55-PM.png
ORGANIZER;CN="Community Organizer":MAILTO:blackownedinrochester+events@gmail.com
END:VEVENT
BEGIN:VEVENT
DTSTART;TZID=America/New_York:20260621T100000
DTEND;TZID=America/New_York:20260621T160000
DTSTAMP:20260423T135549
CREATED:20250326T040042Z
LAST-MODIFIED:20260421T193057Z
UID:10000867-1782036000-1782057600@blackownedinrochester.com
SUMMARY:The Lucky Flea - Vintage Market
DESCRIPTION:The Lucky Flea is an open-air vintage market hosted within The Grove (266 E Broad Street) located right in the heart of Downtown Rochester. The Flea is a space for local creatives\, collectors and vintage curators to gather and sell while connecting with their local customers every week. \nOur alternative market provides an accessible shopping experience that welcomes patrons to support sustainable efforts and small businesses. The diverse crew of vendors changes weekly\, creating a consistently new experience to discover.
URL:https://blackownedinrochester.com/event/the-lucky-flea-vintage-market/2026-06-21/
LOCATION:The Grove\, 266 E Broad St.\, Rochester\, 14604\, United States
CATEGORIES:Free Events in Rochester NY,Rochester Flea Markets,Vendor Markets Rochester NY
ATTACH;FMTTYPE=image/png:https://blackownedinrochester.com/wp-content/uploads/2024/07/Screen-Shot-2024-07-22-at-8.54.55-PM.png
ORGANIZER;CN="Community Organizer":MAILTO:blackownedinrochester+events@gmail.com
END:VEVENT
BEGIN:VEVENT
DTSTART;TZID=America/New_York:20260628T100000
DTEND;TZID=America/New_York:20260628T160000
DTSTAMP:20260423T135549
CREATED:20250326T040042Z
LAST-MODIFIED:20260421T193057Z
UID:10000868-1782640800-1782662400@blackownedinrochester.com
SUMMARY:The Lucky Flea - Vintage Market
DESCRIPTION:The Lucky Flea is an open-air vintage market hosted within The Grove (266 E Broad Street) located right in the heart of Downtown Rochester. The Flea is a space for local creatives\, collectors and vintage curators to gather and sell while connecting with their local customers every week. \nOur alternative market provides an accessible shopping experience that welcomes patrons to support sustainable efforts and small businesses. The diverse crew of vendors changes weekly\, creating a consistently new experience to discover.
URL:https://blackownedinrochester.com/event/the-lucky-flea-vintage-market/2026-06-28/
LOCATION:The Grove\, 266 E Broad St.\, Rochester\, 14604\, United States
CATEGORIES:Free Events in Rochester NY,Rochester Flea Markets,Vendor Markets Rochester NY
ATTACH;FMTTYPE=image/png:https://blackownedinrochester.com/wp-content/uploads/2024/07/Screen-Shot-2024-07-22-at-8.54.55-PM.png
ORGANIZER;CN="Community Organizer":MAILTO:blackownedinrochester+events@gmail.com
END:VEVENT
BEGIN:VEVENT
DTSTART;TZID=America/New_York:20260705T100000
DTEND;TZID=America/New_York:20260705T160000
DTSTAMP:20260423T135549
CREATED:20250326T040042Z
LAST-MODIFIED:20260421T193057Z
UID:10000869-1783245600-1783267200@blackownedinrochester.com
SUMMARY:The Lucky Flea - Vintage Market
DESCRIPTION:The Lucky Flea is an open-air vintage market hosted within The Grove (266 E Broad Street) located right in the heart of Downtown Rochester. The Flea is a space for local creatives\, collectors and vintage curators to gather and sell while connecting with their local customers every week. \nOur alternative market provides an accessible shopping experience that welcomes patrons to support sustainable efforts and small businesses. The diverse crew of vendors changes weekly\, creating a consistently new experience to discover.
URL:https://blackownedinrochester.com/event/the-lucky-flea-vintage-market/2026-07-05/
LOCATION:The Grove\, 266 E Broad St.\, Rochester\, 14604\, United States
CATEGORIES:Free Events in Rochester NY,Rochester Flea Markets,Vendor Markets Rochester NY
ATTACH;FMTTYPE=image/png:https://blackownedinrochester.com/wp-content/uploads/2024/07/Screen-Shot-2024-07-22-at-8.54.55-PM.png
ORGANIZER;CN="Community Organizer":MAILTO:blackownedinrochester+events@gmail.com
END:VEVENT
BEGIN:VEVENT
DTSTART;TZID=America/New_York:20260712T100000
DTEND;TZID=America/New_York:20260712T160000
DTSTAMP:20260423T135549
CREATED:20250326T040042Z
LAST-MODIFIED:20260421T193057Z
UID:10000870-1783850400-1783872000@blackownedinrochester.com
SUMMARY:The Lucky Flea - Vintage Market
DESCRIPTION:The Lucky Flea is an open-air vintage market hosted within The Grove (266 E Broad Street) located right in the heart of Downtown Rochester. The Flea is a space for local creatives\, collectors and vintage curators to gather and sell while connecting with their local customers every week. \nOur alternative market provides an accessible shopping experience that welcomes patrons to support sustainable efforts and small businesses. The diverse crew of vendors changes weekly\, creating a consistently new experience to discover.
URL:https://blackownedinrochester.com/event/the-lucky-flea-vintage-market/2026-07-12/
LOCATION:The Grove\, 266 E Broad St.\, Rochester\, 14604\, United States
CATEGORIES:Free Events in Rochester NY,Rochester Flea Markets,Vendor Markets Rochester NY
ATTACH;FMTTYPE=image/png:https://blackownedinrochester.com/wp-content/uploads/2024/07/Screen-Shot-2024-07-22-at-8.54.55-PM.png
ORGANIZER;CN="Community Organizer":MAILTO:blackownedinrochester+events@gmail.com
END:VEVENT
BEGIN:VEVENT
DTSTART;TZID=America/New_York:20260719T100000
DTEND;TZID=America/New_York:20260719T160000
DTSTAMP:20260423T135549
CREATED:20250326T040042Z
LAST-MODIFIED:20260421T193057Z
UID:10000871-1784455200-1784476800@blackownedinrochester.com
SUMMARY:The Lucky Flea - Vintage Market
DESCRIPTION:The Lucky Flea is an open-air vintage market hosted within The Grove (266 E Broad Street) located right in the heart of Downtown Rochester. The Flea is a space for local creatives\, collectors and vintage curators to gather and sell while connecting with their local customers every week. \nOur alternative market provides an accessible shopping experience that welcomes patrons to support sustainable efforts and small businesses. The diverse crew of vendors changes weekly\, creating a consistently new experience to discover.
URL:https://blackownedinrochester.com/event/the-lucky-flea-vintage-market/2026-07-19/
LOCATION:The Grove\, 266 E Broad St.\, Rochester\, 14604\, United States
CATEGORIES:Free Events in Rochester NY,Rochester Flea Markets,Vendor Markets Rochester NY
ATTACH;FMTTYPE=image/png:https://blackownedinrochester.com/wp-content/uploads/2024/07/Screen-Shot-2024-07-22-at-8.54.55-PM.png
ORGANIZER;CN="Community Organizer":MAILTO:blackownedinrochester+events@gmail.com
END:VEVENT
BEGIN:VEVENT
DTSTART;TZID=America/New_York:20260726T100000
DTEND;TZID=America/New_York:20260726T160000
DTSTAMP:20260423T135549
CREATED:20250326T040042Z
LAST-MODIFIED:20260421T193057Z
UID:10000872-1785060000-1785081600@blackownedinrochester.com
SUMMARY:The Lucky Flea - Vintage Market
DESCRIPTION:The Lucky Flea is an open-air vintage market hosted within The Grove (266 E Broad Street) located right in the heart of Downtown Rochester. The Flea is a space for local creatives\, collectors and vintage curators to gather and sell while connecting with their local customers every week. \nOur alternative market provides an accessible shopping experience that welcomes patrons to support sustainable efforts and small businesses. The diverse crew of vendors changes weekly\, creating a consistently new experience to discover.
URL:https://blackownedinrochester.com/event/the-lucky-flea-vintage-market/2026-07-26/
LOCATION:The Grove\, 266 E Broad St.\, Rochester\, 14604\, United States
CATEGORIES:Free Events in Rochester NY,Rochester Flea Markets,Vendor Markets Rochester NY
ATTACH;FMTTYPE=image/png:https://blackownedinrochester.com/wp-content/uploads/2024/07/Screen-Shot-2024-07-22-at-8.54.55-PM.png
ORGANIZER;CN="Community Organizer":MAILTO:blackownedinrochester+events@gmail.com
END:VEVENT
BEGIN:VEVENT
DTSTART;TZID=America/New_York:20260802T100000
DTEND;TZID=America/New_York:20260802T160000
DTSTAMP:20260423T135549
CREATED:20250326T040042Z
LAST-MODIFIED:20260421T193057Z
UID:10000873-1785664800-1785686400@blackownedinrochester.com
SUMMARY:The Lucky Flea - Vintage Market
DESCRIPTION:The Lucky Flea is an open-air vintage market hosted within The Grove (266 E Broad Street) located right in the heart of Downtown Rochester. The Flea is a space for local creatives\, collectors and vintage curators to gather and sell while connecting with their local customers every week. \nOur alternative market provides an accessible shopping experience that welcomes patrons to support sustainable efforts and small businesses. The diverse crew of vendors changes weekly\, creating a consistently new experience to discover.
URL:https://blackownedinrochester.com/event/the-lucky-flea-vintage-market/2026-08-02/
LOCATION:The Grove\, 266 E Broad St.\, Rochester\, 14604\, United States
CATEGORIES:Free Events in Rochester NY,Rochester Flea Markets,Vendor Markets Rochester NY
ATTACH;FMTTYPE=image/png:https://blackownedinrochester.com/wp-content/uploads/2024/07/Screen-Shot-2024-07-22-at-8.54.55-PM.png
ORGANIZER;CN="Community Organizer":MAILTO:blackownedinrochester+events@gmail.com
END:VEVENT
BEGIN:VEVENT
DTSTART;TZID=America/New_York:20260809T100000
DTEND;TZID=America/New_York:20260809T160000
DTSTAMP:20260423T135549
CREATED:20250326T040042Z
LAST-MODIFIED:20260421T193057Z
UID:10000874-1786269600-1786291200@blackownedinrochester.com
SUMMARY:The Lucky Flea - Vintage Market
DESCRIPTION:The Lucky Flea is an open-air vintage market hosted within The Grove (266 E Broad Street) located right in the heart of Downtown Rochester. The Flea is a space for local creatives\, collectors and vintage curators to gather and sell while connecting with their local customers every week. \nOur alternative market provides an accessible shopping experience that welcomes patrons to support sustainable efforts and small businesses. The diverse crew of vendors changes weekly\, creating a consistently new experience to discover.
URL:https://blackownedinrochester.com/event/the-lucky-flea-vintage-market/2026-08-09/
LOCATION:The Grove\, 266 E Broad St.\, Rochester\, 14604\, United States
CATEGORIES:Free Events in Rochester NY,Rochester Flea Markets,Vendor Markets Rochester NY
ATTACH;FMTTYPE=image/png:https://blackownedinrochester.com/wp-content/uploads/2024/07/Screen-Shot-2024-07-22-at-8.54.55-PM.png
ORGANIZER;CN="Community Organizer":MAILTO:blackownedinrochester+events@gmail.com
END:VEVENT
BEGIN:VEVENT
DTSTART;TZID=America/New_York:20260816T100000
DTEND;TZID=America/New_York:20260816T160000
DTSTAMP:20260423T135549
CREATED:20250326T040042Z
LAST-MODIFIED:20260421T193057Z
UID:10000875-1786874400-1786896000@blackownedinrochester.com
SUMMARY:The Lucky Flea - Vintage Market
DESCRIPTION:The Lucky Flea is an open-air vintage market hosted within The Grove (266 E Broad Street) located right in the heart of Downtown Rochester. The Flea is a space for local creatives\, collectors and vintage curators to gather and sell while connecting with their local customers every week. \nOur alternative market provides an accessible shopping experience that welcomes patrons to support sustainable efforts and small businesses. The diverse crew of vendors changes weekly\, creating a consistently new experience to discover.
URL:https://blackownedinrochester.com/event/the-lucky-flea-vintage-market/2026-08-16/
LOCATION:The Grove\, 266 E Broad St.\, Rochester\, 14604\, United States
CATEGORIES:Free Events in Rochester NY,Rochester Flea Markets,Vendor Markets Rochester NY
ATTACH;FMTTYPE=image/png:https://blackownedinrochester.com/wp-content/uploads/2024/07/Screen-Shot-2024-07-22-at-8.54.55-PM.png
ORGANIZER;CN="Community Organizer":MAILTO:blackownedinrochester+events@gmail.com
END:VEVENT
BEGIN:VEVENT
DTSTART;TZID=America/New_York:20260823T100000
DTEND;TZID=America/New_York:20260823T160000
DTSTAMP:20260423T135549
CREATED:20250326T040042Z
LAST-MODIFIED:20260421T193057Z
UID:10000876-1787479200-1787500800@blackownedinrochester.com
SUMMARY:The Lucky Flea - Vintage Market
DESCRIPTION:The Lucky Flea is an open-air vintage market hosted within The Grove (266 E Broad Street) located right in the heart of Downtown Rochester. The Flea is a space for local creatives\, collectors and vintage curators to gather and sell while connecting with their local customers every week. \nOur alternative market provides an accessible shopping experience that welcomes patrons to support sustainable efforts and small businesses. The diverse crew of vendors changes weekly\, creating a consistently new experience to discover.
URL:https://blackownedinrochester.com/event/the-lucky-flea-vintage-market/2026-08-23/
LOCATION:The Grove\, 266 E Broad St.\, Rochester\, 14604\, United States
CATEGORIES:Free Events in Rochester NY,Rochester Flea Markets,Vendor Markets Rochester NY
ATTACH;FMTTYPE=image/png:https://blackownedinrochester.com/wp-content/uploads/2024/07/Screen-Shot-2024-07-22-at-8.54.55-PM.png
ORGANIZER;CN="Community Organizer":MAILTO:blackownedinrochester+events@gmail.com
END:VEVENT
BEGIN:VEVENT
DTSTART;TZID=America/New_York:20260830T100000
DTEND;TZID=America/New_York:20260830T160000
DTSTAMP:20260423T135549
CREATED:20250326T040042Z
LAST-MODIFIED:20260421T193057Z
UID:10000877-1788084000-1788105600@blackownedinrochester.com
SUMMARY:The Lucky Flea - Vintage Market
DESCRIPTION:The Lucky Flea is an open-air vintage market hosted within The Grove (266 E Broad Street) located right in the heart of Downtown Rochester. The Flea is a space for local creatives\, collectors and vintage curators to gather and sell while connecting with their local customers every week. \nOur alternative market provides an accessible shopping experience that welcomes patrons to support sustainable efforts and small businesses. The diverse crew of vendors changes weekly\, creating a consistently new experience to discover.
URL:https://blackownedinrochester.com/event/the-lucky-flea-vintage-market/2026-08-30/
LOCATION:The Grove\, 266 E Broad St.\, Rochester\, 14604\, United States
CATEGORIES:Free Events in Rochester NY,Rochester Flea Markets,Vendor Markets Rochester NY
ATTACH;FMTTYPE=image/png:https://blackownedinrochester.com/wp-content/uploads/2024/07/Screen-Shot-2024-07-22-at-8.54.55-PM.png
ORGANIZER;CN="Community Organizer":MAILTO:blackownedinrochester+events@gmail.com
END:VEVENT
BEGIN:VEVENT
DTSTART;TZID=America/New_York:20260906T100000
DTEND;TZID=America/New_York:20260906T160000
DTSTAMP:20260423T135549
CREATED:20250326T040042Z
LAST-MODIFIED:20260421T193057Z
UID:10000878-1788688800-1788710400@blackownedinrochester.com
SUMMARY:The Lucky Flea - Vintage Market
DESCRIPTION:The Lucky Flea is an open-air vintage market hosted within The Grove (266 E Broad Street) located right in the heart of Downtown Rochester. The Flea is a space for local creatives\, collectors and vintage curators to gather and sell while connecting with their local customers every week. \nOur alternative market provides an accessible shopping experience that welcomes patrons to support sustainable efforts and small businesses. The diverse crew of vendors changes weekly\, creating a consistently new experience to discover.
URL:https://blackownedinrochester.com/event/the-lucky-flea-vintage-market/2026-09-06/
LOCATION:The Grove\, 266 E Broad St.\, Rochester\, 14604\, United States
CATEGORIES:Free Events in Rochester NY,Rochester Flea Markets,Vendor Markets Rochester NY
ATTACH;FMTTYPE=image/png:https://blackownedinrochester.com/wp-content/uploads/2024/07/Screen-Shot-2024-07-22-at-8.54.55-PM.png
ORGANIZER;CN="Community Organizer":MAILTO:blackownedinrochester+events@gmail.com
END:VEVENT
BEGIN:VEVENT
DTSTART;TZID=America/New_York:20260913T100000
DTEND;TZID=America/New_York:20260913T160000
DTSTAMP:20260423T135549
CREATED:20250326T040042Z
LAST-MODIFIED:20260421T193057Z
UID:10000879-1789293600-1789315200@blackownedinrochester.com
SUMMARY:The Lucky Flea - Vintage Market
DESCRIPTION:The Lucky Flea is an open-air vintage market hosted within The Grove (266 E Broad Street) located right in the heart of Downtown Rochester. The Flea is a space for local creatives\, collectors and vintage curators to gather and sell while connecting with their local customers every week. \nOur alternative market provides an accessible shopping experience that welcomes patrons to support sustainable efforts and small businesses. The diverse crew of vendors changes weekly\, creating a consistently new experience to discover.
URL:https://blackownedinrochester.com/event/the-lucky-flea-vintage-market/2026-09-13/
LOCATION:The Grove\, 266 E Broad St.\, Rochester\, 14604\, United States
CATEGORIES:Free Events in Rochester NY,Rochester Flea Markets,Vendor Markets Rochester NY
ATTACH;FMTTYPE=image/png:https://blackownedinrochester.com/wp-content/uploads/2024/07/Screen-Shot-2024-07-22-at-8.54.55-PM.png
ORGANIZER;CN="Community Organizer":MAILTO:blackownedinrochester+events@gmail.com
END:VEVENT
BEGIN:VEVENT
DTSTART;TZID=America/New_York:20260920T100000
DTEND;TZID=America/New_York:20260920T160000
DTSTAMP:20260423T135549
CREATED:20250326T040042Z
LAST-MODIFIED:20260421T193057Z
UID:10000880-1789898400-1789920000@blackownedinrochester.com
SUMMARY:The Lucky Flea - Vintage Market
DESCRIPTION:The Lucky Flea is an open-air vintage market hosted within The Grove (266 E Broad Street) located right in the heart of Downtown Rochester. The Flea is a space for local creatives\, collectors and vintage curators to gather and sell while connecting with their local customers every week. \nOur alternative market provides an accessible shopping experience that welcomes patrons to support sustainable efforts and small businesses. The diverse crew of vendors changes weekly\, creating a consistently new experience to discover.
URL:https://blackownedinrochester.com/event/the-lucky-flea-vintage-market/2026-09-20/
LOCATION:The Grove\, 266 E Broad St.\, Rochester\, 14604\, United States
CATEGORIES:Free Events in Rochester NY,Rochester Flea Markets,Vendor Markets Rochester NY
ATTACH;FMTTYPE=image/png:https://blackownedinrochester.com/wp-content/uploads/2024/07/Screen-Shot-2024-07-22-at-8.54.55-PM.png
ORGANIZER;CN="Community Organizer":MAILTO:blackownedinrochester+events@gmail.com
END:VEVENT
BEGIN:VEVENT
DTSTART;TZID=America/New_York:20260927T100000
DTEND;TZID=America/New_York:20260927T160000
DTSTAMP:20260423T135549
CREATED:20250326T040042Z
LAST-MODIFIED:20260421T193057Z
UID:10000881-1790503200-1790524800@blackownedinrochester.com
SUMMARY:The Lucky Flea - Vintage Market
DESCRIPTION:The Lucky Flea is an open-air vintage market hosted within The Grove (266 E Broad Street) located right in the heart of Downtown Rochester. The Flea is a space for local creatives\, collectors and vintage curators to gather and sell while connecting with their local customers every week. \nOur alternative market provides an accessible shopping experience that welcomes patrons to support sustainable efforts and small businesses. The diverse crew of vendors changes weekly\, creating a consistently new experience to discover.
URL:https://blackownedinrochester.com/event/the-lucky-flea-vintage-market/2026-09-27/
LOCATION:The Grove\, 266 E Broad St.\, Rochester\, 14604\, United States
CATEGORIES:Free Events in Rochester NY,Rochester Flea Markets,Vendor Markets Rochester NY
ATTACH;FMTTYPE=image/png:https://blackownedinrochester.com/wp-content/uploads/2024/07/Screen-Shot-2024-07-22-at-8.54.55-PM.png
ORGANIZER;CN="Community Organizer":MAILTO:blackownedinrochester+events@gmail.com
END:VEVENT
BEGIN:VEVENT
DTSTART;TZID=America/New_York:20261004T100000
DTEND;TZID=America/New_York:20261004T160000
DTSTAMP:20260423T135549
CREATED:20250326T040042Z
LAST-MODIFIED:20260421T193057Z
UID:10000882-1791108000-1791129600@blackownedinrochester.com
SUMMARY:The Lucky Flea - Vintage Market
DESCRIPTION:The Lucky Flea is an open-air vintage market hosted within The Grove (266 E Broad Street) located right in the heart of Downtown Rochester. The Flea is a space for local creatives\, collectors and vintage curators to gather and sell while connecting with their local customers every week. \nOur alternative market provides an accessible shopping experience that welcomes patrons to support sustainable efforts and small businesses. The diverse crew of vendors changes weekly\, creating a consistently new experience to discover.
URL:https://blackownedinrochester.com/event/the-lucky-flea-vintage-market/2026-10-04/
LOCATION:The Grove\, 266 E Broad St.\, Rochester\, 14604\, United States
CATEGORIES:Free Events in Rochester NY,Rochester Flea Markets,Vendor Markets Rochester NY
ATTACH;FMTTYPE=image/png:https://blackownedinrochester.com/wp-content/uploads/2024/07/Screen-Shot-2024-07-22-at-8.54.55-PM.png
ORGANIZER;CN="Community Organizer":MAILTO:blackownedinrochester+events@gmail.com
END:VEVENT
BEGIN:VEVENT
DTSTART;TZID=America/New_York:20261011T100000
DTEND;TZID=America/New_York:20261011T160000
DTSTAMP:20260423T135549
CREATED:20250326T040042Z
LAST-MODIFIED:20260421T193057Z
UID:10000883-1791712800-1791734400@blackownedinrochester.com
SUMMARY:The Lucky Flea - Vintage Market
DESCRIPTION:The Lucky Flea is an open-air vintage market hosted within The Grove (266 E Broad Street) located right in the heart of Downtown Rochester. The Flea is a space for local creatives\, collectors and vintage curators to gather and sell while connecting with their local customers every week. \nOur alternative market provides an accessible shopping experience that welcomes patrons to support sustainable efforts and small businesses. The diverse crew of vendors changes weekly\, creating a consistently new experience to discover.
URL:https://blackownedinrochester.com/event/the-lucky-flea-vintage-market/2026-10-11/
LOCATION:The Grove\, 266 E Broad St.\, Rochester\, 14604\, United States
CATEGORIES:Free Events in Rochester NY,Rochester Flea Markets,Vendor Markets Rochester NY
ATTACH;FMTTYPE=image/png:https://blackownedinrochester.com/wp-content/uploads/2024/07/Screen-Shot-2024-07-22-at-8.54.55-PM.png
ORGANIZER;CN="Community Organizer":MAILTO:blackownedinrochester+events@gmail.com
END:VEVENT
END:VCALENDAR