BEGIN:VCALENDAR
VERSION:2.0
PRODID:-//Black-Owned in Rochester - ECPv6.15.20//NONSGML v1.0//EN
CALSCALE:GREGORIAN
METHOD:PUBLISH
X-ORIGINAL-URL:https://blackownedinrochester.com
X-WR-CALDESC:Events for Black-Owned in Rochester
REFRESH-INTERVAL;VALUE=DURATION:PT1H
X-Robots-Tag:noindex
X-PUBLISHED-TTL:PT1H
BEGIN:VTIMEZONE
TZID:America/New_York
BEGIN:DAYLIGHT
TZOFFSETFROM:-0500
TZOFFSETTO:-0400
TZNAME:EDT
DTSTART:20250309T070000
END:DAYLIGHT
BEGIN:STANDARD
TZOFFSETFROM:-0400
TZOFFSETTO:-0500
TZNAME:EST
DTSTART:20251102T060000
END:STANDARD
BEGIN:DAYLIGHT
TZOFFSETFROM:-0500
TZOFFSETTO:-0400
TZNAME:EDT
DTSTART:20260308T070000
END:DAYLIGHT
BEGIN:STANDARD
TZOFFSETFROM:-0400
TZOFFSETTO:-0500
TZNAME:EST
DTSTART:20261101T060000
END:STANDARD
BEGIN:DAYLIGHT
TZOFFSETFROM:-0500
TZOFFSETTO:-0400
TZNAME:EDT
DTSTART:20270314T070000
END:DAYLIGHT
BEGIN:STANDARD
TZOFFSETFROM:-0400
TZOFFSETTO:-0500
TZNAME:EST
DTSTART:20271107T060000
END:STANDARD
END:VTIMEZONE
BEGIN:VEVENT
DTSTART;TZID=America/New_York:20260419T090000
DTEND;TZID=America/New_York:20260419T150000
DTSTAMP:20260423T154723
CREATED:20260306T050003Z
LAST-MODIFIED:20260306T225351Z
UID:10000721-1776589200-1776610800@blackownedinrochester.com
SUMMARY:The Great New York State Flea at the Public Market
DESCRIPTION:The City of Rochester Public Market offers dozens of garage sales with bargains on everything from furniture to clothing; collectibles to jewelry; artwork to trinkets… all in one location! From spring through the Fall\, stop by the Market every other Sunday to join us for the largest community garage sales and superfleas!
URL:https://blackownedinrochester.com/event/community-garage-sales-and-superfleas-city-of-rochester-public-market/2026-04-19/
LOCATION:The City of Rochester Public Market\, 280 N Union St\, Rochester\, NY\, 14609\, United States
CATEGORIES:Free Events in Rochester NY,Rochester Flea Markets
ATTACH;FMTTYPE=image/jpeg:https://blackownedinrochester.com/wp-content/uploads/2024/03/RPM-Garage-Sales-Web-Banner-2025-1.jpg
ORGANIZER;CN="Community Organizer":MAILTO:blackownedinrochester+events@gmail.com
END:VEVENT
END:VCALENDAR