BEGIN:VCALENDAR
VERSION:2.0
PRODID:-//Black-Owned in Rochester - ECPv6.15.20//NONSGML v1.0//EN
CALSCALE:GREGORIAN
METHOD:PUBLISH
X-WR-CALNAME:Black-Owned in Rochester
X-ORIGINAL-URL:https://blackownedinrochester.com
X-WR-CALDESC:Events for Black-Owned in Rochester
REFRESH-INTERVAL;VALUE=DURATION:PT1H
X-Robots-Tag:noindex
X-PUBLISHED-TTL:PT1H
BEGIN:VTIMEZONE
TZID:America/New_York
BEGIN:DAYLIGHT
TZOFFSETFROM:-0500
TZOFFSETTO:-0400
TZNAME:EDT
DTSTART:20250309T070000
END:DAYLIGHT
BEGIN:STANDARD
TZOFFSETFROM:-0400
TZOFFSETTO:-0500
TZNAME:EST
DTSTART:20251102T060000
END:STANDARD
BEGIN:DAYLIGHT
TZOFFSETFROM:-0500
TZOFFSETTO:-0400
TZNAME:EDT
DTSTART:20260308T070000
END:DAYLIGHT
BEGIN:STANDARD
TZOFFSETFROM:-0400
TZOFFSETTO:-0500
TZNAME:EST
DTSTART:20261101T060000
END:STANDARD
BEGIN:DAYLIGHT
TZOFFSETFROM:-0500
TZOFFSETTO:-0400
TZNAME:EDT
DTSTART:20270314T070000
END:DAYLIGHT
BEGIN:STANDARD
TZOFFSETFROM:-0400
TZOFFSETTO:-0500
TZNAME:EST
DTSTART:20271107T060000
END:STANDARD
END:VTIMEZONE
BEGIN:VEVENT
DTSTART;TZID=America/New_York:20260314T120000
DTEND;TZID=America/New_York:20260314T143000
DTSTAMP:20260423T152553
CREATED:20260306T205758Z
LAST-MODIFIED:20260306T205758Z
UID:10000717-1773489600-1773498600@blackownedinrochester.com
SUMMARY:Rochester\, NY St. Patrick's Day Parade
DESCRIPTION:The Rochester St. Patrick’s Day Parade is a cherished annual tradition that brings the community together in a lively celebration of Irish heritage\, unity\, and pride.  \nThe parade begins at 12:30 p.m. at the corner of East Ave. & Alexander St.\, proceeds on East to Main St.\, and continues down Main until Fitzhugh St. \nSince its founding in 1977\, the parade has grown into one of the city’s largest and most spirited parades\, filling the streets of downtown Rochester NY with vibrant floats\, marching bands\, dance groups\, and local organizations.
URL:https://blackownedinrochester.com/event/rochester-ny-st-patricks-day-parade/
LOCATION:Rochester\, NY\, Rochester\, NY\, United States
CATEGORIES:Free Events in Rochester NY,Live Music Rochester NY
ATTACH;FMTTYPE=image/jpeg:https://blackownedinrochester.com/wp-content/uploads/2026/03/031425-Painting-of-the-Green-06674.jpg
ORGANIZER;CN="Community Organizer":MAILTO:blackownedinrochester+events@gmail.com
END:VEVENT
END:VCALENDAR