BEGIN:VCALENDAR
VERSION:2.0
PRODID:-//Black-Owned in Rochester - ECPv6.15.20//NONSGML v1.0//EN
CALSCALE:GREGORIAN
METHOD:PUBLISH
X-WR-CALNAME:Black-Owned in Rochester
X-ORIGINAL-URL:https://blackownedinrochester.com
X-WR-CALDESC:Events for Black-Owned in Rochester
REFRESH-INTERVAL;VALUE=DURATION:PT1H
X-Robots-Tag:noindex
X-PUBLISHED-TTL:PT1H
BEGIN:VTIMEZONE
TZID:America/New_York
BEGIN:DAYLIGHT
TZOFFSETFROM:-0500
TZOFFSETTO:-0400
TZNAME:EDT
DTSTART:20250309T070000
END:DAYLIGHT
BEGIN:STANDARD
TZOFFSETFROM:-0400
TZOFFSETTO:-0500
TZNAME:EST
DTSTART:20251102T060000
END:STANDARD
BEGIN:DAYLIGHT
TZOFFSETFROM:-0500
TZOFFSETTO:-0400
TZNAME:EDT
DTSTART:20260308T070000
END:DAYLIGHT
BEGIN:STANDARD
TZOFFSETFROM:-0400
TZOFFSETTO:-0500
TZNAME:EST
DTSTART:20261101T060000
END:STANDARD
BEGIN:DAYLIGHT
TZOFFSETFROM:-0500
TZOFFSETTO:-0400
TZNAME:EDT
DTSTART:20270314T070000
END:DAYLIGHT
BEGIN:STANDARD
TZOFFSETFROM:-0400
TZOFFSETTO:-0500
TZNAME:EST
DTSTART:20271107T060000
END:STANDARD
END:VTIMEZONE
BEGIN:VEVENT
DTSTART;TZID=America/New_York:20260523T120000
DTEND;TZID=America/New_York:20260523T220000
DTSTAMP:20260423T135051
CREATED:20260408T180148Z
LAST-MODIFIED:20260408T192203Z
UID:10000822-1779537600-1779573600@blackownedinrochester.com
SUMMARY:Paddle & Pour Art & Music Festival
DESCRIPTION:Our first festival of the season each year\, founded in 2015. Enjoy beer and wine from upstate breweries and vineyards\, live music all day\, and browse the work of regional artists and artisans. Experience great food from local eateries and visit unique canalside shops. And be sure to catch the exciting competition of the Annual Pittsford Regatta. Admission is free; food and drink are available for purchase. Held the Saturday of Memorial Day weekend.
URL:https://blackownedinrochester.com/event/paddle-pour-art-music-festival/
LOCATION:Port of Pittsford\, North Main St\, Pittsford\, 14534\, United States
CATEGORIES:Festivals,Free Events in Rochester NY,Live Music Rochester NY
ATTACH;FMTTYPE=image/png:https://blackownedinrochester.com/wp-content/uploads/2026/04/Screenshot-2026-04-08-at-1.34.17-PM.png
ORGANIZER;CN="Community Organizer":MAILTO:blackownedinrochester+events@gmail.com
END:VEVENT
END:VCALENDAR