BEGIN:VCALENDAR
VERSION:2.0
PRODID:-//Black-Owned in Rochester - ECPv6.15.20//NONSGML v1.0//EN
CALSCALE:GREGORIAN
METHOD:PUBLISH
X-ORIGINAL-URL:https://blackownedinrochester.com
X-WR-CALDESC:Events for Black-Owned in Rochester
REFRESH-INTERVAL;VALUE=DURATION:PT1H
X-Robots-Tag:noindex
X-PUBLISHED-TTL:PT1H
BEGIN:VTIMEZONE
TZID:America/New_York
BEGIN:DAYLIGHT
TZOFFSETFROM:-0500
TZOFFSETTO:-0400
TZNAME:EDT
DTSTART:20250309T070000
END:DAYLIGHT
BEGIN:STANDARD
TZOFFSETFROM:-0400
TZOFFSETTO:-0500
TZNAME:EST
DTSTART:20251102T060000
END:STANDARD
BEGIN:DAYLIGHT
TZOFFSETFROM:-0500
TZOFFSETTO:-0400
TZNAME:EDT
DTSTART:20260308T070000
END:DAYLIGHT
BEGIN:STANDARD
TZOFFSETFROM:-0400
TZOFFSETTO:-0500
TZNAME:EST
DTSTART:20261101T060000
END:STANDARD
BEGIN:DAYLIGHT
TZOFFSETFROM:-0500
TZOFFSETTO:-0400
TZNAME:EDT
DTSTART:20270314T070000
END:DAYLIGHT
BEGIN:STANDARD
TZOFFSETFROM:-0400
TZOFFSETTO:-0500
TZNAME:EST
DTSTART:20271107T060000
END:STANDARD
END:VTIMEZONE
BEGIN:VEVENT
DTSTART;TZID=America/New_York:20260724T120000
DTEND;TZID=America/New_York:20260725T200000
DTSTAMP:20260423T152051
CREATED:20250201T164325Z
LAST-MODIFIED:20260408T192218Z
UID:10000144-1784894400-1785009600@blackownedinrochester.com
SUMMARY:2026 Black Culture Festival
DESCRIPTION:Join us for a vibrant celebration of Black Culture\, art\, music\, food and community at the Black Culture Festival 2026! Immerse yourself in a dynamic showcase of cultural richness\, featuring captivating performances\, mouthwatering cuisine\, and cultural exhibitions. \nThe Black Culture Festival is committed to presenting and acknowledging the wide-ranging beauty and accomplishments of Black individuals in the United States. Through a variety of captivating events and activities\, our primary goal is to educate\, motivate\, and commemorate the profound cultural heritage of Black people in America. \n12pm – 8pm on July 24th & 25th
URL:https://blackownedinrochester.com/event/black-culture-festival/
LOCATION:Parcel 5\, 285 E Main St\, Rochester\, NY\, 14604\, United States
CATEGORIES:Festivals,Free Events in Rochester NY
ORGANIZER;CN="Community Organizer":MAILTO:blackownedinrochester+events@gmail.com
END:VEVENT
BEGIN:VEVENT
DTSTART;TZID=America/New_York:20260730T170000
DTEND;TZID=America/New_York:20260801T220000
DTSTAMP:20260423T152051
CREATED:20250205T223548Z
LAST-MODIFIED:20260408T201225Z
UID:10000257-1785430800-1785621600@blackownedinrochester.com
SUMMARY:56th Annual Puerto Rican Festival
DESCRIPTION:The Puerto Rican Festival is excited to announce its relocation to the vibrant new venue at Parcel 5 in downtown Rochester\, New York. Join us for three exhilarating days of festivities from Thursday\, July 30th\, to Saturday\, August 1st. This dynamic celebration will feature live music\, authentic cuisine\, enriching cultural events\, and much more. \nABOUT THE FESTIVAL \nThe Puerto Rican Festival Inc. (PRFI) serves as a leading festival for educating and empowering Latinos while preserving our cultural heritage across generations and geographical boundaries. \n\n\n\n\nSource: https://pr-festival.com/
URL:https://blackownedinrochester.com/event/puerto-rican-festival/
LOCATION:Parcel 5\, 285 E Main St\, Rochester\, NY\, 14604\, United States
CATEGORIES:Festivals,Free Events in Rochester NY,Live Music Rochester NY
ORGANIZER;CN="Community Organizer":MAILTO:blackownedinrochester+events@gmail.com
END:VEVENT
BEGIN:VEVENT
DTSTART;TZID=America/New_York:20260823T100000
DTEND;TZID=America/New_York:20260823T170000
DTSTAMP:20260423T152051
CREATED:20260210T180948Z
LAST-MODIFIED:20260408T192213Z
UID:10000700-1787479200-1787504400@blackownedinrochester.com
SUMMARY:Rochester VegFest 2026
DESCRIPTION:VegFest 2026 will be hosted again at Parcel 5\non Sunday\, August 23\, 2026.\nPlease join us for our next annual festival celebration of healthy plant-based living!
URL:https://blackownedinrochester.com/event/rochester-vegfest/
LOCATION:Parcel 5\, 285 E Main St\, Rochester\, NY\, 14604\, United States
CATEGORIES:Festivals,Free Events in Rochester NY
ATTACH;FMTTYPE=image/jpeg:https://blackownedinrochester.com/wp-content/uploads/2026/02/Vegfest-Returns-2026-10-5-1.jpg
ORGANIZER;CN="Community Organizer":MAILTO:blackownedinrochester+events@gmail.com
END:VEVENT
END:VCALENDAR