BEGIN:VCALENDAR
VERSION:2.0
PRODID:-//Black-Owned in Rochester - ECPv6.15.20//NONSGML v1.0//EN
CALSCALE:GREGORIAN
METHOD:PUBLISH
X-WR-CALNAME:Black-Owned in Rochester
X-ORIGINAL-URL:https://blackownedinrochester.com
X-WR-CALDESC:Events for Black-Owned in Rochester
REFRESH-INTERVAL;VALUE=DURATION:PT1H
X-Robots-Tag:noindex
X-PUBLISHED-TTL:PT1H
BEGIN:VTIMEZONE
TZID:America/New_York
BEGIN:DAYLIGHT
TZOFFSETFROM:-0500
TZOFFSETTO:-0400
TZNAME:EDT
DTSTART:20250309T070000
END:DAYLIGHT
BEGIN:STANDARD
TZOFFSETFROM:-0400
TZOFFSETTO:-0500
TZNAME:EST
DTSTART:20251102T060000
END:STANDARD
BEGIN:DAYLIGHT
TZOFFSETFROM:-0500
TZOFFSETTO:-0400
TZNAME:EDT
DTSTART:20260308T070000
END:DAYLIGHT
BEGIN:STANDARD
TZOFFSETFROM:-0400
TZOFFSETTO:-0500
TZNAME:EST
DTSTART:20261101T060000
END:STANDARD
BEGIN:DAYLIGHT
TZOFFSETFROM:-0500
TZOFFSETTO:-0400
TZNAME:EDT
DTSTART:20270314T070000
END:DAYLIGHT
BEGIN:STANDARD
TZOFFSETFROM:-0400
TZOFFSETTO:-0500
TZNAME:EST
DTSTART:20271107T060000
END:STANDARD
END:VTIMEZONE
BEGIN:VEVENT
DTSTART;TZID=America/New_York:20260613T110000
DTEND;TZID=America/New_York:20260613T160000
DTSTAMP:20260423T134016
CREATED:20260420T192540Z
LAST-MODIFIED:20260420T192601Z
UID:10000860-1781348400-1781366400@blackownedinrochester.com
SUMMARY:4th Annual Northfield Common Creator Fest
DESCRIPTION:The 4th Annual Northfield Common Creators Fest takes place Saturday\, June 13th from 11AM–4PM\, right by the canal in Pittsford and just steps from Schoen Place. This outdoor festival brings together shopping\, food\, and interactive experiences in one walkable space.\nWhat you’ll find throughout the day:\n• Local artisans offering jewelry\, candles\, books\, home decor\, and goods for pets\n• Food trucks\n• Live music\n• Baked Goods\, Sweets & Gourmet Ice Pops\n• A mobile plant truck\n• Pet portraits\n• On-the-spot poetry\n• Tarot readings\nAll of the shops at Northfield Common will be open\, and we’re partnering with Notion and Neutral Ground Coffee to make the entire space feel connected and easy to explore.\nThis is a family-friendly event—kids and dogs are welcome. Whether you’re stopping by for a quick look or planning to spend the afternoon\, there’s plenty to check out.\nSpend some time by the canal\, support local makers\, and enjoy everything Northfield Common has to offer.
URL:https://blackownedinrochester.com/event/annual-northfield-common-creator-fest/
LOCATION:Northfield Common\, 37 Schoen Pl\, Pittsford\, NY\, 14534\, United States
CATEGORIES:Festivals,Free Events in Rochester NY,Live Music Rochester NY,Vendor Markets Rochester NY
ATTACH;FMTTYPE=image/jpeg:https://blackownedinrochester.com/wp-content/uploads/2026/04/662629957_1517011523763671_5030944409959761041_n.jpg
ORGANIZER;CN="Community Organizer":MAILTO:blackownedinrochester+events@gmail.com
END:VEVENT
END:VCALENDAR