BEGIN:VCALENDAR
VERSION:2.0
PRODID:-//Black-Owned in Rochester - ECPv6.15.20//NONSGML v1.0//EN
CALSCALE:GREGORIAN
METHOD:PUBLISH
X-ORIGINAL-URL:https://blackownedinrochester.com
X-WR-CALDESC:Events for Black-Owned in Rochester
REFRESH-INTERVAL;VALUE=DURATION:PT1H
X-Robots-Tag:noindex
X-PUBLISHED-TTL:PT1H
BEGIN:VTIMEZONE
TZID:America/New_York
BEGIN:DAYLIGHT
TZOFFSETFROM:-0500
TZOFFSETTO:-0400
TZNAME:EDT
DTSTART:20250309T070000
END:DAYLIGHT
BEGIN:STANDARD
TZOFFSETFROM:-0400
TZOFFSETTO:-0500
TZNAME:EST
DTSTART:20251102T060000
END:STANDARD
BEGIN:DAYLIGHT
TZOFFSETFROM:-0500
TZOFFSETTO:-0400
TZNAME:EDT
DTSTART:20260308T070000
END:DAYLIGHT
BEGIN:STANDARD
TZOFFSETFROM:-0400
TZOFFSETTO:-0500
TZNAME:EST
DTSTART:20261101T060000
END:STANDARD
BEGIN:DAYLIGHT
TZOFFSETFROM:-0500
TZOFFSETTO:-0400
TZNAME:EDT
DTSTART:20270314T070000
END:DAYLIGHT
BEGIN:STANDARD
TZOFFSETFROM:-0400
TZOFFSETTO:-0500
TZNAME:EST
DTSTART:20271107T060000
END:STANDARD
END:VTIMEZONE
BEGIN:VEVENT
DTSTART;TZID=America/New_York:20260412T100000
DTEND;TZID=America/New_York:20260412T160000
DTSTAMP:20260423T170005
CREATED:20260409T152346Z
LAST-MODIFIED:20260409T152346Z
UID:10000850-1775988000-1776009600@blackownedinrochester.com
SUMMARY:Down to Earth Market - RocOnly Events
DESCRIPTION:We’re bringing an Earth-inspired market to one of Rochester’s most iconic spaces!!\nRocOnly Events is partnering with Brown Hound Downtown Restaurant\, located within the Memorial Art Gallery\, and local artist\, Sad Scribbles to bring you the Down to Earth Market\, held inside the Memorial Art Gallery’s M&T ballroom.\nThis thoughtfully curated event brings together local vendors\, hands-on experiences\, and community-driven organizations for a day centered around sustainability and supporting local.\nBrowse a wide variety of businesses offering jewelry\, clothing\, plants\, and environmentally conscious goods\, including favorites like The Bird House and Abundance Food Co-op.\nThroughout the day\, guests can enjoy:\n🌱 A build-your-own seed bar\n🎨 Live painting with Praise the Sun Shop\n🖊 Flash tattoos\n📸 Photo opportunities\n🎟 A raffle benefiting Wild Wings\, Rochester’s beloved bird rehabilitation center\nPlus\, enjoy food and drinks from Brown Hound Downtown\nWhether you pop in or stay awhile\, it’s a great opportunity to support local businesses & makers and connect with the community.
URL:https://blackownedinrochester.com/event/down-to-earth-market-roconly-events/
LOCATION:Memorial Art Gallery\, 500 University Ave\, Rochester\, 14607\, United States
CATEGORIES:Free Events in Rochester NY,Vendor Markets Rochester NY
ATTACH;FMTTYPE=image/jpeg:https://blackownedinrochester.com/wp-content/uploads/2026/04/633654689_932802135997867_3452495436991762801_n.jpg
ORGANIZER;CN="Community Organizer":MAILTO:blackownedinrochester+events@gmail.com
END:VEVENT
BEGIN:VEVENT
DTSTART;TZID=America/New_York:20260213T180000
DTEND;TZID=America/New_York:20260213T200000
DTSTAMP:20260423T170005
CREATED:20260204T155927Z
LAST-MODIFIED:20260204T155927Z
UID:10000697-1771005600-1771012800@blackownedinrochester.com
SUMMARY:Galentine's Day–Memorial Art Gallery
DESCRIPTION:Join us for the best day of the year! Come celebrate yourself\, your friendships\, and the artwork of the Impressionists at MAG! \nWe will have vendors from female-owned businesses\, art creating\, music\, mingling\, mini art tours highlighting female artists in our collection at 6:30 and 7:00 pm\, light fare\, a cash bar\, and more. Join us and treat yourself to a night of art\, fun\, and friendship. \nVendors include: \n\n\n\n\nBurn Bright Books\nErin’s Frame of mind\nFiggy Studio & Shop\nFilipina Beauty\nHenna Rising\nLauren Rae Pottery\nLittle Blue Thistle\nMay & Birch\nJoLuxe Permanent Jewelry\nSecond Look Styling & Boutique\nTealightful Tea\nVictory Books \n\n\n(You can keep any needlepoint pillows with your face on it and the lead headline from a newspaper from the year you were born at home or you can bring them!)
URL:https://blackownedinrochester.com/event/galentines-day-memorial-art-gallery-2/
LOCATION:Memorial Art Gallery\, 500 University Ave\, Rochester\, 14607\, United States
CATEGORIES:Free Events in Rochester NY
ATTACH;FMTTYPE=image/jpeg:https://blackownedinrochester.com/wp-content/uploads/2026/02/54328023355_a3002bc9fa_o-1.jpg
ORGANIZER;CN="Community Organizer":MAILTO:blackownedinrochester+events@gmail.com
END:VEVENT
END:VCALENDAR