BEGIN:VCALENDAR
VERSION:2.0
PRODID:-//Black-Owned in Rochester - ECPv6.15.20//NONSGML v1.0//EN
CALSCALE:GREGORIAN
METHOD:PUBLISH
X-WR-CALNAME:Black-Owned in Rochester
X-ORIGINAL-URL:https://blackownedinrochester.com
X-WR-CALDESC:Events for Black-Owned in Rochester
REFRESH-INTERVAL;VALUE=DURATION:PT1H
X-Robots-Tag:noindex
X-PUBLISHED-TTL:PT1H
BEGIN:VTIMEZONE
TZID:America/New_York
BEGIN:DAYLIGHT
TZOFFSETFROM:-0500
TZOFFSETTO:-0400
TZNAME:EDT
DTSTART:20250309T070000
END:DAYLIGHT
BEGIN:STANDARD
TZOFFSETFROM:-0400
TZOFFSETTO:-0500
TZNAME:EST
DTSTART:20251102T060000
END:STANDARD
BEGIN:DAYLIGHT
TZOFFSETFROM:-0500
TZOFFSETTO:-0400
TZNAME:EDT
DTSTART:20260308T070000
END:DAYLIGHT
BEGIN:STANDARD
TZOFFSETFROM:-0400
TZOFFSETTO:-0500
TZNAME:EST
DTSTART:20261101T060000
END:STANDARD
BEGIN:DAYLIGHT
TZOFFSETFROM:-0500
TZOFFSETTO:-0400
TZNAME:EDT
DTSTART:20270314T070000
END:DAYLIGHT
BEGIN:STANDARD
TZOFFSETFROM:-0400
TZOFFSETTO:-0500
TZNAME:EST
DTSTART:20271107T060000
END:STANDARD
END:VTIMEZONE
BEGIN:VEVENT
DTSTART;TZID=America/New_York:20260808T100000
DTEND;TZID=America/New_York:20260808T170000
DTSTAMP:20260423T135547
CREATED:20250114T175240Z
LAST-MODIFIED:20260408T192219Z
UID:10000797-1786183200-1786208400@blackownedinrochester.com
SUMMARY:The Brockport Arts Festival - Village of Brockport
DESCRIPTION:The Brockport Arts Festival is back and celebrating its 30th year on August 9 and 10\, 2025! The Village of Brockport and the Brockport Integrated Service Club Organization (BISCO) are pleased to host the festival and is registering artists starting early 2025! Featuring over 200 artists and crafters\, delectable festival food\, and talented musicians and entertainment\, the Brockport Arts Festival has been a staple on the Western New York festival scene for over a quarter of a century. We are so pleased to continue offering traditional favorite features and to shine the light on our amazing community.
URL:https://blackownedinrochester.com/event/the-brockport-arts-festival-village-of-brockport/2026-08-08/
LOCATION:Brockport\, 127 Main St S.\, Brockport\, NY\, 14420\, United States
CATEGORIES:Festivals,Free Events in Rochester NY
ORGANIZER;CN="Community Organizer":MAILTO:blackownedinrochester+events@gmail.com
END:VEVENT
BEGIN:VEVENT
DTSTART;TZID=America/New_York:20260809T100000
DTEND;TZID=America/New_York:20260809T170000
DTSTAMP:20260423T135547
CREATED:20250114T175240Z
LAST-MODIFIED:20260408T192219Z
UID:10000798-1786269600-1786294800@blackownedinrochester.com
SUMMARY:The Brockport Arts Festival - Village of Brockport
DESCRIPTION:The Brockport Arts Festival is back and celebrating its 30th year on August 9 and 10\, 2025! The Village of Brockport and the Brockport Integrated Service Club Organization (BISCO) are pleased to host the festival and is registering artists starting early 2025! Featuring over 200 artists and crafters\, delectable festival food\, and talented musicians and entertainment\, the Brockport Arts Festival has been a staple on the Western New York festival scene for over a quarter of a century. We are so pleased to continue offering traditional favorite features and to shine the light on our amazing community.
URL:https://blackownedinrochester.com/event/the-brockport-arts-festival-village-of-brockport/2026-08-09/
LOCATION:Brockport\, 127 Main St S.\, Brockport\, NY\, 14420\, United States
CATEGORIES:Festivals,Free Events in Rochester NY
ORGANIZER;CN="Community Organizer":MAILTO:blackownedinrochester+events@gmail.com
END:VEVENT
END:VCALENDAR