BEGIN:VCALENDAR
VERSION:2.0
PRODID:-//Black-Owned in Rochester - ECPv6.15.20//NONSGML v1.0//EN
CALSCALE:GREGORIAN
METHOD:PUBLISH
X-ORIGINAL-URL:https://blackownedinrochester.com
X-WR-CALDESC:Events for Black-Owned in Rochester
REFRESH-INTERVAL;VALUE=DURATION:PT1H
X-Robots-Tag:noindex
X-PUBLISHED-TTL:PT1H
BEGIN:VTIMEZONE
TZID:America/New_York
BEGIN:DAYLIGHT
TZOFFSETFROM:-0500
TZOFFSETTO:-0400
TZNAME:EDT
DTSTART:20250309T070000
END:DAYLIGHT
BEGIN:STANDARD
TZOFFSETFROM:-0400
TZOFFSETTO:-0500
TZNAME:EST
DTSTART:20251102T060000
END:STANDARD
BEGIN:DAYLIGHT
TZOFFSETFROM:-0500
TZOFFSETTO:-0400
TZNAME:EDT
DTSTART:20260308T070000
END:DAYLIGHT
BEGIN:STANDARD
TZOFFSETFROM:-0400
TZOFFSETTO:-0500
TZNAME:EST
DTSTART:20261101T060000
END:STANDARD
BEGIN:DAYLIGHT
TZOFFSETFROM:-0500
TZOFFSETTO:-0400
TZNAME:EDT
DTSTART:20270314T070000
END:DAYLIGHT
BEGIN:STANDARD
TZOFFSETFROM:-0400
TZOFFSETTO:-0500
TZNAME:EST
DTSTART:20271107T060000
END:STANDARD
END:VTIMEZONE
BEGIN:VEVENT
DTSTART;TZID=America/New_York:20260425T120000
DTEND;TZID=America/New_York:20260425T163000
DTSTAMP:20260423T152220
CREATED:20260409T161039Z
LAST-MODIFIED:20260409T161117Z
UID:10000852-1777118400-1777134600@blackownedinrochester.com
SUMMARY:Quest Fest - Game\, Shop\, Escape at ARTISANworks - RocOnly Events
DESCRIPTION:Step into another realm at Quest Fest—a fantasy-forward celebration of all things magical\, mythical\, and immersive. \nWander the Vendor Hall\, filled with sci-fi and medieval art\, geeky gear\, wire-wrapped elf ears\, leather wearables\, tabletop gaming accessories\, chainmail\, potions\, handcrafted crowns\, dragon eggs\, and renaissance-inspired wares. \nMeet local fantasy authors\, get inked with themed flash tattoos\, and fuel up at the cash bar with bites from Madeline’s Catering while you explore all of ARTISANworks.\n🛡️ Cosplay Costume Contest\nIf dressing the part is your thing\, come ready — prizes will be awarded throughout the day for standout looks. Whether you arrive as a battle-ready warrior\, forest guardian\, rogue\, mage\, or something entirely your own\, your effort will not go unnoticed. \n\n\n\n\n⚔️ LIVE Gaming Campaigns Are Coming Soon\n3-hour Dungeons & Dragons campaign tickets will be released soon—and they include admission to Quest Fest plus full access to ARTISANworks. \n\n\nImportant: If you’re hoping to join a live campaign\, do not purchase general admission in advance. Campaign tickets act as your entry into the event.\n🎟️ Admission tickets are available now for guests planning to shop\, browse\, and take in the atmosphere.\nGather your party\, plan your costumes\, and prepare for an afternoon where imagination takes the lead!
URL:https://blackownedinrochester.com/event/quest-fest-game-shop-escape-at-artisanworks-roconly-events/
LOCATION:ARTISANworks\, 565 Blossom Rd\, Rochester\, NY\, 14610\, United States
CATEGORIES:Festivals,Vendor Markets Rochester NY
ATTACH;FMTTYPE=image/jpeg:https://blackownedinrochester.com/wp-content/uploads/2026/04/628595377_929638099647604_6388354214475254017_n.jpg
ORGANIZER;CN="Community Organizer":MAILTO:blackownedinrochester+events@gmail.com
END:VEVENT
BEGIN:VEVENT
DTSTART;TZID=America/New_York:20260426T130000
DTEND;TZID=America/New_York:20260426T150000
DTSTAMP:20260423T152220
CREATED:20260401T164509Z
LAST-MODIFIED:20260401T164509Z
UID:10000774-1777208400-1777215600@blackownedinrochester.com
SUMMARY:50+ Speed Friending with Little Button Craft @ ARTISANworks
DESCRIPTION:Making friends as an adult—especially once you’re over 50—can be surprisingly difficult. That’s where Speed Friending comes in! This event at ARTISANworks is designed to make meeting new people easier in a relaxed\, low-pressure environment.\nAnd no\, this isn’t speed dating—it’s speed friending.\nParticipants will rotate through a series of guided conversations at small tables. To help break the ice\, everyone will receive a coloring sheet to work on during the event\, which helps take some of the pressure off those first introductions. The event includes three rounds of conversation with two prompts per round:\nRound 1: 5 minutes per question\nRound 2: 10 minutes per question\nRound 3: 15 minutes per question\nBetween rounds\, guests will swap seats when possible so you’ll have the opportunity to talk with several different people throughout the afternoon. You’ll also receive a contact card where you can share your information (phone number\, Instagram\, etc.) along with what you’re open to—friendship\, casual connection\, or something more. This way\, you can exchange details comfortably without the awkward moment of someone suddenly handing you their phone.\nWhether you’re new to the area\, looking to expand your social circle\, or simply open to meeting new people\, Speed Friending offers a fun and welcoming way to connect.
URL:https://blackownedinrochester.com/event/50-speed-friending-with-little-button-craft-artisanworks/
LOCATION:ARTISANworks\, 565 Blossom Rd\, Rochester\, NY\, 14610\, United States
ATTACH;FMTTYPE=image/jpeg:https://blackownedinrochester.com/wp-content/uploads/2026/04/650451102_1519463703513120_5338946546205721835_n.jpg
ORGANIZER;CN="Community Organizer":MAILTO:blackownedinrochester+events@gmail.com
END:VEVENT
BEGIN:VEVENT
DTSTART;TZID=America/New_York:20260429T180000
DTEND;TZID=America/New_York:20260429T200000
DTSTAMP:20260423T152220
CREATED:20260420T165356Z
LAST-MODIFIED:20260420T165356Z
UID:10000854-1777485600-1777492800@blackownedinrochester.com
SUMMARY:joiFUL Mother's Day Candle Making Class - ARTISANworks
DESCRIPTION:🕯️ Mother’s Day Candle Class – Vintage Teacup Experience 🕯️ \nCelebrate Mother’s Day with a charming and creative experience at ARTISANworks! \nJoin joiFUL for a hands-on candle-making class where you’ll craft a beautifully scented soy candle inside a vintage teacup and saucer—perfect as a heartfelt gift or a special keepsake for yourself. \n\n\n\n\nNo experience needed—just come ready to relax\, create\, and enjoy a cozy\, inspiring atmosphere. \n\n\n✨ What’s Included:\n• All candle-making materials\n• Vintage teacup & saucer\n• Step-by-step instruction\n• Light snacks \n📅 Date: Wednesday\, April 29\n⏰ Time: 6:00 – 8:00 PM\n📍 Location: ARTISANworks – 565 Blossom Rd\, Rochester\n🎟️ Tickets: $45 per person \n\n\n\n\nCome create a bit of JOI with us and make something truly special this Mother’s Day 💐
URL:https://blackownedinrochester.com/event/joiful-mothers-day-candle-making-class-artisanworks/
LOCATION:ARTISANworks\, 565 Blossom Rd\, Rochester\, NY\, 14610\, United States
ATTACH;FMTTYPE=image/jpeg:https://blackownedinrochester.com/wp-content/uploads/2026/04/663153239_1543752047750952_6556377389284103699_n.jpg
ORGANIZER;CN="Community Organizer":MAILTO:blackownedinrochester+events@gmail.com
END:VEVENT
BEGIN:VEVENT
DTSTART;TZID=America/New_York:20260516T190000
DTEND;TZID=America/New_York:20260516T203000
DTSTAMP:20260423T152220
CREATED:20260423T102912Z
LAST-MODIFIED:20260423T102912Z
UID:10000884-1778958000-1778963400@blackownedinrochester.com
SUMMARY:Everything's Coming up Rosé: Wine Tasting Night - ARTISANworks
DESCRIPTION:Known for their light\, highly acidic flavor profile\, rosés are made from red grapes\, typically in the regions of France\, Spain and California. Taking mainstream popularity in the 2010’s\, you can’t deny the delight of sipping a glass of cold rosé with friends! \nPlease join us to explore and taste rosés from around the world\, discussing both the winemaking techniques and the various grapes used to produce this style of wine. This is the perfect event to ring in warmer weather paired with crisp\, delicious drinks!
URL:https://blackownedinrochester.com/event/everythings-coming-up-rose-wine-tasting-night-artisanworks/
LOCATION:ARTISANworks\, 565 Blossom Rd\, Rochester\, NY\, 14610\, United States
ATTACH;FMTTYPE=image/jpeg:https://blackownedinrochester.com/wp-content/uploads/2026/04/669713553_1548888747237282_320072129822957569_n.jpg
ORGANIZER;CN="Community Organizer":MAILTO:blackownedinrochester+events@gmail.com
END:VEVENT
BEGIN:VEVENT
DTSTART;TZID=America/New_York:20260521T183000
DTEND;TZID=America/New_York:20260521T200000
DTSTAMP:20260423T152220
CREATED:20260423T110504Z
LAST-MODIFIED:20260423T110504Z
UID:10000885-1779388200-1779393600@blackownedinrochester.com
SUMMARY:Wood Flower Book Vase Class – ARTISANworks
DESCRIPTION:📚 Wood Flower Book Vase Workshop – Create Your Own Geek Chic Arrangement 🌸 \nJoin us for a unique and creative workshop where you’ll transform a hardcover book into a stunning floral vase! \nLed by Geek Chic Floral Boutique\, this hands-on experience lets you design a one-of-a-kind piece using beautifully dyed wood flowers in a wide range of colors. \n\n\n\n\nPersonalize your arrangement to match your style—whether you’re inspired by your book’s theme or creating something completely original\, your final piece will be both meaningful and eye-catching. \n\n\n✨ What’s Included:\n• A wide variety of dyed wood flowers\n• All crafting tools and supplies\n• Step-by-step instruction \n📖 What to Bring:\n• One hardcover book (recommended at least 8” tall) Tip: Thrift stores and secondhand shops are great places to find the perfect book! \n\n\n\n\n📅 Date: May 21\n⏰ Time: 6:30 PM – 8:00 PM\n📍 Location: ARTISANworks – 565 Blossom Rd\, Rochester\, NY\n🎟️ Tickets: $60 per person \nAll other materials are provided—just bring your book and get ready to create something truly special!
URL:https://blackownedinrochester.com/event/wood-flower-book-vase-class-artisanworks/
LOCATION:ARTISANworks\, 565 Blossom Rd\, Rochester\, NY\, 14610\, United States
ATTACH;FMTTYPE=image/jpeg:https://blackownedinrochester.com/wp-content/uploads/2026/04/660303775_1540304931428997_8252400879854757727_n.jpg
ORGANIZER;CN="Community Organizer":MAILTO:blackownedinrochester+events@gmail.com
END:VEVENT
BEGIN:VEVENT
DTSTART;TZID=America/New_York:20260522T163000
DTEND;TZID=America/New_York:20260522T203000
DTSTAMP:20260423T152220
CREATED:20260420T191514Z
LAST-MODIFIED:20260420T191514Z
UID:10000859-1779467400-1779481800@blackownedinrochester.com
SUMMARY:Mystic Market at ARTISANworks
DESCRIPTION:🔮 Mystic Market at ARTISANworks 🌙 \nStep into an enchanting evening at our Mystic Market\, returning to the Bourbon Street Event Space at ARTISANworks! \nExplore a curated collection of mystical experiences and magical finds. Connect with an expert group of psychics and tarot readers\, and discover unique vendors offering crystals\, artwork\, candles\, jewelry\, oddities\, and all things witchy. \n\n\n\n\n✨ Whether you’re looking for insight\, energy alignment\, or just a fun and immersive night out—this is the place to be. \n\n\n🗓 Date: Friday\, May 22\n⏰ Time: 4:30 PM – 8:30 PM\n📍 Location: ARTISANworks – Bourbon Street Event Space\n🎟 Entry: $5 per person\n🍹 Cash bar available \nCome wander\, explore\, and let the magic find you 🔮✨
URL:https://blackownedinrochester.com/event/mystic-market-at-artisanworks/
LOCATION:ARTISANworks\, 565 Blossom Rd\, Rochester\, NY\, 14610\, United States
CATEGORIES:Vendor Markets Rochester NY
ATTACH;FMTTYPE=image/jpeg:https://blackownedinrochester.com/wp-content/uploads/2026/04/659754563_971707018774045_2097339112619332858_n.jpg
ORGANIZER;CN="Community Organizer":MAILTO:blackownedinrochester+events@gmail.com
END:VEVENT
END:VCALENDAR