BEGIN:VCALENDAR
VERSION:2.0
PRODID:-//Black-Owned in Rochester - ECPv6.15.20//NONSGML v1.0//EN
CALSCALE:GREGORIAN
METHOD:PUBLISH
X-ORIGINAL-URL:https://blackownedinrochester.com
X-WR-CALDESC:Events for Black-Owned in Rochester
REFRESH-INTERVAL;VALUE=DURATION:PT1H
X-Robots-Tag:noindex
X-PUBLISHED-TTL:PT1H
BEGIN:VTIMEZONE
TZID:America/New_York
BEGIN:DAYLIGHT
TZOFFSETFROM:-0500
TZOFFSETTO:-0400
TZNAME:EDT
DTSTART:20250309T070000
END:DAYLIGHT
BEGIN:STANDARD
TZOFFSETFROM:-0400
TZOFFSETTO:-0500
TZNAME:EST
DTSTART:20251102T060000
END:STANDARD
BEGIN:DAYLIGHT
TZOFFSETFROM:-0500
TZOFFSETTO:-0400
TZNAME:EDT
DTSTART:20260308T070000
END:DAYLIGHT
BEGIN:STANDARD
TZOFFSETFROM:-0400
TZOFFSETTO:-0500
TZNAME:EST
DTSTART:20261101T060000
END:STANDARD
BEGIN:DAYLIGHT
TZOFFSETFROM:-0500
TZOFFSETTO:-0400
TZNAME:EDT
DTSTART:20270314T070000
END:DAYLIGHT
BEGIN:STANDARD
TZOFFSETFROM:-0400
TZOFFSETTO:-0500
TZNAME:EST
DTSTART:20271107T060000
END:STANDARD
END:VTIMEZONE
BEGIN:VEVENT
DTSTART;TZID=America/New_York:20260429T180000
DTEND;TZID=America/New_York:20260429T200000
DTSTAMP:20260423T135149
CREATED:20260420T165356Z
LAST-MODIFIED:20260420T165356Z
UID:10000854-1777485600-1777492800@blackownedinrochester.com
SUMMARY:joiFUL Mother's Day Candle Making Class - ARTISANworks
DESCRIPTION:🕯️ Mother’s Day Candle Class – Vintage Teacup Experience 🕯️ \nCelebrate Mother’s Day with a charming and creative experience at ARTISANworks! \nJoin joiFUL for a hands-on candle-making class where you’ll craft a beautifully scented soy candle inside a vintage teacup and saucer—perfect as a heartfelt gift or a special keepsake for yourself. \nNo experience needed—just come ready to relax\, create\, and enjoy a cozy\, inspiring atmosphere. \n✨ What’s Included:\n• All candle-making materials\n• Vintage teacup & saucer\n• Step-by-step instruction\n• Light snacks \n📅 Date: Wednesday\, April 29\n⏰ Time: 6:00 – 8:00 PM\n📍 Location: ARTISANworks – 565 Blossom Rd\, Rochester\n🎟️ Tickets: $45 per person \nCome create a bit of JOI with us and make something truly special this Mother’s Day 💐
URL:https://blackownedinrochester.com/event/joiful-mothers-day-candle-making-class-artisanworks/
LOCATION:ARTISANworks\, 565 Blossom Rd\, Rochester\, NY\, 14610\, United States
ATTACH;FMTTYPE=image/jpeg:https://blackownedinrochester.com/wp-content/uploads/2026/04/663153239_1543752047750952_6556377389284103699_n.jpg
ORGANIZER;CN="Community Organizer":MAILTO:blackownedinrochester+events@gmail.com
END:VEVENT
BEGIN:VEVENT
DTSTART;TZID=America/New_York:20260502T073000
DTEND;TZID=America/New_York:20260502T113000
DTSTAMP:20260423T135149
CREATED:20250306T180949Z
LAST-MODIFIED:20260408T221716Z
UID:10000777-1777707000-1777721400@blackownedinrochester.com
SUMMARY:Free Breast Cancer Screenings for the uninsured - FLX Cancer Services Program
DESCRIPTION:Breast Cancer Screening \nBreast cancer screening includes self-breast exam\, clinical breast exam\, and mammogram. The most current guidelines from the U.S. Preventative Services Task Force suggest women ages 50 to 74 years old should have a screening mammogram every two years. Women ages 40–49 years old are encouraged to talk to their healthcare providers about when and how often they should have screening mammograms. A woman who has a high risk for breast cancer\, as determined by a health care provider\, may need to begin screening earlier. \nThe Cancer Services Program of the Finger Lakes Region covers annual clinical breast exams\, mammograms\, pelvic exams and pap tests for uninsured women 40 and older who live in Monroe\, Livingston\, Ontario\, Yates\, Wayne and Seneca Counties. Mammograms are sometimes covered for younger women based on family or personal history. Men identified with symptoms which may indicate breast cancer can receive diagnosis through the program. \nFree Screening Events\nmobile mammography van If you have a family history\, or have concerns about your risk\, we encourage you to take advantage of these free screening events. Research has shown that African American women are 42 percent more likely to die from breast cancer than white women. African American women are more likely to present with a cancer diagnosis in ages younger than 40 and with more advanced stage breast cancer.
URL:https://blackownedinrochester.com/event/free-breast-cancer-screenings-for-the-uninsured-flx-cancer-services-program/2026-05-02/
LOCATION:Elizabeth Wende Breast Care\, LLC\, 170 Sawgrass Dr\, Rochester\, NY\, 14620\, United States
CATEGORIES:Free Events in Rochester NY
ATTACH;FMTTYPE=image/jpeg:https://blackownedinrochester.com/wp-content/uploads/2025/03/breast-large-square_noGetScreened.jpg
ORGANIZER;CN="Community Organizer":MAILTO:blackownedinrochester+events@gmail.com
END:VEVENT
BEGIN:VEVENT
DTSTART;TZID=America/New_York:20260503T103000
DTEND;TZID=America/New_York:20260503T170000
DTSTAMP:20260423T135149
CREATED:20260420T202257Z
LAST-MODIFIED:20260420T202257Z
UID:10000864-1777804200-1777827600@blackownedinrochester.com
SUMMARY:Drag Me To Brunch: ICONS - OFC Theatre Center
DESCRIPTION:OFC Creations Present\nDrag Me To Brunch \nPerformance on Sunday\, May 3. Doors open at 10:30am\, brunch served at 11am\, show starts at 12pm at OFC’s The Old Farm Café (3450 Winton Place\, next door to the theatre)\nDrag Me to Brunch: ICONS is serving legendary realness at OFC Creations on Sunday\, May 3…and this brunch is all about honoring the women who defined music\, style\, and unapologetic power.\n​\nStarring the incomparable Mrs. Kasha Davis\, reigning Miss Gay Rochester Carmen Adore\, and high-energy fan favorite Eva Flow\, this dazzling trio will bring the house down with performances inspired by our ultimate ICONS—Cher\, Madonna\, Whitney\, Bette\, Barbra\, Beyoncé\, Tina\, and more.\nExpect powerhouse performances with fierce choreography\, camp\, glamour\, and the kind of larger-than-life performances that turn brunch into a full-blown celebration. This is Drag Me to Brunch turned up to eleven: bold\, joyful\, nostalgic\, and fabulously over the top.\n​\nCome hungry\, come ready to sing along\, and come prepared to worship at the altar of the ICONS.
URL:https://blackownedinrochester.com/event/drag-me-to-brunch-icons-ofc-theatre-center/
LOCATION:The Old Farm Cafe & Dining Experience\, 3450 Winton Pl Suite 6\, Rochester\, NY\, 14623\, United States
ATTACH;FMTTYPE=image/jpeg:https://blackownedinrochester.com/wp-content/uploads/2026/04/627010170_1505832448011860_1477364248099143608_n.jpg
ORGANIZER;CN="Community Organizer":MAILTO:blackownedinrochester+events@gmail.com
END:VEVENT
BEGIN:VEVENT
DTSTART;VALUE=DATE:20260508
DTEND;VALUE=DATE:20260519
DTSTAMP:20260423T135149
CREATED:20251117T050010Z
LAST-MODIFIED:20260408T221641Z
UID:10000103-1778209200-1779073199@blackownedinrochester.com
SUMMARY:Lilac Festival - Highland Park
DESCRIPTION:ROCHESTER LILAC FESTIVAL CALENDAR OF EVENTS \nFriday\, May 8 – Sunday\, May 17 \n10:30 AM – 8:30 PM daily \n\n\nFestival Schedule \n\n\nGeneral Info\nFestival Map\nParking & Shuttle \nEvery Day Experiences \nStroll through the 1\,500 fragrant lilac bushes in Highland Park \nListen to free music all day long at KeyBank Center Stage \nTaste some treats from our more than 50 food vendors \nVisit our more than 50 exhibitors \nLet the kids play at the Kids’ Zone \nNEW: Dedicated sensory space for those impacted by Autism and/or other disabilities. Partners with AutismUp a non-profit here in Rochester! \nHere is the order of events for the Lilac Festival at Highland Park\, Rochester\, NY \n🌸 Opening Day Poster Reveal\nWhen: Friday\, May 8\nWhere: Highland Park\, Rochester\nWhat: Kick off the festival with the highly anticipated unveiling of this year’s official poster artwork! Be among the first to witness this cherished tradition celebrating local creativity and artistry.\nLink: More details → \n🌺 Lilac Walking Tours\nWhen: May 8-17 (Daily)\nWhere: Highland Park\, Rochester\nWhat: Immerse yourself in beauty and history with expert-guided tours through the park’s stunning lilac collection featuring over 500 varieties! Learn fascinating stories while surrounded by fragrant blooms.\nLink: More details → \n🎨 Art in the Park & Small Business Circle\nWhen: Saturday\, May 9\, 10:00 AM – 6:00 PM\nWhere: Highland Park\, Rochester (Reservoir Ave)\nWhat: Stroll through this vibrant showcase of local artisans and small businesses just up the hill from the main festival grounds! Discover unique handcrafted treasures and support local creators.\nLink: More details → \n🎭 Lilac Parade\nWhen: Saturday\, May 9\, 10:30 AM – 12:30 PM\nWhere: Highland Park\, Rochester\nWhat: Experience the magic as over 2\,000 participants welcome spring in style! Cheer on marching bands\, dance troupes\, beloved characters\, and specialty vehicles parading through the blooming lilacs.\nLink: More details → \n🎨 Art in the Park & Small Business Circle\nWhen: Sunday\, May 10\, 10:00 AM – 5:00 PM\nWhere: Highland Park\, Rochester (Reservoir Ave)\nWhat: Continue exploring this weekend showcase of amazing local artisans and entrepreneurs! Find that perfect piece while enjoying the festival atmosphere.\nLink: More details → \n🥕 Lilac Local Farmers Market\nWhen: Monday\, May 11\, 10:30 AM – 4:00 PM\nWhere: Highland Park\, Rochester\nWhat: Back for its second year and bigger than ever! Celebrate local agriculture with fresh produce\, artisanal goods\, and farm-fresh delights in this vibrant market setting.\nLink: More details → \n🥕 Lilac Local Farmers Market\nWhen: Tuesday\, May 12\, 10:30 AM – 4:00 PM\nWhere: Highland Park\, Rochester\nWhat: Another chance to experience this blooming market celebrating our local food community! Stock up on seasonal favorites and artisanal treasures.\nLink: More details → \n👵 Seniors’ Day\nWhen: Wednesday\, May 13\nWhere: Highland Park\, Rochester\nWhat: A special celebration honoring our cherished community members who’ve “bloomed beautifully through the years!” Enjoy festivities designed especially for our valued seniors.\nLink: More details → \n🥕 Lilac Local Farmers Market\nWhen: Wednesday\, May 13\, 10:30 AM – 4:00 PM\nWhere: Highland Park\, Rochester\nWhat: More farm-fresh goodness awaits at this expanding local market! Experience the best of Rochester’s agricultural community amid the beautiful festival setting.\nLink: More details → \n🎨 Art in the Park & Small Business Circle\nWhen: Saturday\, May 16\, 10:00 AM – 6:00 PM\nWhere: Highland Park\, Rochester (Reservoir Ave)\nWhat: Final weekend to discover incredible local art and small business treasures! Don’t miss this vibrant showcase of creativity and entrepreneurship.\nLink: More details → \n🍽️ The Lilac Table\nWhen: Saturday\, May 16\, 1:30 PM – 4:30 PM\nWhere: Highland Park\, Rochester\nWhat: An exclusive tasting experience featuring Rochester’s finest flavors! Enjoy curated bites from top local chefs paired with artisanal cocktails in this premium culinary event.\nCost: $109\nLink: More details → \n🏃 Fairlife Lilac Run 5K & 10K Presented by Fleet Feet\nWhen: Sunday\, May 17\, 8:00 AM – 1:00 PM\nWhere: Highland Park\, Rochester\nWhat: Lace up for the 47th Annual Lilac Run on the festival’s final day! Join hundreds of runners for this beloved tradition combining fitness\, fun\, and the beauty of Highland Park.\nLink: More details → \n🏃 TIM HORTONS TIMBITS TROT\nWhen: May 17\, 11:30 am – 12:00 pm\nWhere: Highland Park\, Rochester NY\nWhat: The perfect 1-mile fun run for EVERYONE with cheering crowds\, free T-shirts\, and sweet Timbit treats! It’s a moment of pure joy at the Rochester Lilac Festival that brings families and friends together.\nLink: More details → \n🎨 Art in the Park & Small Business Circle\nWhen: May 17\, 10:00 am – 5:00 pm\nWhere: Highland Park\, 180 Reservoir Ave\, Rochester\, NY\nWhat: Immerse yourself in a creative wonderland where art meets nature! Stroll through blooming lilacs and scenic pathways to discover stunning outdoor art displays\, then shop local treasures from Rochester’s amazing small businesses.\nCost: TBA\nLink: More details → \nMusic Lineup During the Lilac Festival \nFriday\, May 8\, 2026 \nCimafunk \nZahyia \nSaturday\, May 9\, 2026 \nLee Fields \nLady Wray \nSunday\, May 10\, 2026 \nClaudia Hoyser \nThe Lone Bellow \nMonday\, May 11\, 2026 \nCruel Summer \nRoses & Revolutions \nTuesday\, May 12\, 2026 \nRochester Music Hall of Fame Takeover ft. Scott Mayo & Prime Time Funk\, The Dawgs\, and Stoney Lonesome \nWednesday\, May 13\, 2026 \nMikaela Davis \nGiant Panda Guerilla Dub Squad \nThursday\, May 14\, 2026 \nThe Demos \nJoe P \nFriday\, May 15\, 2026 \nAnees \nChi TheRealist \nSaturday\, May 16\, 2026 \nJD McPherson \nPrime Time Brass \nSunday\, May 17\, 2026 \nHigh Fade \nEggy \nClick here to learn more!
URL:https://blackownedinrochester.com/event/lilac-festival-highland-park/
LOCATION:Highland Park\, 180 Reservoir Ave\, Rochester\, NY\, 14620\, United States
CATEGORIES:Festivals,Free Events in Rochester NY,Live Music Rochester NY
ATTACH;FMTTYPE=image/jpeg:https://blackownedinrochester.com/wp-content/uploads/2024/04/RochesterLilacFestival_logo2024_horizontal-scaled.jpeg
ORGANIZER;CN="Community Organizer":MAILTO:blackownedinrochester+events@gmail.com
END:VEVENT
BEGIN:VEVENT
DTSTART;TZID=America/New_York:20260508T170000
DTEND;TZID=America/New_York:20260508T200000
DTSTAMP:20260423T135149
CREATED:20260420T194344Z
LAST-MODIFIED:20260420T194432Z
UID:10000862-1778259600-1778270400@blackownedinrochester.com
SUMMARY:✨ MOTHER’S DAY MARKET at Dunnwood Green ✨
DESCRIPTION:✨ MOTHER’S DAY MARKET at Dunnwood Green ✨\nYou’re invited to a feel-good night of shopping\, sipping\, self-care & celebrating all things mom (and yourself). Grab your friends\, your mom\, your sister\, your partner — and make a night out of it.\n🚨 IMPORTANT:\nThis event is FULLY BOOKED for vendors.\nWe are NOT accepting any additional vendors for this market.\nPlease do not message asking to participate as a vendor. \n🗓 Friday May 8th\n⏰ 5:00 PM – 8:00 PM\n📍 Compass Club Building\n1 Dunnwood Green Lane\, Pittsford\, NY 14534\n🎟 FREE TO ATTEND — NO TICKET REQUIRED \n🚨 FIRST 20 PEOPLE THROUGH THE DOOR GET A GOODIE BAG 🚨 ($75 value!) \nExpect a curated lineup of amazing local businesses + experiences:\n• Permanent Jewelry – Ember & Co.\n• Candles – The Vintage Aesthetic\n• Sourdough – Duvall Sourdough Co\n• Cookies – The Cookie Haven ROC\n• Chair Massage – Clove & Sage Spa\n• Tooth Gems + Make Your Own Lip Gloss – Black Adder Beauty Bar\n• Soda Bar – Lovefern Co\n• Press On Nails – CS Nail Design\n• Flower Bar – Saint Rose Flowers\n• Charcuterie – Grazing Creations\n• Bag Charms – Trinket Rave\n• Hair Tinsel & Hair Braiding – Mermaid Braid Co.\nPlus Raffle Prizes!!! \n💗 Come shop\, treat yourself\, find Mother’s Day gifts\, or just hang out and enjoy a fun spring evening with your favorite people. \nMark yourself “Going\,” invite your friends\, and show up early 👀🎁
URL:https://blackownedinrochester.com/event/mothers-day-market-at-dunnwood-green/
LOCATION:Compass Club Building\, 1 Dunnwood Green Lane\, Pittsford\, NY\, 14534\, United States
CATEGORIES:Free Events in Rochester NY,Vendor Markets Rochester NY
ATTACH;FMTTYPE=image/jpeg:https://blackownedinrochester.com/wp-content/uploads/2026/04/640912595_122141764268418721_4636757294043321327_n.jpg
ORGANIZER;CN="Community Organizer":MAILTO:blackownedinrochester+events@gmail.com
END:VEVENT
BEGIN:VEVENT
DTSTART;TZID=America/New_York:20260510T140000
DTEND;TZID=America/New_York:20260510T183000
DTSTAMP:20260423T135149
CREATED:20260319T164302Z
LAST-MODIFIED:20260411T034843Z
UID:10000772-1778421600-1778437800@blackownedinrochester.com
SUMMARY:Mother’s Day Psychic Fair
DESCRIPTION:Forget the flowers—Mother’s Day plans just got a lot more interesting.\nThe Mother’s Day Psychic Fair returns to Iron Smoke Distillery on Sunday\, May 10th from 2:00–6:30 PM\, bringing together tarot readers\, mediums\, metaphysical vendors\, live music\, and a few surprises along the way.\nWhether you’re celebrating mom\, bringing your best friend\, or just looking for a unique Sunday outing\, this event is all about good energy\, great company\, and a little bit of the mystical.\n✨ Six gifted readers will be offering sessions throughout the event\, with options ranging from traditional tarot readings to mediumship\, crystal ball readings\, and even spirit sketches. If you’ve ever wondered what the cards—or the other side—might have to say\, this is your chance.\n🎶 Live music from Nightfall Duo will keep things going throughout the afternoon while guests browse and grab a drink.\n🍹 Iron Smoke’s exclusive “Mom-osa” menu will feature flavors inspired by the zodiac—because every sign deserves its own toast.\n🛍️ The vendor lineup will include metaphysical and artisan makers offering:\n• Crystals\n• Oddities\n• Candles\n• Jewelry\n• Cookies\n• Witchy wares and Gifts\nIt’s the kind of Mother’s Day outing that trades predictable brunch reservations for something a little more memorable.\nFREE ENTRY
URL:https://blackownedinrochester.com/event/mothers-day-psychic-fair/
LOCATION:Iron Smoke Distillery\, 111 Parce Ave #5b\, Fairport\, NY\, 14550\, United States
CATEGORIES:Free Events in Rochester NY,Vendor Markets Rochester NY
ATTACH;FMTTYPE=image/jpeg:https://blackownedinrochester.com/wp-content/uploads/2026/03/650260961_951810277430386_8079943177548354211_n.jpg
ORGANIZER;CN="Community Organizer":MAILTO:blackownedinrochester+events@gmail.com
END:VEVENT
BEGIN:VEVENT
DTSTART;TZID=America/New_York:20261010T073000
DTEND;TZID=America/New_York:20261010T113000
DTSTAMP:20260423T135149
CREATED:20250306T180949Z
LAST-MODIFIED:20260408T221716Z
UID:10000778-1791617400-1791631800@blackownedinrochester.com
SUMMARY:Free Breast Cancer Screenings for the uninsured - FLX Cancer Services Program
DESCRIPTION:Breast Cancer Screening \nBreast cancer screening includes self-breast exam\, clinical breast exam\, and mammogram. The most current guidelines from the U.S. Preventative Services Task Force suggest women ages 50 to 74 years old should have a screening mammogram every two years. Women ages 40–49 years old are encouraged to talk to their healthcare providers about when and how often they should have screening mammograms. A woman who has a high risk for breast cancer\, as determined by a health care provider\, may need to begin screening earlier. \nThe Cancer Services Program of the Finger Lakes Region covers annual clinical breast exams\, mammograms\, pelvic exams and pap tests for uninsured women 40 and older who live in Monroe\, Livingston\, Ontario\, Yates\, Wayne and Seneca Counties. Mammograms are sometimes covered for younger women based on family or personal history. Men identified with symptoms which may indicate breast cancer can receive diagnosis through the program. \nFree Screening Events\nmobile mammography van If you have a family history\, or have concerns about your risk\, we encourage you to take advantage of these free screening events. Research has shown that African American women are 42 percent more likely to die from breast cancer than white women. African American women are more likely to present with a cancer diagnosis in ages younger than 40 and with more advanced stage breast cancer.
URL:https://blackownedinrochester.com/event/free-breast-cancer-screenings-for-the-uninsured-flx-cancer-services-program/2026-10-10/
LOCATION:Elizabeth Wende Breast Care\, LLC\, 170 Sawgrass Dr\, Rochester\, NY\, 14620\, United States
CATEGORIES:Free Events in Rochester NY
ATTACH;FMTTYPE=image/jpeg:https://blackownedinrochester.com/wp-content/uploads/2025/03/breast-large-square_noGetScreened.jpg
ORGANIZER;CN="Community Organizer":MAILTO:blackownedinrochester+events@gmail.com
END:VEVENT
BEGIN:VEVENT
DTSTART;TZID=America/New_York:20261212T073000
DTEND;TZID=America/New_York:20261212T113000
DTSTAMP:20260423T135149
CREATED:20250306T180949Z
LAST-MODIFIED:20260408T221716Z
UID:10000779-1797060600-1797075000@blackownedinrochester.com
SUMMARY:Free Breast Cancer Screenings for the uninsured - FLX Cancer Services Program
DESCRIPTION:Breast Cancer Screening \nBreast cancer screening includes self-breast exam\, clinical breast exam\, and mammogram. The most current guidelines from the U.S. Preventative Services Task Force suggest women ages 50 to 74 years old should have a screening mammogram every two years. Women ages 40–49 years old are encouraged to talk to their healthcare providers about when and how often they should have screening mammograms. A woman who has a high risk for breast cancer\, as determined by a health care provider\, may need to begin screening earlier. \nThe Cancer Services Program of the Finger Lakes Region covers annual clinical breast exams\, mammograms\, pelvic exams and pap tests for uninsured women 40 and older who live in Monroe\, Livingston\, Ontario\, Yates\, Wayne and Seneca Counties. Mammograms are sometimes covered for younger women based on family or personal history. Men identified with symptoms which may indicate breast cancer can receive diagnosis through the program. \nFree Screening Events\nmobile mammography van If you have a family history\, or have concerns about your risk\, we encourage you to take advantage of these free screening events. Research has shown that African American women are 42 percent more likely to die from breast cancer than white women. African American women are more likely to present with a cancer diagnosis in ages younger than 40 and with more advanced stage breast cancer.
URL:https://blackownedinrochester.com/event/free-breast-cancer-screenings-for-the-uninsured-flx-cancer-services-program/2026-12-12/
LOCATION:Elizabeth Wende Breast Care\, LLC\, 170 Sawgrass Dr\, Rochester\, NY\, 14620\, United States
CATEGORIES:Free Events in Rochester NY
ATTACH;FMTTYPE=image/jpeg:https://blackownedinrochester.com/wp-content/uploads/2025/03/breast-large-square_noGetScreened.jpg
ORGANIZER;CN="Community Organizer":MAILTO:blackownedinrochester+events@gmail.com
END:VEVENT
END:VCALENDAR