BEGIN:VCALENDAR
VERSION:2.0
PRODID:-//Black-Owned in Rochester - ECPv6.15.20//NONSGML v1.0//EN
CALSCALE:GREGORIAN
METHOD:PUBLISH
X-WR-CALNAME:Black-Owned in Rochester
X-ORIGINAL-URL:https://blackownedinrochester.com
X-WR-CALDESC:Events for Black-Owned in Rochester
REFRESH-INTERVAL;VALUE=DURATION:PT1H
X-Robots-Tag:noindex
X-PUBLISHED-TTL:PT1H
BEGIN:VTIMEZONE
TZID:America/New_York
BEGIN:DAYLIGHT
TZOFFSETFROM:-0500
TZOFFSETTO:-0400
TZNAME:EDT
DTSTART:20250309T070000
END:DAYLIGHT
BEGIN:STANDARD
TZOFFSETFROM:-0400
TZOFFSETTO:-0500
TZNAME:EST
DTSTART:20251102T060000
END:STANDARD
BEGIN:DAYLIGHT
TZOFFSETFROM:-0500
TZOFFSETTO:-0400
TZNAME:EDT
DTSTART:20260308T070000
END:DAYLIGHT
BEGIN:STANDARD
TZOFFSETFROM:-0400
TZOFFSETTO:-0500
TZNAME:EST
DTSTART:20261101T060000
END:STANDARD
BEGIN:DAYLIGHT
TZOFFSETFROM:-0500
TZOFFSETTO:-0400
TZNAME:EDT
DTSTART:20270314T070000
END:DAYLIGHT
BEGIN:STANDARD
TZOFFSETFROM:-0400
TZOFFSETTO:-0500
TZNAME:EST
DTSTART:20271107T060000
END:STANDARD
END:VTIMEZONE
BEGIN:VEVENT
DTSTART;TZID=America/New_York:20260709T200000
DTEND;TZID=America/New_York:20260709T230000
DTSTAMP:20260423T140802
CREATED:20260306T214745Z
LAST-MODIFIED:20260408T154549Z
UID:10000218-1783627200-1783638000@blackownedinrochester.com
SUMMARY:Family Outdoor Movie Nights - Pittsford
DESCRIPTION:Movie starts at dark at Spiegel Pittsford Community Fields \nKona Ice (shaved ice) & Z Best Foodz (popcorn\, candy\, snacks\, hot dogs\, burgers\, beverages and more) will be at all four movies with items for sale. \nEnjoy an old fashioned movie experience on our giant outdoor movie screen on Thursday evenings after sunset at Spiegel Pittsford Community Fields. \nBring your chairs and blankets and have a great time with the family! \n2026 movies\n\nJuly 9 – Dog Man (PG)\nJuly 23 – The Bad Guys 2 (PG)\nAugust 6 – Lilo & Stitch (PG)\nAugust 20 – Zootopia 2 (PG)
URL:https://blackownedinrochester.com/event/family-outdoor-movie-nights-pittsford/2026-07-09/
LOCATION:Spiegel Pittsford Community Center\, 35 Lincoln Ave\, Pittsford\, NY\, 14534\, United States
CATEGORIES:Free Events in Rochester NY
ATTACH;FMTTYPE=image/png:https://blackownedinrochester.com/wp-content/uploads/2024/07/Screen-Shot-2024-07-22-at-2.00.43-PM.png
ORGANIZER;CN="Community Organizer":MAILTO:blackownedinrochester+events@gmail.com
END:VEVENT
BEGIN:VEVENT
DTSTART;TZID=America/New_York:20260723T200000
DTEND;TZID=America/New_York:20260723T230000
DTSTAMP:20260423T140802
CREATED:20260306T214745Z
LAST-MODIFIED:20260408T154549Z
UID:10000718-1784836800-1784847600@blackownedinrochester.com
SUMMARY:Family Outdoor Movie Nights - Pittsford
DESCRIPTION:Movie starts at dark at Spiegel Pittsford Community Fields \nKona Ice (shaved ice) & Z Best Foodz (popcorn\, candy\, snacks\, hot dogs\, burgers\, beverages and more) will be at all four movies with items for sale. \nEnjoy an old fashioned movie experience on our giant outdoor movie screen on Thursday evenings after sunset at Spiegel Pittsford Community Fields. \nBring your chairs and blankets and have a great time with the family! \n2026 movies\n\nJuly 9 – Dog Man (PG)\nJuly 23 – The Bad Guys 2 (PG)\nAugust 6 – Lilo & Stitch (PG)\nAugust 20 – Zootopia 2 (PG)
URL:https://blackownedinrochester.com/event/family-outdoor-movie-nights-pittsford/2026-07-23/
LOCATION:Spiegel Pittsford Community Center\, 35 Lincoln Ave\, Pittsford\, NY\, 14534\, United States
CATEGORIES:Free Events in Rochester NY
ATTACH;FMTTYPE=image/png:https://blackownedinrochester.com/wp-content/uploads/2024/07/Screen-Shot-2024-07-22-at-2.00.43-PM.png
ORGANIZER;CN="Community Organizer":MAILTO:blackownedinrochester+events@gmail.com
END:VEVENT
BEGIN:VEVENT
DTSTART;TZID=America/New_York:20260806T200000
DTEND;TZID=America/New_York:20260806T230000
DTSTAMP:20260423T140802
CREATED:20260306T214745Z
LAST-MODIFIED:20260408T154549Z
UID:10000719-1786046400-1786057200@blackownedinrochester.com
SUMMARY:Family Outdoor Movie Nights - Pittsford
DESCRIPTION:Movie starts at dark at Spiegel Pittsford Community Fields \nKona Ice (shaved ice) & Z Best Foodz (popcorn\, candy\, snacks\, hot dogs\, burgers\, beverages and more) will be at all four movies with items for sale. \nEnjoy an old fashioned movie experience on our giant outdoor movie screen on Thursday evenings after sunset at Spiegel Pittsford Community Fields. \nBring your chairs and blankets and have a great time with the family! \n2026 movies\n\nJuly 9 – Dog Man (PG)\nJuly 23 – The Bad Guys 2 (PG)\nAugust 6 – Lilo & Stitch (PG)\nAugust 20 – Zootopia 2 (PG)
URL:https://blackownedinrochester.com/event/family-outdoor-movie-nights-pittsford/2026-08-06/
LOCATION:Spiegel Pittsford Community Center\, 35 Lincoln Ave\, Pittsford\, NY\, 14534\, United States
CATEGORIES:Free Events in Rochester NY
ATTACH;FMTTYPE=image/png:https://blackownedinrochester.com/wp-content/uploads/2024/07/Screen-Shot-2024-07-22-at-2.00.43-PM.png
ORGANIZER;CN="Community Organizer":MAILTO:blackownedinrochester+events@gmail.com
END:VEVENT
BEGIN:VEVENT
DTSTART;TZID=America/New_York:20260820T200000
DTEND;TZID=America/New_York:20260820T230000
DTSTAMP:20260423T140802
CREATED:20260306T214745Z
LAST-MODIFIED:20260408T154549Z
UID:10000720-1787256000-1787266800@blackownedinrochester.com
SUMMARY:Family Outdoor Movie Nights - Pittsford
DESCRIPTION:Movie starts at dark at Spiegel Pittsford Community Fields \nKona Ice (shaved ice) & Z Best Foodz (popcorn\, candy\, snacks\, hot dogs\, burgers\, beverages and more) will be at all four movies with items for sale. \nEnjoy an old fashioned movie experience on our giant outdoor movie screen on Thursday evenings after sunset at Spiegel Pittsford Community Fields. \nBring your chairs and blankets and have a great time with the family! \n2026 movies\n\nJuly 9 – Dog Man (PG)\nJuly 23 – The Bad Guys 2 (PG)\nAugust 6 – Lilo & Stitch (PG)\nAugust 20 – Zootopia 2 (PG)
URL:https://blackownedinrochester.com/event/family-outdoor-movie-nights-pittsford/2026-08-20/
LOCATION:Spiegel Pittsford Community Center\, 35 Lincoln Ave\, Pittsford\, NY\, 14534\, United States
CATEGORIES:Free Events in Rochester NY
ATTACH;FMTTYPE=image/png:https://blackownedinrochester.com/wp-content/uploads/2024/07/Screen-Shot-2024-07-22-at-2.00.43-PM.png
ORGANIZER;CN="Community Organizer":MAILTO:blackownedinrochester+events@gmail.com
END:VEVENT
END:VCALENDAR