BEGIN:VCALENDAR
VERSION:2.0
PRODID:-//Black-Owned in Rochester - ECPv6.15.20//NONSGML v1.0//EN
CALSCALE:GREGORIAN
METHOD:PUBLISH
X-WR-CALNAME:Black-Owned in Rochester
X-ORIGINAL-URL:https://blackownedinrochester.com
X-WR-CALDESC:Events for Black-Owned in Rochester
REFRESH-INTERVAL;VALUE=DURATION:PT1H
X-Robots-Tag:noindex
X-PUBLISHED-TTL:PT1H
BEGIN:VTIMEZONE
TZID:America/New_York
BEGIN:DAYLIGHT
TZOFFSETFROM:-0500
TZOFFSETTO:-0400
TZNAME:EDT
DTSTART:20250309T070000
END:DAYLIGHT
BEGIN:STANDARD
TZOFFSETFROM:-0400
TZOFFSETTO:-0500
TZNAME:EST
DTSTART:20251102T060000
END:STANDARD
BEGIN:DAYLIGHT
TZOFFSETFROM:-0500
TZOFFSETTO:-0400
TZNAME:EDT
DTSTART:20260308T070000
END:DAYLIGHT
BEGIN:STANDARD
TZOFFSETFROM:-0400
TZOFFSETTO:-0500
TZNAME:EST
DTSTART:20261101T060000
END:STANDARD
BEGIN:DAYLIGHT
TZOFFSETFROM:-0500
TZOFFSETTO:-0400
TZNAME:EDT
DTSTART:20270314T070000
END:DAYLIGHT
BEGIN:STANDARD
TZOFFSETFROM:-0400
TZOFFSETTO:-0500
TZNAME:EST
DTSTART:20271107T060000
END:STANDARD
END:VTIMEZONE
BEGIN:VEVENT
DTSTART;TZID=America/New_York:20260709T180000
DTEND;TZID=America/New_York:20260709T220000
DTSTAMP:20260423T121949
CREATED:20260408T022754Z
LAST-MODIFIED:20260409T023614Z
UID:10000150-1783620000-1783634400@blackownedinrochester.com
SUMMARY:Party In The Park
DESCRIPTION:Every summer in downtown Rochester\, Martin Luther King Jr. Park transforms into a music mecca for 6 weeks every Thursday\, hosted by the City of Rochester. Now in its 29th year\, the 2026 Party in the Park concert series presents a wide range of music including blues\, funk\, rock\, reggae\, and classic rock attracting devoted music fans and families to come out and enjoy the beautiful summer season. \nGuest Info \nHow do I buy tickets? \nTickets\n$7 Individual General Admission tickets (children 12 and under are free) & $35 Individual\, VIP Ultra Lounge Tickets are on sale at: \nwww.RochesterEvents.com \nThe gate on the day of the show\, if available. Gates open at 6 p.m. and entry is allowed until 9:00 p.m. \nThe RBTL box office\, 885 E Main St.\n800-745-3000 (with associated service charges).\nOnce the event sells out\, no additional tickets will be available for purchase.\n2026 Line up coming soon
URL:https://blackownedinrochester.com/event/party-in-the-park/2026-07-09/
LOCATION:Dr. Martin Luther King Jr. Memorial Park\, 353 Court St.\, Rochester\, 14607\, United States
CATEGORIES:Live Music Rochester NY,Summer Concert Series
ATTACH;FMTTYPE=image/png:https://blackownedinrochester.com/wp-content/uploads/2024/07/Screenshot-2026-04-07-at-10.19.38-PM.png
ORGANIZER;CN="Community Organizer":MAILTO:blackownedinrochester+events@gmail.com
END:VEVENT
BEGIN:VEVENT
DTSTART;TZID=America/New_York:20260716T180000
DTEND;TZID=America/New_York:20260716T220000
DTSTAMP:20260423T121949
CREATED:20260408T022754Z
LAST-MODIFIED:20260409T023614Z
UID:10000780-1784224800-1784239200@blackownedinrochester.com
SUMMARY:Party In The Park
DESCRIPTION:Every summer in downtown Rochester\, Martin Luther King Jr. Park transforms into a music mecca for 6 weeks every Thursday\, hosted by the City of Rochester. Now in its 29th year\, the 2026 Party in the Park concert series presents a wide range of music including blues\, funk\, rock\, reggae\, and classic rock attracting devoted music fans and families to come out and enjoy the beautiful summer season. \nGuest Info \nHow do I buy tickets? \nTickets\n$7 Individual General Admission tickets (children 12 and under are free) & $35 Individual\, VIP Ultra Lounge Tickets are on sale at: \nwww.RochesterEvents.com \nThe gate on the day of the show\, if available. Gates open at 6 p.m. and entry is allowed until 9:00 p.m. \nThe RBTL box office\, 885 E Main St.\n800-745-3000 (with associated service charges).\nOnce the event sells out\, no additional tickets will be available for purchase.\n2026 Line up coming soon
URL:https://blackownedinrochester.com/event/party-in-the-park/2026-07-16/
LOCATION:Dr. Martin Luther King Jr. Memorial Park\, 353 Court St.\, Rochester\, 14607\, United States
CATEGORIES:Live Music Rochester NY,Summer Concert Series
ATTACH;FMTTYPE=image/png:https://blackownedinrochester.com/wp-content/uploads/2024/07/Screenshot-2026-04-07-at-10.19.38-PM.png
ORGANIZER;CN="Community Organizer":MAILTO:blackownedinrochester+events@gmail.com
END:VEVENT
BEGIN:VEVENT
DTSTART;TZID=America/New_York:20260723T180000
DTEND;TZID=America/New_York:20260723T220000
DTSTAMP:20260423T121949
CREATED:20260408T022754Z
LAST-MODIFIED:20260409T023614Z
UID:10000781-1784829600-1784844000@blackownedinrochester.com
SUMMARY:Party In The Park
DESCRIPTION:Every summer in downtown Rochester\, Martin Luther King Jr. Park transforms into a music mecca for 6 weeks every Thursday\, hosted by the City of Rochester. Now in its 29th year\, the 2026 Party in the Park concert series presents a wide range of music including blues\, funk\, rock\, reggae\, and classic rock attracting devoted music fans and families to come out and enjoy the beautiful summer season. \nGuest Info \nHow do I buy tickets? \nTickets\n$7 Individual General Admission tickets (children 12 and under are free) & $35 Individual\, VIP Ultra Lounge Tickets are on sale at: \nwww.RochesterEvents.com \nThe gate on the day of the show\, if available. Gates open at 6 p.m. and entry is allowed until 9:00 p.m. \nThe RBTL box office\, 885 E Main St.\n800-745-3000 (with associated service charges).\nOnce the event sells out\, no additional tickets will be available for purchase.\n2026 Line up coming soon
URL:https://blackownedinrochester.com/event/party-in-the-park/2026-07-23/
LOCATION:Dr. Martin Luther King Jr. Memorial Park\, 353 Court St.\, Rochester\, 14607\, United States
CATEGORIES:Live Music Rochester NY,Summer Concert Series
ATTACH;FMTTYPE=image/png:https://blackownedinrochester.com/wp-content/uploads/2024/07/Screenshot-2026-04-07-at-10.19.38-PM.png
ORGANIZER;CN="Community Organizer":MAILTO:blackownedinrochester+events@gmail.com
END:VEVENT
BEGIN:VEVENT
DTSTART;TZID=America/New_York:20260730T180000
DTEND;TZID=America/New_York:20260730T220000
DTSTAMP:20260423T121949
CREATED:20260408T022754Z
LAST-MODIFIED:20260409T023614Z
UID:10000782-1785434400-1785448800@blackownedinrochester.com
SUMMARY:Party In The Park
DESCRIPTION:Every summer in downtown Rochester\, Martin Luther King Jr. Park transforms into a music mecca for 6 weeks every Thursday\, hosted by the City of Rochester. Now in its 29th year\, the 2026 Party in the Park concert series presents a wide range of music including blues\, funk\, rock\, reggae\, and classic rock attracting devoted music fans and families to come out and enjoy the beautiful summer season. \nGuest Info \nHow do I buy tickets? \nTickets\n$7 Individual General Admission tickets (children 12 and under are free) & $35 Individual\, VIP Ultra Lounge Tickets are on sale at: \nwww.RochesterEvents.com \nThe gate on the day of the show\, if available. Gates open at 6 p.m. and entry is allowed until 9:00 p.m. \nThe RBTL box office\, 885 E Main St.\n800-745-3000 (with associated service charges).\nOnce the event sells out\, no additional tickets will be available for purchase.\n2026 Line up coming soon
URL:https://blackownedinrochester.com/event/party-in-the-park/2026-07-30/
LOCATION:Dr. Martin Luther King Jr. Memorial Park\, 353 Court St.\, Rochester\, 14607\, United States
CATEGORIES:Live Music Rochester NY,Summer Concert Series
ATTACH;FMTTYPE=image/png:https://blackownedinrochester.com/wp-content/uploads/2024/07/Screenshot-2026-04-07-at-10.19.38-PM.png
ORGANIZER;CN="Community Organizer":MAILTO:blackownedinrochester+events@gmail.com
END:VEVENT
BEGIN:VEVENT
DTSTART;TZID=America/New_York:20260806T180000
DTEND;TZID=America/New_York:20260806T220000
DTSTAMP:20260423T121949
CREATED:20260408T022754Z
LAST-MODIFIED:20260409T023614Z
UID:10000783-1786039200-1786053600@blackownedinrochester.com
SUMMARY:Party In The Park
DESCRIPTION:Every summer in downtown Rochester\, Martin Luther King Jr. Park transforms into a music mecca for 6 weeks every Thursday\, hosted by the City of Rochester. Now in its 29th year\, the 2026 Party in the Park concert series presents a wide range of music including blues\, funk\, rock\, reggae\, and classic rock attracting devoted music fans and families to come out and enjoy the beautiful summer season. \nGuest Info \nHow do I buy tickets? \nTickets\n$7 Individual General Admission tickets (children 12 and under are free) & $35 Individual\, VIP Ultra Lounge Tickets are on sale at: \nwww.RochesterEvents.com \nThe gate on the day of the show\, if available. Gates open at 6 p.m. and entry is allowed until 9:00 p.m. \nThe RBTL box office\, 885 E Main St.\n800-745-3000 (with associated service charges).\nOnce the event sells out\, no additional tickets will be available for purchase.\n2026 Line up coming soon
URL:https://blackownedinrochester.com/event/party-in-the-park/2026-08-06/
LOCATION:Dr. Martin Luther King Jr. Memorial Park\, 353 Court St.\, Rochester\, 14607\, United States
CATEGORIES:Live Music Rochester NY,Summer Concert Series
ATTACH;FMTTYPE=image/png:https://blackownedinrochester.com/wp-content/uploads/2024/07/Screenshot-2026-04-07-at-10.19.38-PM.png
ORGANIZER;CN="Community Organizer":MAILTO:blackownedinrochester+events@gmail.com
END:VEVENT
BEGIN:VEVENT
DTSTART;TZID=America/New_York:20260813T180000
DTEND;TZID=America/New_York:20260813T220000
DTSTAMP:20260423T121949
CREATED:20260408T022754Z
LAST-MODIFIED:20260409T023614Z
UID:10000784-1786644000-1786658400@blackownedinrochester.com
SUMMARY:Party In The Park
DESCRIPTION:Every summer in downtown Rochester\, Martin Luther King Jr. Park transforms into a music mecca for 6 weeks every Thursday\, hosted by the City of Rochester. Now in its 29th year\, the 2026 Party in the Park concert series presents a wide range of music including blues\, funk\, rock\, reggae\, and classic rock attracting devoted music fans and families to come out and enjoy the beautiful summer season. \nGuest Info \nHow do I buy tickets? \nTickets\n$7 Individual General Admission tickets (children 12 and under are free) & $35 Individual\, VIP Ultra Lounge Tickets are on sale at: \nwww.RochesterEvents.com \nThe gate on the day of the show\, if available. Gates open at 6 p.m. and entry is allowed until 9:00 p.m. \nThe RBTL box office\, 885 E Main St.\n800-745-3000 (with associated service charges).\nOnce the event sells out\, no additional tickets will be available for purchase.\n2026 Line up coming soon
URL:https://blackownedinrochester.com/event/party-in-the-park/2026-08-13/
LOCATION:Dr. Martin Luther King Jr. Memorial Park\, 353 Court St.\, Rochester\, 14607\, United States
CATEGORIES:Live Music Rochester NY,Summer Concert Series
ATTACH;FMTTYPE=image/png:https://blackownedinrochester.com/wp-content/uploads/2024/07/Screenshot-2026-04-07-at-10.19.38-PM.png
ORGANIZER;CN="Community Organizer":MAILTO:blackownedinrochester+events@gmail.com
END:VEVENT
END:VCALENDAR