BEGIN:VCALENDAR
VERSION:2.0
PRODID:-//Black-Owned in Rochester - ECPv6.15.20//NONSGML v1.0//EN
CALSCALE:GREGORIAN
METHOD:PUBLISH
X-WR-CALNAME:Black-Owned in Rochester
X-ORIGINAL-URL:https://blackownedinrochester.com
X-WR-CALDESC:Events for Black-Owned in Rochester
REFRESH-INTERVAL;VALUE=DURATION:PT1H
X-Robots-Tag:noindex
X-PUBLISHED-TTL:PT1H
BEGIN:VTIMEZONE
TZID:America/New_York
BEGIN:DAYLIGHT
TZOFFSETFROM:-0500
TZOFFSETTO:-0400
TZNAME:EDT
DTSTART:20250309T070000
END:DAYLIGHT
BEGIN:STANDARD
TZOFFSETFROM:-0400
TZOFFSETTO:-0500
TZNAME:EST
DTSTART:20251102T060000
END:STANDARD
BEGIN:DAYLIGHT
TZOFFSETFROM:-0500
TZOFFSETTO:-0400
TZNAME:EDT
DTSTART:20260308T070000
END:DAYLIGHT
BEGIN:STANDARD
TZOFFSETFROM:-0400
TZOFFSETTO:-0500
TZNAME:EST
DTSTART:20261101T060000
END:STANDARD
BEGIN:DAYLIGHT
TZOFFSETFROM:-0500
TZOFFSETTO:-0400
TZNAME:EDT
DTSTART:20270314T070000
END:DAYLIGHT
BEGIN:STANDARD
TZOFFSETFROM:-0400
TZOFFSETTO:-0500
TZNAME:EST
DTSTART:20271107T060000
END:STANDARD
END:VTIMEZONE
BEGIN:VEVENT
DTSTART;TZID=America/New_York:20260710T180000
DTEND;TZID=America/New_York:20260710T220000
DTSTAMP:20260423T121939
CREATED:20260307T050625Z
LAST-MODIFIED:20260409T023616Z
UID:10000763-1783706400-1783720800@blackownedinrochester.com
SUMMARY:Bands on the Bricks - City of Rochester Public Market
DESCRIPTION:The Market’s Signature Free Summer Live Music Series \nOne of Rochester’s most popular FREE concert series\, Bands on the Bricks brings the City of Rochester Public Market to the evening set with national-act and local live music on five consecutive Friday nights in July and August. Food and drink vendors will be there to complete your night! For more information\, visit bandsonthebricksroc.com. \nJoin us Friday Nights at Rochester’s Public Market with plenty of FREE parking \nGet ready to experience the pulse of the city’s vibrant music scene as we bring you the most electrifying live performances in the heart of downtown Rochester Friday nights in the summer for FREE! Let the Music Play! \nDate | Music \n2026 Dates July 10th through August 14th \nmore to come \nUpgrade to VIP\nFor Only $20.00 in Advance.\nEnjoy:\nEntrance to the Community Bank VIP Zone\nOne Complimentary Drink Coupon\nExclusive Views of the Stage\nPersonal Folding Chairs Allowed\nPrivate Bar. We accept credit/debit cards\nCommemorative VIP Lanyard\nComplimentary chair massage\n​VIP Tickets are $25.00 at the door.
URL:https://blackownedinrochester.com/event/bands-on-the-bricks-city-of-rochester-public-market/2026-07-10/
LOCATION:The City of Rochester Public Market\, 280 N Union St\, Rochester\, NY\, 14609\, United States
CATEGORIES:Free Events in Rochester NY,Live Music Rochester NY,Summer Concert Series
ATTACH;FMTTYPE=image/jpeg:https://blackownedinrochester.com/wp-content/uploads/2025/02/RPM-BOTB-Web-Banner-2025-1-1-e1751904655973.jpg
ORGANIZER;CN="Community Organizer":MAILTO:blackownedinrochester+events@gmail.com
END:VEVENT
BEGIN:VEVENT
DTSTART;TZID=America/New_York:20260717T180000
DTEND;TZID=America/New_York:20260717T220000
DTSTAMP:20260423T121939
CREATED:20260307T050625Z
LAST-MODIFIED:20260409T023616Z
UID:10000764-1784311200-1784325600@blackownedinrochester.com
SUMMARY:Bands on the Bricks - City of Rochester Public Market
DESCRIPTION:The Market’s Signature Free Summer Live Music Series \nOne of Rochester’s most popular FREE concert series\, Bands on the Bricks brings the City of Rochester Public Market to the evening set with national-act and local live music on five consecutive Friday nights in July and August. Food and drink vendors will be there to complete your night! For more information\, visit bandsonthebricksroc.com. \nJoin us Friday Nights at Rochester’s Public Market with plenty of FREE parking \nGet ready to experience the pulse of the city’s vibrant music scene as we bring you the most electrifying live performances in the heart of downtown Rochester Friday nights in the summer for FREE! Let the Music Play! \nDate | Music \n2026 Dates July 10th through August 14th \nmore to come \nUpgrade to VIP\nFor Only $20.00 in Advance.\nEnjoy:\nEntrance to the Community Bank VIP Zone\nOne Complimentary Drink Coupon\nExclusive Views of the Stage\nPersonal Folding Chairs Allowed\nPrivate Bar. We accept credit/debit cards\nCommemorative VIP Lanyard\nComplimentary chair massage\n​VIP Tickets are $25.00 at the door.
URL:https://blackownedinrochester.com/event/bands-on-the-bricks-city-of-rochester-public-market/2026-07-17/
LOCATION:The City of Rochester Public Market\, 280 N Union St\, Rochester\, NY\, 14609\, United States
CATEGORIES:Free Events in Rochester NY,Live Music Rochester NY,Summer Concert Series
ATTACH;FMTTYPE=image/jpeg:https://blackownedinrochester.com/wp-content/uploads/2025/02/RPM-BOTB-Web-Banner-2025-1-1-e1751904655973.jpg
ORGANIZER;CN="Community Organizer":MAILTO:blackownedinrochester+events@gmail.com
END:VEVENT
BEGIN:VEVENT
DTSTART;TZID=America/New_York:20260724T180000
DTEND;TZID=America/New_York:20260724T220000
DTSTAMP:20260423T121939
CREATED:20260307T050625Z
LAST-MODIFIED:20260409T023616Z
UID:10000765-1784916000-1784930400@blackownedinrochester.com
SUMMARY:Bands on the Bricks - City of Rochester Public Market
DESCRIPTION:The Market’s Signature Free Summer Live Music Series \nOne of Rochester’s most popular FREE concert series\, Bands on the Bricks brings the City of Rochester Public Market to the evening set with national-act and local live music on five consecutive Friday nights in July and August. Food and drink vendors will be there to complete your night! For more information\, visit bandsonthebricksroc.com. \nJoin us Friday Nights at Rochester’s Public Market with plenty of FREE parking \nGet ready to experience the pulse of the city’s vibrant music scene as we bring you the most electrifying live performances in the heart of downtown Rochester Friday nights in the summer for FREE! Let the Music Play! \nDate | Music \n2026 Dates July 10th through August 14th \nmore to come \nUpgrade to VIP\nFor Only $20.00 in Advance.\nEnjoy:\nEntrance to the Community Bank VIP Zone\nOne Complimentary Drink Coupon\nExclusive Views of the Stage\nPersonal Folding Chairs Allowed\nPrivate Bar. We accept credit/debit cards\nCommemorative VIP Lanyard\nComplimentary chair massage\n​VIP Tickets are $25.00 at the door.
URL:https://blackownedinrochester.com/event/bands-on-the-bricks-city-of-rochester-public-market/2026-07-24/
LOCATION:The City of Rochester Public Market\, 280 N Union St\, Rochester\, NY\, 14609\, United States
CATEGORIES:Free Events in Rochester NY,Live Music Rochester NY,Summer Concert Series
ATTACH;FMTTYPE=image/jpeg:https://blackownedinrochester.com/wp-content/uploads/2025/02/RPM-BOTB-Web-Banner-2025-1-1-e1751904655973.jpg
ORGANIZER;CN="Community Organizer":MAILTO:blackownedinrochester+events@gmail.com
END:VEVENT
BEGIN:VEVENT
DTSTART;TZID=America/New_York:20260731T180000
DTEND;TZID=America/New_York:20260731T220000
DTSTAMP:20260423T121939
CREATED:20260307T050625Z
LAST-MODIFIED:20260409T023616Z
UID:10000766-1785520800-1785535200@blackownedinrochester.com
SUMMARY:Bands on the Bricks - City of Rochester Public Market
DESCRIPTION:The Market’s Signature Free Summer Live Music Series \nOne of Rochester’s most popular FREE concert series\, Bands on the Bricks brings the City of Rochester Public Market to the evening set with national-act and local live music on five consecutive Friday nights in July and August. Food and drink vendors will be there to complete your night! For more information\, visit bandsonthebricksroc.com. \nJoin us Friday Nights at Rochester’s Public Market with plenty of FREE parking \nGet ready to experience the pulse of the city’s vibrant music scene as we bring you the most electrifying live performances in the heart of downtown Rochester Friday nights in the summer for FREE! Let the Music Play! \nDate | Music \n2026 Dates July 10th through August 14th \nmore to come \nUpgrade to VIP\nFor Only $20.00 in Advance.\nEnjoy:\nEntrance to the Community Bank VIP Zone\nOne Complimentary Drink Coupon\nExclusive Views of the Stage\nPersonal Folding Chairs Allowed\nPrivate Bar. We accept credit/debit cards\nCommemorative VIP Lanyard\nComplimentary chair massage\n​VIP Tickets are $25.00 at the door.
URL:https://blackownedinrochester.com/event/bands-on-the-bricks-city-of-rochester-public-market/2026-07-31/
LOCATION:The City of Rochester Public Market\, 280 N Union St\, Rochester\, NY\, 14609\, United States
CATEGORIES:Free Events in Rochester NY,Live Music Rochester NY,Summer Concert Series
ATTACH;FMTTYPE=image/jpeg:https://blackownedinrochester.com/wp-content/uploads/2025/02/RPM-BOTB-Web-Banner-2025-1-1-e1751904655973.jpg
ORGANIZER;CN="Community Organizer":MAILTO:blackownedinrochester+events@gmail.com
END:VEVENT
BEGIN:VEVENT
DTSTART;TZID=America/New_York:20260807T180000
DTEND;TZID=America/New_York:20260807T220000
DTSTAMP:20260423T121939
CREATED:20260307T050625Z
LAST-MODIFIED:20260409T023616Z
UID:10000767-1786125600-1786140000@blackownedinrochester.com
SUMMARY:Bands on the Bricks - City of Rochester Public Market
DESCRIPTION:The Market’s Signature Free Summer Live Music Series \nOne of Rochester’s most popular FREE concert series\, Bands on the Bricks brings the City of Rochester Public Market to the evening set with national-act and local live music on five consecutive Friday nights in July and August. Food and drink vendors will be there to complete your night! For more information\, visit bandsonthebricksroc.com. \nJoin us Friday Nights at Rochester’s Public Market with plenty of FREE parking \nGet ready to experience the pulse of the city’s vibrant music scene as we bring you the most electrifying live performances in the heart of downtown Rochester Friday nights in the summer for FREE! Let the Music Play! \nDate | Music \n2026 Dates July 10th through August 14th \nmore to come \nUpgrade to VIP\nFor Only $20.00 in Advance.\nEnjoy:\nEntrance to the Community Bank VIP Zone\nOne Complimentary Drink Coupon\nExclusive Views of the Stage\nPersonal Folding Chairs Allowed\nPrivate Bar. We accept credit/debit cards\nCommemorative VIP Lanyard\nComplimentary chair massage\n​VIP Tickets are $25.00 at the door.
URL:https://blackownedinrochester.com/event/bands-on-the-bricks-city-of-rochester-public-market/2026-08-07/
LOCATION:The City of Rochester Public Market\, 280 N Union St\, Rochester\, NY\, 14609\, United States
CATEGORIES:Free Events in Rochester NY,Live Music Rochester NY,Summer Concert Series
ATTACH;FMTTYPE=image/jpeg:https://blackownedinrochester.com/wp-content/uploads/2025/02/RPM-BOTB-Web-Banner-2025-1-1-e1751904655973.jpg
ORGANIZER;CN="Community Organizer":MAILTO:blackownedinrochester+events@gmail.com
END:VEVENT
BEGIN:VEVENT
DTSTART;TZID=America/New_York:20260814T180000
DTEND;TZID=America/New_York:20260814T220000
DTSTAMP:20260423T121939
CREATED:20260307T050625Z
LAST-MODIFIED:20260409T023616Z
UID:10000768-1786730400-1786744800@blackownedinrochester.com
SUMMARY:Bands on the Bricks - City of Rochester Public Market
DESCRIPTION:The Market’s Signature Free Summer Live Music Series \nOne of Rochester’s most popular FREE concert series\, Bands on the Bricks brings the City of Rochester Public Market to the evening set with national-act and local live music on five consecutive Friday nights in July and August. Food and drink vendors will be there to complete your night! For more information\, visit bandsonthebricksroc.com. \nJoin us Friday Nights at Rochester’s Public Market with plenty of FREE parking \nGet ready to experience the pulse of the city’s vibrant music scene as we bring you the most electrifying live performances in the heart of downtown Rochester Friday nights in the summer for FREE! Let the Music Play! \nDate | Music \n2026 Dates July 10th through August 14th \nmore to come \nUpgrade to VIP\nFor Only $20.00 in Advance.\nEnjoy:\nEntrance to the Community Bank VIP Zone\nOne Complimentary Drink Coupon\nExclusive Views of the Stage\nPersonal Folding Chairs Allowed\nPrivate Bar. We accept credit/debit cards\nCommemorative VIP Lanyard\nComplimentary chair massage\n​VIP Tickets are $25.00 at the door.
URL:https://blackownedinrochester.com/event/bands-on-the-bricks-city-of-rochester-public-market/2026-08-14/
LOCATION:The City of Rochester Public Market\, 280 N Union St\, Rochester\, NY\, 14609\, United States
CATEGORIES:Free Events in Rochester NY,Live Music Rochester NY,Summer Concert Series
ATTACH;FMTTYPE=image/jpeg:https://blackownedinrochester.com/wp-content/uploads/2025/02/RPM-BOTB-Web-Banner-2025-1-1-e1751904655973.jpg
ORGANIZER;CN="Community Organizer":MAILTO:blackownedinrochester+events@gmail.com
END:VEVENT
END:VCALENDAR