BEGIN:VCALENDAR
VERSION:2.0
PRODID:-//Black-Owned in Rochester - ECPv6.15.20//NONSGML v1.0//EN
CALSCALE:GREGORIAN
METHOD:PUBLISH
X-WR-CALNAME:Black-Owned in Rochester
X-ORIGINAL-URL:https://blackownedinrochester.com
X-WR-CALDESC:Events for Black-Owned in Rochester
REFRESH-INTERVAL;VALUE=DURATION:PT1H
X-Robots-Tag:noindex
X-PUBLISHED-TTL:PT1H
BEGIN:VTIMEZONE
TZID:America/New_York
BEGIN:DAYLIGHT
TZOFFSETFROM:-0500
TZOFFSETTO:-0400
TZNAME:EDT
DTSTART:20250309T070000
END:DAYLIGHT
BEGIN:STANDARD
TZOFFSETFROM:-0400
TZOFFSETTO:-0500
TZNAME:EST
DTSTART:20251102T060000
END:STANDARD
BEGIN:DAYLIGHT
TZOFFSETFROM:-0500
TZOFFSETTO:-0400
TZNAME:EDT
DTSTART:20260308T070000
END:DAYLIGHT
BEGIN:STANDARD
TZOFFSETFROM:-0400
TZOFFSETTO:-0500
TZNAME:EST
DTSTART:20261101T060000
END:STANDARD
BEGIN:DAYLIGHT
TZOFFSETFROM:-0500
TZOFFSETTO:-0400
TZNAME:EDT
DTSTART:20270314T070000
END:DAYLIGHT
BEGIN:STANDARD
TZOFFSETFROM:-0400
TZOFFSETTO:-0500
TZNAME:EST
DTSTART:20271107T060000
END:STANDARD
END:VTIMEZONE
BEGIN:VEVENT
DTSTART;TZID=America/New_York:20260429T170000
DTEND;TZID=America/New_York:20260429T210000
DTSTAMP:20260423T121949
CREATED:20250601T175035Z
LAST-MODIFIED:20251024T211124Z
UID:10000680-1777482000-1777496400@blackownedinrochester.com
SUMMARY:The Food Truck Rodeo - City of Rochester Public Market
DESCRIPTION:Spring is here in Rochester and with it comes amazing community events! One of my favorites is the Food Truck Rodeo at the Public Market! The Food Truck Rodeo Features Local food vendors\, local beer and beverages\, and local bands! \nThe dates for the Food Truck Rodeo this year are:\nApril 29\, 2026\, from 5pm EST to 9pm EST\nMay 27\, 2026\, from 5pm EST to 9pm EST\nJune 24\, 2026\, from 5pm EST to 9pm EST\nJuly 29\, 2026\, from 5pm EST to 9pm EST\nAugust 26\, 2026\, from 5pm EST to 9pm EST\nSeptember 30\, 2026\, from 5pm EST to 9pm EST \nAt the Public Market 280 N Union St\, Rochester NY 14605 I can’t wait to check it out with my loved ones! It is an awesome opportunity to get outside\, mingle\, and enjoy the community! Will you be there? Click here to check out the event on Facebook
URL:https://blackownedinrochester.com/event/the-food-truck-rodeo-the-public-market-of-rochester/2026-04-29/
LOCATION:The City of Rochester Public Market\, 280 N Union St\, Rochester\, NY\, 14609\, United States
CATEGORIES:Free Events in Rochester NY,Live Music Rochester NY
ATTACH;FMTTYPE=image/jpeg:https://blackownedinrochester.com/wp-content/uploads/2025/04/RPM-Food-Truck-Web-Banner-2025.jpg
ORGANIZER;CN="Community Organizer":MAILTO:blackownedinrochester+events@gmail.com
END:VEVENT
BEGIN:VEVENT
DTSTART;TZID=America/New_York:20260527T170000
DTEND;TZID=America/New_York:20260527T210000
DTSTAMP:20260423T121949
CREATED:20250601T175035Z
LAST-MODIFIED:20251024T211124Z
UID:10000681-1779901200-1779915600@blackownedinrochester.com
SUMMARY:The Food Truck Rodeo - City of Rochester Public Market
DESCRIPTION:Spring is here in Rochester and with it comes amazing community events! One of my favorites is the Food Truck Rodeo at the Public Market! The Food Truck Rodeo Features Local food vendors\, local beer and beverages\, and local bands! \nThe dates for the Food Truck Rodeo this year are:\nApril 29\, 2026\, from 5pm EST to 9pm EST\nMay 27\, 2026\, from 5pm EST to 9pm EST\nJune 24\, 2026\, from 5pm EST to 9pm EST\nJuly 29\, 2026\, from 5pm EST to 9pm EST\nAugust 26\, 2026\, from 5pm EST to 9pm EST\nSeptember 30\, 2026\, from 5pm EST to 9pm EST \nAt the Public Market 280 N Union St\, Rochester NY 14605 I can’t wait to check it out with my loved ones! It is an awesome opportunity to get outside\, mingle\, and enjoy the community! Will you be there? Click here to check out the event on Facebook
URL:https://blackownedinrochester.com/event/the-food-truck-rodeo-the-public-market-of-rochester/2026-05-27/
LOCATION:The City of Rochester Public Market\, 280 N Union St\, Rochester\, NY\, 14609\, United States
CATEGORIES:Free Events in Rochester NY,Live Music Rochester NY
ATTACH;FMTTYPE=image/jpeg:https://blackownedinrochester.com/wp-content/uploads/2025/04/RPM-Food-Truck-Web-Banner-2025.jpg
ORGANIZER;CN="Community Organizer":MAILTO:blackownedinrochester+events@gmail.com
END:VEVENT
BEGIN:VEVENT
DTSTART;TZID=America/New_York:20260624T170000
DTEND;TZID=America/New_York:20260624T210000
DTSTAMP:20260423T121949
CREATED:20250601T175035Z
LAST-MODIFIED:20251024T211124Z
UID:10000682-1782320400-1782334800@blackownedinrochester.com
SUMMARY:The Food Truck Rodeo - City of Rochester Public Market
DESCRIPTION:Spring is here in Rochester and with it comes amazing community events! One of my favorites is the Food Truck Rodeo at the Public Market! The Food Truck Rodeo Features Local food vendors\, local beer and beverages\, and local bands! \nThe dates for the Food Truck Rodeo this year are:\nApril 29\, 2026\, from 5pm EST to 9pm EST\nMay 27\, 2026\, from 5pm EST to 9pm EST\nJune 24\, 2026\, from 5pm EST to 9pm EST\nJuly 29\, 2026\, from 5pm EST to 9pm EST\nAugust 26\, 2026\, from 5pm EST to 9pm EST\nSeptember 30\, 2026\, from 5pm EST to 9pm EST \nAt the Public Market 280 N Union St\, Rochester NY 14605 I can’t wait to check it out with my loved ones! It is an awesome opportunity to get outside\, mingle\, and enjoy the community! Will you be there? Click here to check out the event on Facebook
URL:https://blackownedinrochester.com/event/the-food-truck-rodeo-the-public-market-of-rochester/2026-06-24/
LOCATION:The City of Rochester Public Market\, 280 N Union St\, Rochester\, NY\, 14609\, United States
CATEGORIES:Free Events in Rochester NY,Live Music Rochester NY
ATTACH;FMTTYPE=image/jpeg:https://blackownedinrochester.com/wp-content/uploads/2025/04/RPM-Food-Truck-Web-Banner-2025.jpg
ORGANIZER;CN="Community Organizer":MAILTO:blackownedinrochester+events@gmail.com
END:VEVENT
BEGIN:VEVENT
DTSTART;TZID=America/New_York:20260729T170000
DTEND;TZID=America/New_York:20260729T210000
DTSTAMP:20260423T121949
CREATED:20250601T175035Z
LAST-MODIFIED:20251024T211124Z
UID:10000683-1785344400-1785358800@blackownedinrochester.com
SUMMARY:The Food Truck Rodeo - City of Rochester Public Market
DESCRIPTION:Spring is here in Rochester and with it comes amazing community events! One of my favorites is the Food Truck Rodeo at the Public Market! The Food Truck Rodeo Features Local food vendors\, local beer and beverages\, and local bands! \nThe dates for the Food Truck Rodeo this year are:\nApril 29\, 2026\, from 5pm EST to 9pm EST\nMay 27\, 2026\, from 5pm EST to 9pm EST\nJune 24\, 2026\, from 5pm EST to 9pm EST\nJuly 29\, 2026\, from 5pm EST to 9pm EST\nAugust 26\, 2026\, from 5pm EST to 9pm EST\nSeptember 30\, 2026\, from 5pm EST to 9pm EST \nAt the Public Market 280 N Union St\, Rochester NY 14605 I can’t wait to check it out with my loved ones! It is an awesome opportunity to get outside\, mingle\, and enjoy the community! Will you be there? Click here to check out the event on Facebook
URL:https://blackownedinrochester.com/event/the-food-truck-rodeo-the-public-market-of-rochester/2026-07-29/
LOCATION:The City of Rochester Public Market\, 280 N Union St\, Rochester\, NY\, 14609\, United States
CATEGORIES:Free Events in Rochester NY,Live Music Rochester NY
ATTACH;FMTTYPE=image/jpeg:https://blackownedinrochester.com/wp-content/uploads/2025/04/RPM-Food-Truck-Web-Banner-2025.jpg
ORGANIZER;CN="Community Organizer":MAILTO:blackownedinrochester+events@gmail.com
END:VEVENT
BEGIN:VEVENT
DTSTART;TZID=America/New_York:20260826T170000
DTEND;TZID=America/New_York:20260826T210000
DTSTAMP:20260423T121949
CREATED:20250601T175035Z
LAST-MODIFIED:20251024T211124Z
UID:10000684-1787763600-1787778000@blackownedinrochester.com
SUMMARY:The Food Truck Rodeo - City of Rochester Public Market
DESCRIPTION:Spring is here in Rochester and with it comes amazing community events! One of my favorites is the Food Truck Rodeo at the Public Market! The Food Truck Rodeo Features Local food vendors\, local beer and beverages\, and local bands! \nThe dates for the Food Truck Rodeo this year are:\nApril 29\, 2026\, from 5pm EST to 9pm EST\nMay 27\, 2026\, from 5pm EST to 9pm EST\nJune 24\, 2026\, from 5pm EST to 9pm EST\nJuly 29\, 2026\, from 5pm EST to 9pm EST\nAugust 26\, 2026\, from 5pm EST to 9pm EST\nSeptember 30\, 2026\, from 5pm EST to 9pm EST \nAt the Public Market 280 N Union St\, Rochester NY 14605 I can’t wait to check it out with my loved ones! It is an awesome opportunity to get outside\, mingle\, and enjoy the community! Will you be there? Click here to check out the event on Facebook
URL:https://blackownedinrochester.com/event/the-food-truck-rodeo-the-public-market-of-rochester/2026-08-26/
LOCATION:The City of Rochester Public Market\, 280 N Union St\, Rochester\, NY\, 14609\, United States
CATEGORIES:Free Events in Rochester NY,Live Music Rochester NY
ATTACH;FMTTYPE=image/jpeg:https://blackownedinrochester.com/wp-content/uploads/2025/04/RPM-Food-Truck-Web-Banner-2025.jpg
ORGANIZER;CN="Community Organizer":MAILTO:blackownedinrochester+events@gmail.com
END:VEVENT
BEGIN:VEVENT
DTSTART;TZID=America/New_York:20260930T170000
DTEND;TZID=America/New_York:20260930T210000
DTSTAMP:20260423T121949
CREATED:20250601T175035Z
LAST-MODIFIED:20251024T211124Z
UID:10000685-1790787600-1790802000@blackownedinrochester.com
SUMMARY:The Food Truck Rodeo - City of Rochester Public Market
DESCRIPTION:Spring is here in Rochester and with it comes amazing community events! One of my favorites is the Food Truck Rodeo at the Public Market! The Food Truck Rodeo Features Local food vendors\, local beer and beverages\, and local bands! \nThe dates for the Food Truck Rodeo this year are:\nApril 29\, 2026\, from 5pm EST to 9pm EST\nMay 27\, 2026\, from 5pm EST to 9pm EST\nJune 24\, 2026\, from 5pm EST to 9pm EST\nJuly 29\, 2026\, from 5pm EST to 9pm EST\nAugust 26\, 2026\, from 5pm EST to 9pm EST\nSeptember 30\, 2026\, from 5pm EST to 9pm EST \nAt the Public Market 280 N Union St\, Rochester NY 14605 I can’t wait to check it out with my loved ones! It is an awesome opportunity to get outside\, mingle\, and enjoy the community! Will you be there? Click here to check out the event on Facebook
URL:https://blackownedinrochester.com/event/the-food-truck-rodeo-the-public-market-of-rochester/2026-09-30/
LOCATION:The City of Rochester Public Market\, 280 N Union St\, Rochester\, NY\, 14609\, United States
CATEGORIES:Free Events in Rochester NY,Live Music Rochester NY
ATTACH;FMTTYPE=image/jpeg:https://blackownedinrochester.com/wp-content/uploads/2025/04/RPM-Food-Truck-Web-Banner-2025.jpg
ORGANIZER;CN="Community Organizer":MAILTO:blackownedinrochester+events@gmail.com
END:VEVENT
END:VCALENDAR