BEGIN:VCALENDAR
VERSION:2.0
PRODID:-//Black-Owned in Rochester - ECPv6.15.20//NONSGML v1.0//EN
CALSCALE:GREGORIAN
METHOD:PUBLISH
X-ORIGINAL-URL:https://blackownedinrochester.com
X-WR-CALDESC:Events for Black-Owned in Rochester
REFRESH-INTERVAL;VALUE=DURATION:PT1H
X-Robots-Tag:noindex
X-PUBLISHED-TTL:PT1H
BEGIN:VTIMEZONE
TZID:America/New_York
BEGIN:DAYLIGHT
TZOFFSETFROM:-0500
TZOFFSETTO:-0400
TZNAME:EDT
DTSTART:20250309T070000
END:DAYLIGHT
BEGIN:STANDARD
TZOFFSETFROM:-0400
TZOFFSETTO:-0500
TZNAME:EST
DTSTART:20251102T060000
END:STANDARD
BEGIN:DAYLIGHT
TZOFFSETFROM:-0500
TZOFFSETTO:-0400
TZNAME:EDT
DTSTART:20260308T070000
END:DAYLIGHT
BEGIN:STANDARD
TZOFFSETFROM:-0400
TZOFFSETTO:-0500
TZNAME:EST
DTSTART:20261101T060000
END:STANDARD
BEGIN:DAYLIGHT
TZOFFSETFROM:-0500
TZOFFSETTO:-0400
TZNAME:EDT
DTSTART:20270314T070000
END:DAYLIGHT
BEGIN:STANDARD
TZOFFSETFROM:-0400
TZOFFSETTO:-0500
TZNAME:EST
DTSTART:20271107T060000
END:STANDARD
END:VTIMEZONE
BEGIN:VEVENT
DTSTART;TZID=America/New_York:20260806T180000
DTEND;TZID=America/New_York:20260806T220000
DTSTAMP:20260423T135214
CREATED:20260408T022754Z
LAST-MODIFIED:20260409T023614Z
UID:10000783-1786039200-1786053600@blackownedinrochester.com
SUMMARY:Party In The Park
DESCRIPTION:Every summer in downtown Rochester\, Martin Luther King Jr. Park transforms into a music mecca for 6 weeks every Thursday\, hosted by the City of Rochester. Now in its 29th year\, the 2026 Party in the Park concert series presents a wide range of music including blues\, funk\, rock\, reggae\, and classic rock attracting devoted music fans and families to come out and enjoy the beautiful summer season. \nGuest Info \nHow do I buy tickets? \nTickets\n$7 Individual General Admission tickets (children 12 and under are free) & $35 Individual\, VIP Ultra Lounge Tickets are on sale at: \nwww.RochesterEvents.com \nThe gate on the day of the show\, if available. Gates open at 6 p.m. and entry is allowed until 9:00 p.m. \nThe RBTL box office\, 885 E Main St.\n800-745-3000 (with associated service charges).\nOnce the event sells out\, no additional tickets will be available for purchase.\n2026 Line up coming soon
URL:https://blackownedinrochester.com/event/party-in-the-park/2026-08-06/
LOCATION:Dr. Martin Luther King Jr. Memorial Park\, 353 Court St.\, Rochester\, 14607\, United States
CATEGORIES:Live Music Rochester NY,Summer Concert Series
ATTACH;FMTTYPE=image/png:https://blackownedinrochester.com/wp-content/uploads/2024/07/Screenshot-2026-04-07-at-10.19.38-PM.png
ORGANIZER;CN="Community Organizer":MAILTO:blackownedinrochester+events@gmail.com
END:VEVENT
BEGIN:VEVENT
DTSTART;TZID=America/New_York:20260807T180000
DTEND;TZID=America/New_York:20260807T220000
DTSTAMP:20260423T135214
CREATED:20260307T050625Z
LAST-MODIFIED:20260409T023616Z
UID:10000767-1786125600-1786140000@blackownedinrochester.com
SUMMARY:Bands on the Bricks - City of Rochester Public Market
DESCRIPTION:The Market’s Signature Free Summer Live Music Series \nOne of Rochester’s most popular FREE concert series\, Bands on the Bricks brings the City of Rochester Public Market to the evening set with national-act and local live music on five consecutive Friday nights in July and August. Food and drink vendors will be there to complete your night! For more information\, visit bandsonthebricksroc.com. \nJoin us Friday Nights at Rochester’s Public Market with plenty of FREE parking \nGet ready to experience the pulse of the city’s vibrant music scene as we bring you the most electrifying live performances in the heart of downtown Rochester Friday nights in the summer for FREE! Let the Music Play! \nDate | Music \n2026 Dates July 10th through August 14th \nmore to come \nUpgrade to VIP\nFor Only $20.00 in Advance.\nEnjoy:\nEntrance to the Community Bank VIP Zone\nOne Complimentary Drink Coupon\nExclusive Views of the Stage\nPersonal Folding Chairs Allowed\nPrivate Bar. We accept credit/debit cards\nCommemorative VIP Lanyard\nComplimentary chair massage\n​VIP Tickets are $25.00 at the door.
URL:https://blackownedinrochester.com/event/bands-on-the-bricks-city-of-rochester-public-market/2026-08-07/
LOCATION:The City of Rochester Public Market\, 280 N Union St\, Rochester\, NY\, 14609\, United States
CATEGORIES:Free Events in Rochester NY,Live Music Rochester NY,Summer Concert Series
ATTACH;FMTTYPE=image/jpeg:https://blackownedinrochester.com/wp-content/uploads/2025/02/RPM-BOTB-Web-Banner-2025-1-1-e1751904655973.jpg
ORGANIZER;CN="Community Organizer":MAILTO:blackownedinrochester+events@gmail.com
END:VEVENT
BEGIN:VEVENT
DTSTART;TZID=America/New_York:20260807T183000
DTEND;TZID=America/New_York:20260807T220000
DTSTAMP:20260423T135214
CREATED:20250326T043107Z
LAST-MODIFIED:20260409T023612Z
UID:10000834-1786127400-1786140000@blackownedinrochester.com
SUMMARY:Pittsford Summer Concert Series
DESCRIPTION:About the Summer Concert Series\nFree annual concert series along the canal in Carpenter Park at the Port of Pittsford Park on Friday evenings\, featuring a variety of musical styles throughout the season; open to the public. Port of Pittsford Park includes a band pavilion and amenities for boaters – potable water\, electrical hookups and dock space. \nJune through August \nFriday Nights Along the Canal • 6:30PM \nCarpenter Park at the Port of Pittsford | 22 North Main Street \nFREE & OPEN TO THE PUBLIC \nJune 5: Pittsford Mendon and Sutherland Jazz Ensembles (Jazz Orchestra)\nJune 12: 198th Army Band  (Modern Rock and Traditional Patriotic Music)\nJune 19: Judah Sealy (Jazz)\nJune 26: Mudd Creek (Classic Roots Rock)\nJuly 10: Rochester Metropolitan Jazz Orchestra (Jazz Orchestra)\nJuly 17: Isaac Cole Band (Country – From Nashville TN\, former American Idol contestant)\nJuly 24: The Petty Project (Tom Petty Tribute)\nJuly 31: Bill Tiberio Band (Jazz)\nAugust 7: The Earthtones (Classic Rock)\nAugust 14: A Girl Named Genny (Performing a Tribute to The Avett Brothers)\nAugust 21: Pittsford Fire Department Band (Traditional Marches and Popular Patriotic Music)\nConcerts for Kids Wednesdays at 6:30pm July 15\, July 29 & August 12
URL:https://blackownedinrochester.com/event/pittsford-summer-concert-series/2026-08-07/
LOCATION:Main Street\, 22 North Main St.\, Pittsford\, NY\, 14534\, United States
CATEGORIES:Free Events in Rochester NY,Live Music Rochester NY,Summer Concert Series
ATTACH;FMTTYPE=image/png:https://blackownedinrochester.com/wp-content/uploads/2024/07/pittsford-summer-concert-series-june-through-august.png
ORGANIZER;CN="Community Organizer":MAILTO:blackownedinrochester+events@gmail.com
END:VEVENT
BEGIN:VEVENT
DTSTART;TZID=America/New_York:20260812T183000
DTEND;TZID=America/New_York:20260812T210000
DTSTAMP:20260423T135214
CREATED:20251015T190053Z
LAST-MODIFIED:20260409T023605Z
UID:10000825-1786559400-1786568400@blackownedinrochester.com
SUMMARY:Summer Concerts for Kids - Pittsford
DESCRIPTION:Free annual concerts at the Spiegel Pittsford Community Center three Wednesday evenings (July 15\, July 29 and August 12)\, featuring great interactive music and fun for the whole family; open to the public. \nThe Spiegel Pittsford Community Center is located at 35 Lincoln Avenue in Pittsford. \nFREE & OPEN TO THE PUBLIC \nFree concerts featuring great interactive music and fun for the whole family; open to the public\, and Kona Ice on site. \nWednesday\, July 15\nJohn Dady and John Ryan (Americana Children’s Music) \nWednesday\, July 29\nRay Mahar (Family Friendly Music) \nWednesday\, August 12\nThe Happy Pirates (High Energy Children’s Music)
URL:https://blackownedinrochester.com/event/summer-concerts-for-kids-pittsford/2026-08-12/
LOCATION:Spiegel Pittsford Community Center\, 35 Lincoln Ave\, Pittsford\, NY\, 14534\, United States
CATEGORIES:Free Events in Rochester NY,Live Music Rochester NY,Summer Concert Series
ATTACH;FMTTYPE=image/png:https://blackownedinrochester.com/wp-content/uploads/2024/07/Screen-Shot-2024-07-22-at-2.22.38-PM.png
ORGANIZER;CN="Community Organizer":MAILTO:blackownedinrochester+events@gmail.com
END:VEVENT
BEGIN:VEVENT
DTSTART;TZID=America/New_York:20260812T190000
DTEND;TZID=America/New_York:20260812T220000
DTSTAMP:20260423T135214
CREATED:20250708T155746Z
LAST-MODIFIED:20260409T023611Z
UID:10000843-1786561200-1786572000@blackownedinrochester.com
SUMMARY:Summer Concert Series - East Rochester
DESCRIPTION:This is a free concert series featuring local talent held during the early evening hours in the Municipal Lot adjacent to the Eyer Building\, 317 Main Street. All concerts begin at 7:00 pm. This year’s series is sponsored by Hoselton Auto Mall & The East Rochester Chamber of Commerce. \nSummer Concert Series – Coordinators John & JoAnn Alfieri\nThis is a free concert series featuring local talent held during the early evening hours in the Municipal Lot adjacent to the Eyer Building\, 317 Main Street. All concerts begin at 7:00 pm. This year’s series is sponsored by Hoselton Auto Mall & The East Rochester Chamber of Commerce. \nJuly 1: Ruby Shooz\nJuly 8: Blackwater\nJuly 15: Haywire\nJuly 22 – Sticks & Stones FD Chicken BBQ\nJuly 29: BB Dang\nAugust 5: DIAL UP\nAugust 12: Atlas\nAugust 19: Reporter\nAugust 26: Zach Brown Tribute Band
URL:https://blackownedinrochester.com/event/summer-concert-series-east-rochester/2026-08-12/
LOCATION:Eyer Building\, 295 Main St\, East Rochester\, 14445\, United States
CATEGORIES:Free Events in Rochester NY,Live Music Rochester NY,Summer Concert Series
ORGANIZER;CN="Community Organizer":MAILTO:blackownedinrochester+events@gmail.com
END:VEVENT
BEGIN:VEVENT
DTSTART;TZID=America/New_York:20260813T180000
DTEND;TZID=America/New_York:20260813T220000
DTSTAMP:20260423T135214
CREATED:20260408T022754Z
LAST-MODIFIED:20260409T023614Z
UID:10000784-1786644000-1786658400@blackownedinrochester.com
SUMMARY:Party In The Park
DESCRIPTION:Every summer in downtown Rochester\, Martin Luther King Jr. Park transforms into a music mecca for 6 weeks every Thursday\, hosted by the City of Rochester. Now in its 29th year\, the 2026 Party in the Park concert series presents a wide range of music including blues\, funk\, rock\, reggae\, and classic rock attracting devoted music fans and families to come out and enjoy the beautiful summer season. \nGuest Info \nHow do I buy tickets? \nTickets\n$7 Individual General Admission tickets (children 12 and under are free) & $35 Individual\, VIP Ultra Lounge Tickets are on sale at: \nwww.RochesterEvents.com \nThe gate on the day of the show\, if available. Gates open at 6 p.m. and entry is allowed until 9:00 p.m. \nThe RBTL box office\, 885 E Main St.\n800-745-3000 (with associated service charges).\nOnce the event sells out\, no additional tickets will be available for purchase.\n2026 Line up coming soon
URL:https://blackownedinrochester.com/event/party-in-the-park/2026-08-13/
LOCATION:Dr. Martin Luther King Jr. Memorial Park\, 353 Court St.\, Rochester\, 14607\, United States
CATEGORIES:Live Music Rochester NY,Summer Concert Series
ATTACH;FMTTYPE=image/png:https://blackownedinrochester.com/wp-content/uploads/2024/07/Screenshot-2026-04-07-at-10.19.38-PM.png
ORGANIZER;CN="Community Organizer":MAILTO:blackownedinrochester+events@gmail.com
END:VEVENT
BEGIN:VEVENT
DTSTART;TZID=America/New_York:20260814T180000
DTEND;TZID=America/New_York:20260814T220000
DTSTAMP:20260423T135214
CREATED:20260307T050625Z
LAST-MODIFIED:20260409T023616Z
UID:10000768-1786730400-1786744800@blackownedinrochester.com
SUMMARY:Bands on the Bricks - City of Rochester Public Market
DESCRIPTION:The Market’s Signature Free Summer Live Music Series \nOne of Rochester’s most popular FREE concert series\, Bands on the Bricks brings the City of Rochester Public Market to the evening set with national-act and local live music on five consecutive Friday nights in July and August. Food and drink vendors will be there to complete your night! For more information\, visit bandsonthebricksroc.com. \nJoin us Friday Nights at Rochester’s Public Market with plenty of FREE parking \nGet ready to experience the pulse of the city’s vibrant music scene as we bring you the most electrifying live performances in the heart of downtown Rochester Friday nights in the summer for FREE! Let the Music Play! \nDate | Music \n2026 Dates July 10th through August 14th \nmore to come \nUpgrade to VIP\nFor Only $20.00 in Advance.\nEnjoy:\nEntrance to the Community Bank VIP Zone\nOne Complimentary Drink Coupon\nExclusive Views of the Stage\nPersonal Folding Chairs Allowed\nPrivate Bar. We accept credit/debit cards\nCommemorative VIP Lanyard\nComplimentary chair massage\n​VIP Tickets are $25.00 at the door.
URL:https://blackownedinrochester.com/event/bands-on-the-bricks-city-of-rochester-public-market/2026-08-14/
LOCATION:The City of Rochester Public Market\, 280 N Union St\, Rochester\, NY\, 14609\, United States
CATEGORIES:Free Events in Rochester NY,Live Music Rochester NY,Summer Concert Series
ATTACH;FMTTYPE=image/jpeg:https://blackownedinrochester.com/wp-content/uploads/2025/02/RPM-BOTB-Web-Banner-2025-1-1-e1751904655973.jpg
ORGANIZER;CN="Community Organizer":MAILTO:blackownedinrochester+events@gmail.com
END:VEVENT
BEGIN:VEVENT
DTSTART;TZID=America/New_York:20260814T183000
DTEND;TZID=America/New_York:20260814T220000
DTSTAMP:20260423T135214
CREATED:20250326T043107Z
LAST-MODIFIED:20260409T023612Z
UID:10000835-1786732200-1786744800@blackownedinrochester.com
SUMMARY:Pittsford Summer Concert Series
DESCRIPTION:About the Summer Concert Series\nFree annual concert series along the canal in Carpenter Park at the Port of Pittsford Park on Friday evenings\, featuring a variety of musical styles throughout the season; open to the public. Port of Pittsford Park includes a band pavilion and amenities for boaters – potable water\, electrical hookups and dock space. \nJune through August \nFriday Nights Along the Canal • 6:30PM \nCarpenter Park at the Port of Pittsford | 22 North Main Street \nFREE & OPEN TO THE PUBLIC \nJune 5: Pittsford Mendon and Sutherland Jazz Ensembles (Jazz Orchestra)\nJune 12: 198th Army Band  (Modern Rock and Traditional Patriotic Music)\nJune 19: Judah Sealy (Jazz)\nJune 26: Mudd Creek (Classic Roots Rock)\nJuly 10: Rochester Metropolitan Jazz Orchestra (Jazz Orchestra)\nJuly 17: Isaac Cole Band (Country – From Nashville TN\, former American Idol contestant)\nJuly 24: The Petty Project (Tom Petty Tribute)\nJuly 31: Bill Tiberio Band (Jazz)\nAugust 7: The Earthtones (Classic Rock)\nAugust 14: A Girl Named Genny (Performing a Tribute to The Avett Brothers)\nAugust 21: Pittsford Fire Department Band (Traditional Marches and Popular Patriotic Music)\nConcerts for Kids Wednesdays at 6:30pm July 15\, July 29 & August 12
URL:https://blackownedinrochester.com/event/pittsford-summer-concert-series/2026-08-14/
LOCATION:Main Street\, 22 North Main St.\, Pittsford\, NY\, 14534\, United States
CATEGORIES:Free Events in Rochester NY,Live Music Rochester NY,Summer Concert Series
ATTACH;FMTTYPE=image/png:https://blackownedinrochester.com/wp-content/uploads/2024/07/pittsford-summer-concert-series-june-through-august.png
ORGANIZER;CN="Community Organizer":MAILTO:blackownedinrochester+events@gmail.com
END:VEVENT
BEGIN:VEVENT
DTSTART;TZID=America/New_York:20260819T190000
DTEND;TZID=America/New_York:20260819T220000
DTSTAMP:20260423T135214
CREATED:20250708T155746Z
LAST-MODIFIED:20260409T023611Z
UID:10000844-1787166000-1787176800@blackownedinrochester.com
SUMMARY:Summer Concert Series - East Rochester
DESCRIPTION:This is a free concert series featuring local talent held during the early evening hours in the Municipal Lot adjacent to the Eyer Building\, 317 Main Street. All concerts begin at 7:00 pm. This year’s series is sponsored by Hoselton Auto Mall & The East Rochester Chamber of Commerce. \nSummer Concert Series – Coordinators John & JoAnn Alfieri\nThis is a free concert series featuring local talent held during the early evening hours in the Municipal Lot adjacent to the Eyer Building\, 317 Main Street. All concerts begin at 7:00 pm. This year’s series is sponsored by Hoselton Auto Mall & The East Rochester Chamber of Commerce. \nJuly 1: Ruby Shooz\nJuly 8: Blackwater\nJuly 15: Haywire\nJuly 22 – Sticks & Stones FD Chicken BBQ\nJuly 29: BB Dang\nAugust 5: DIAL UP\nAugust 12: Atlas\nAugust 19: Reporter\nAugust 26: Zach Brown Tribute Band
URL:https://blackownedinrochester.com/event/summer-concert-series-east-rochester/2026-08-19/
LOCATION:Eyer Building\, 295 Main St\, East Rochester\, 14445\, United States
CATEGORIES:Free Events in Rochester NY,Live Music Rochester NY,Summer Concert Series
ORGANIZER;CN="Community Organizer":MAILTO:blackownedinrochester+events@gmail.com
END:VEVENT
BEGIN:VEVENT
DTSTART;TZID=America/New_York:20260821T183000
DTEND;TZID=America/New_York:20260821T220000
DTSTAMP:20260423T135214
CREATED:20250326T043107Z
LAST-MODIFIED:20260409T023612Z
UID:10000836-1787337000-1787349600@blackownedinrochester.com
SUMMARY:Pittsford Summer Concert Series
DESCRIPTION:About the Summer Concert Series\nFree annual concert series along the canal in Carpenter Park at the Port of Pittsford Park on Friday evenings\, featuring a variety of musical styles throughout the season; open to the public. Port of Pittsford Park includes a band pavilion and amenities for boaters – potable water\, electrical hookups and dock space. \nJune through August \nFriday Nights Along the Canal • 6:30PM \nCarpenter Park at the Port of Pittsford | 22 North Main Street \nFREE & OPEN TO THE PUBLIC \nJune 5: Pittsford Mendon and Sutherland Jazz Ensembles (Jazz Orchestra)\nJune 12: 198th Army Band  (Modern Rock and Traditional Patriotic Music)\nJune 19: Judah Sealy (Jazz)\nJune 26: Mudd Creek (Classic Roots Rock)\nJuly 10: Rochester Metropolitan Jazz Orchestra (Jazz Orchestra)\nJuly 17: Isaac Cole Band (Country – From Nashville TN\, former American Idol contestant)\nJuly 24: The Petty Project (Tom Petty Tribute)\nJuly 31: Bill Tiberio Band (Jazz)\nAugust 7: The Earthtones (Classic Rock)\nAugust 14: A Girl Named Genny (Performing a Tribute to The Avett Brothers)\nAugust 21: Pittsford Fire Department Band (Traditional Marches and Popular Patriotic Music)\nConcerts for Kids Wednesdays at 6:30pm July 15\, July 29 & August 12
URL:https://blackownedinrochester.com/event/pittsford-summer-concert-series/2026-08-21/
LOCATION:Main Street\, 22 North Main St.\, Pittsford\, NY\, 14534\, United States
CATEGORIES:Free Events in Rochester NY,Live Music Rochester NY,Summer Concert Series
ATTACH;FMTTYPE=image/png:https://blackownedinrochester.com/wp-content/uploads/2024/07/pittsford-summer-concert-series-june-through-august.png
ORGANIZER;CN="Community Organizer":MAILTO:blackownedinrochester+events@gmail.com
END:VEVENT
BEGIN:VEVENT
DTSTART;TZID=America/New_York:20260826T190000
DTEND;TZID=America/New_York:20260826T220000
DTSTAMP:20260423T135214
CREATED:20250708T155746Z
LAST-MODIFIED:20260409T023611Z
UID:10000845-1787770800-1787781600@blackownedinrochester.com
SUMMARY:Summer Concert Series - East Rochester
DESCRIPTION:This is a free concert series featuring local talent held during the early evening hours in the Municipal Lot adjacent to the Eyer Building\, 317 Main Street. All concerts begin at 7:00 pm. This year’s series is sponsored by Hoselton Auto Mall & The East Rochester Chamber of Commerce. \nSummer Concert Series – Coordinators John & JoAnn Alfieri\nThis is a free concert series featuring local talent held during the early evening hours in the Municipal Lot adjacent to the Eyer Building\, 317 Main Street. All concerts begin at 7:00 pm. This year’s series is sponsored by Hoselton Auto Mall & The East Rochester Chamber of Commerce. \nJuly 1: Ruby Shooz\nJuly 8: Blackwater\nJuly 15: Haywire\nJuly 22 – Sticks & Stones FD Chicken BBQ\nJuly 29: BB Dang\nAugust 5: DIAL UP\nAugust 12: Atlas\nAugust 19: Reporter\nAugust 26: Zach Brown Tribute Band
URL:https://blackownedinrochester.com/event/summer-concert-series-east-rochester/2026-08-26/
LOCATION:Eyer Building\, 295 Main St\, East Rochester\, 14445\, United States
CATEGORIES:Free Events in Rochester NY,Live Music Rochester NY,Summer Concert Series
ORGANIZER;CN="Community Organizer":MAILTO:blackownedinrochester+events@gmail.com
END:VEVENT
END:VCALENDAR