BEGIN:VCALENDAR
VERSION:2.0
PRODID:-//Black-Owned in Rochester - ECPv6.15.20//NONSGML v1.0//EN
CALSCALE:GREGORIAN
METHOD:PUBLISH
X-ORIGINAL-URL:https://blackownedinrochester.com
X-WR-CALDESC:Events for Black-Owned in Rochester
REFRESH-INTERVAL;VALUE=DURATION:PT1H
X-Robots-Tag:noindex
X-PUBLISHED-TTL:PT1H
BEGIN:VTIMEZONE
TZID:America/New_York
BEGIN:DAYLIGHT
TZOFFSETFROM:-0500
TZOFFSETTO:-0400
TZNAME:EDT
DTSTART:20250309T070000
END:DAYLIGHT
BEGIN:STANDARD
TZOFFSETFROM:-0400
TZOFFSETTO:-0500
TZNAME:EST
DTSTART:20251102T060000
END:STANDARD
BEGIN:DAYLIGHT
TZOFFSETFROM:-0500
TZOFFSETTO:-0400
TZNAME:EDT
DTSTART:20260308T070000
END:DAYLIGHT
BEGIN:STANDARD
TZOFFSETFROM:-0400
TZOFFSETTO:-0500
TZNAME:EST
DTSTART:20261101T060000
END:STANDARD
BEGIN:DAYLIGHT
TZOFFSETFROM:-0500
TZOFFSETTO:-0400
TZNAME:EDT
DTSTART:20270314T070000
END:DAYLIGHT
BEGIN:STANDARD
TZOFFSETFROM:-0400
TZOFFSETTO:-0500
TZNAME:EST
DTSTART:20271107T060000
END:STANDARD
END:VTIMEZONE
BEGIN:VEVENT
DTSTART;TZID=America/New_York:20260422T190000
DTEND;TZID=America/New_York:20260422T210000
DTSTAMP:20260423T123220
CREATED:20260306T204328Z
LAST-MODIFIED:20260306T204328Z
UID:10000709-1776884400-1776891600@blackownedinrochester.com
SUMMARY:Adult Skate Night @ Willie W Lightfoot R-Center
DESCRIPTION:Bring your skates to get your roll on with your peers. You will enjoy great music and fun conversations with others while skating. Please note all exclusion dates for skate night!\nRestrictions\nGender\nCo-ed\nAge Restriction\n18+
URL:https://blackownedinrochester.com/event/adult-skate-night-willie-w-lightfoot-r-center/2026-04-22/
LOCATION:Willie W. Lightfoot R-Center\, 271 Flint St\, Rochester\, NY\, 14608\, United States
CATEGORIES:Free Events in Rochester NY
ORGANIZER;CN="Community Organizer":MAILTO:blackownedinrochester+events@gmail.com
END:VEVENT
BEGIN:VEVENT
DTSTART;TZID=America/New_York:20260419T090000
DTEND;TZID=America/New_York:20260419T150000
DTSTAMP:20260423T123220
CREATED:20260306T050003Z
LAST-MODIFIED:20260306T225351Z
UID:10000721-1776589200-1776610800@blackownedinrochester.com
SUMMARY:The Great New York State Flea at the Public Market
DESCRIPTION:The City of Rochester Public Market offers dozens of garage sales with bargains on everything from furniture to clothing; collectibles to jewelry; artwork to trinkets… all in one location! From spring through the Fall\, stop by the Market every other Sunday to join us for the largest community garage sales and superfleas!
URL:https://blackownedinrochester.com/event/community-garage-sales-and-superfleas-city-of-rochester-public-market/2026-04-19/
LOCATION:The City of Rochester Public Market\, 280 N Union St\, Rochester\, NY\, 14609\, United States
CATEGORIES:Free Events in Rochester NY,Rochester Flea Markets
ATTACH;FMTTYPE=image/jpeg:https://blackownedinrochester.com/wp-content/uploads/2024/03/RPM-Garage-Sales-Web-Banner-2025-1.jpg
ORGANIZER;CN="Community Organizer":MAILTO:blackownedinrochester+events@gmail.com
END:VEVENT
BEGIN:VEVENT
DTSTART;TZID=America/New_York:20260415T190000
DTEND;TZID=America/New_York:20260415T210000
DTSTAMP:20260423T123220
CREATED:20260306T204328Z
LAST-MODIFIED:20260306T204328Z
UID:10000708-1776279600-1776286800@blackownedinrochester.com
SUMMARY:Adult Skate Night @ Willie W Lightfoot R-Center
DESCRIPTION:Bring your skates to get your roll on with your peers. You will enjoy great music and fun conversations with others while skating. Please note all exclusion dates for skate night!\nRestrictions\nGender\nCo-ed\nAge Restriction\n18+
URL:https://blackownedinrochester.com/event/adult-skate-night-willie-w-lightfoot-r-center/2026-04-15/
LOCATION:Willie W. Lightfoot R-Center\, 271 Flint St\, Rochester\, NY\, 14608\, United States
CATEGORIES:Free Events in Rochester NY
ORGANIZER;CN="Community Organizer":MAILTO:blackownedinrochester+events@gmail.com
END:VEVENT
BEGIN:VEVENT
DTSTART;TZID=America/New_York:20260412T100000
DTEND;TZID=America/New_York:20260412T160000
DTSTAMP:20260423T123220
CREATED:20260409T152346Z
LAST-MODIFIED:20260409T152346Z
UID:10000850-1775988000-1776009600@blackownedinrochester.com
SUMMARY:Down to Earth Market - RocOnly Events
DESCRIPTION:We’re bringing an Earth-inspired market to one of Rochester’s most iconic spaces!!\nRocOnly Events is partnering with Brown Hound Downtown Restaurant\, located within the Memorial Art Gallery\, and local artist\, Sad Scribbles to bring you the Down to Earth Market\, held inside the Memorial Art Gallery’s M&T ballroom.\nThis thoughtfully curated event brings together local vendors\, hands-on experiences\, and community-driven organizations for a day centered around sustainability and supporting local.\nBrowse a wide variety of businesses offering jewelry\, clothing\, plants\, and environmentally conscious goods\, including favorites like The Bird House and Abundance Food Co-op.\nThroughout the day\, guests can enjoy:\n🌱 A build-your-own seed bar\n🎨 Live painting with Praise the Sun Shop\n🖊 Flash tattoos\n📸 Photo opportunities\n🎟 A raffle benefiting Wild Wings\, Rochester’s beloved bird rehabilitation center\nPlus\, enjoy food and drinks from Brown Hound Downtown\nWhether you pop in or stay awhile\, it’s a great opportunity to support local businesses & makers and connect with the community.
URL:https://blackownedinrochester.com/event/down-to-earth-market-roconly-events/
LOCATION:Memorial Art Gallery\, 500 University Ave\, Rochester\, 14607\, United States
CATEGORIES:Free Events in Rochester NY,Vendor Markets Rochester NY
ATTACH;FMTTYPE=image/jpeg:https://blackownedinrochester.com/wp-content/uploads/2026/04/633654689_932802135997867_3452495436991762801_n.jpg
ORGANIZER;CN="Community Organizer":MAILTO:blackownedinrochester+events@gmail.com
END:VEVENT
BEGIN:VEVENT
DTSTART;TZID=America/New_York:20260408T190000
DTEND;TZID=America/New_York:20260408T210000
DTSTAMP:20260423T123220
CREATED:20260306T204328Z
LAST-MODIFIED:20260306T204328Z
UID:10000707-1775674800-1775682000@blackownedinrochester.com
SUMMARY:Adult Skate Night @ Willie W Lightfoot R-Center
DESCRIPTION:Bring your skates to get your roll on with your peers. You will enjoy great music and fun conversations with others while skating. Please note all exclusion dates for skate night!\nRestrictions\nGender\nCo-ed\nAge Restriction\n18+
URL:https://blackownedinrochester.com/event/adult-skate-night-willie-w-lightfoot-r-center/2026-04-08/
LOCATION:Willie W. Lightfoot R-Center\, 271 Flint St\, Rochester\, NY\, 14608\, United States
CATEGORIES:Free Events in Rochester NY
ORGANIZER;CN="Community Organizer":MAILTO:blackownedinrochester+events@gmail.com
END:VEVENT
BEGIN:VEVENT
DTSTART;TZID=America/New_York:20260325T190000
DTEND;TZID=America/New_York:20260325T210000
DTSTAMP:20260423T123220
CREATED:20260306T204328Z
LAST-MODIFIED:20260306T204328Z
UID:10000705-1774465200-1774472400@blackownedinrochester.com
SUMMARY:Adult Skate Night @ Willie W Lightfoot R-Center
DESCRIPTION:Bring your skates to get your roll on with your peers. You will enjoy great music and fun conversations with others while skating. Please note all exclusion dates for skate night!\nRestrictions\nGender\nCo-ed\nAge Restriction\n18+
URL:https://blackownedinrochester.com/event/adult-skate-night-willie-w-lightfoot-r-center/2026-03-25/
LOCATION:Willie W. Lightfoot R-Center\, 271 Flint St\, Rochester\, NY\, 14608\, United States
CATEGORIES:Free Events in Rochester NY
ORGANIZER;CN="Community Organizer":MAILTO:blackownedinrochester+events@gmail.com
END:VEVENT
BEGIN:VEVENT
DTSTART;TZID=America/New_York:20260321T100000
DTEND;TZID=America/New_York:20260321T170000
DTSTAMP:20260423T123220
CREATED:20260309T212516Z
LAST-MODIFIED:20260309T212516Z
UID:10000769-1774087200-1774112400@blackownedinrochester.com
SUMMARY:INK + ALCHEMY : BOOKS & PLANTS - THEMATA
DESCRIPTION:Plant & Book Market 🌿📚\n📅 March 21\n⏰ 10 AM – 5 PM\n📍 Culver Road Armory — 155 Culver Rd\, Rochester\nJoin us for a one-day indoor market featuring plant sellers\, book vendors\, and plant-adjacent goods. Browse houseplants\, rare plants\, books\, zines\, planters\, botanical art\, and other green-inspired finds from local makers and sellers.\nCelebrate the start of spring with plants\, books\, and good company.\nFree and open to the public
URL:https://blackownedinrochester.com/event/ink-alchemy-books-plants-themata/
LOCATION:Culver Road Armory\, 155 Culver Road\, Rochester\, NY\, 14620\, United States
CATEGORIES:Free Events in Rochester NY
ATTACH;FMTTYPE=image/jpeg:https://blackownedinrochester.com/wp-content/uploads/2026/03/649281662_1291411333051285_4400240177197604823_n.jpg
ORGANIZER;CN="Community Organizer":MAILTO:blackownedinrochester+events@gmail.com
END:VEVENT
BEGIN:VEVENT
DTSTART;TZID=America/New_York:20260318T190000
DTEND;TZID=America/New_York:20260318T210000
DTSTAMP:20260423T123220
CREATED:20260306T204328Z
LAST-MODIFIED:20260306T204328Z
UID:10000704-1773860400-1773867600@blackownedinrochester.com
SUMMARY:Adult Skate Night @ Willie W Lightfoot R-Center
DESCRIPTION:Bring your skates to get your roll on with your peers. You will enjoy great music and fun conversations with others while skating. Please note all exclusion dates for skate night!\nRestrictions\nGender\nCo-ed\nAge Restriction\n18+
URL:https://blackownedinrochester.com/event/adult-skate-night-willie-w-lightfoot-r-center/2026-03-18/
LOCATION:Willie W. Lightfoot R-Center\, 271 Flint St\, Rochester\, NY\, 14608\, United States
CATEGORIES:Free Events in Rochester NY
ORGANIZER;CN="Community Organizer":MAILTO:blackownedinrochester+events@gmail.com
END:VEVENT
BEGIN:VEVENT
DTSTART;TZID=America/New_York:20260314T120000
DTEND;TZID=America/New_York:20260314T143000
DTSTAMP:20260423T123220
CREATED:20260306T205758Z
LAST-MODIFIED:20260306T205758Z
UID:10000717-1773489600-1773498600@blackownedinrochester.com
SUMMARY:Rochester\, NY St. Patrick's Day Parade
DESCRIPTION:The Rochester St. Patrick’s Day Parade is a cherished annual tradition that brings the community together in a lively celebration of Irish heritage\, unity\, and pride.  \nThe parade begins at 12:30 p.m. at the corner of East Ave. & Alexander St.\, proceeds on East to Main St.\, and continues down Main until Fitzhugh St. \nSince its founding in 1977\, the parade has grown into one of the city’s largest and most spirited parades\, filling the streets of downtown Rochester NY with vibrant floats\, marching bands\, dance groups\, and local organizations.
URL:https://blackownedinrochester.com/event/rochester-ny-st-patricks-day-parade/
LOCATION:Rochester\, NY\, Rochester\, NY\, United States
CATEGORIES:Free Events in Rochester NY,Live Music Rochester NY
ATTACH;FMTTYPE=image/jpeg:https://blackownedinrochester.com/wp-content/uploads/2026/03/031425-Painting-of-the-Green-06674.jpg
ORGANIZER;CN="Community Organizer":MAILTO:blackownedinrochester+events@gmail.com
END:VEVENT
BEGIN:VEVENT
DTSTART;TZID=America/New_York:20260311T190000
DTEND;TZID=America/New_York:20260311T210000
DTSTAMP:20260423T123220
CREATED:20260306T204328Z
LAST-MODIFIED:20260306T204328Z
UID:10000703-1773255600-1773262800@blackownedinrochester.com
SUMMARY:Adult Skate Night @ Willie W Lightfoot R-Center
DESCRIPTION:Bring your skates to get your roll on with your peers. You will enjoy great music and fun conversations with others while skating. Please note all exclusion dates for skate night!\nRestrictions\nGender\nCo-ed\nAge Restriction\n18+
URL:https://blackownedinrochester.com/event/adult-skate-night-willie-w-lightfoot-r-center/2026-03-11/
LOCATION:Willie W. Lightfoot R-Center\, 271 Flint St\, Rochester\, NY\, 14608\, United States
CATEGORIES:Free Events in Rochester NY
ORGANIZER;CN="Community Organizer":MAILTO:blackownedinrochester+events@gmail.com
END:VEVENT
BEGIN:VEVENT
DTSTART;TZID=America/New_York:20260308T120000
DTEND;TZID=America/New_York:20260308T160000
DTSTAMP:20260423T123220
CREATED:20260306T201138Z
LAST-MODIFIED:20260306T201138Z
UID:10000701-1772971200-1772985600@blackownedinrochester.com
SUMMARY:Women Mean Busine$$ - Annual Expo
DESCRIPTION:Please join us on Sunday\, March 8\, in celebration of International Women’s Day 🌸\nThe Greater Rochester Chapter of the National Organization for Women (NOW) is hosting Women Mean Business\, a free community expo highlighting local\, women-owned businesses and exploring the economic issues women face today.\n📍 ARTISANworks (565 Blossom Road)\n🕛 12:00 p.m. – 4:00 p.m.\nThe vendor expo will feature 25 local women-owned businesses\, including retail shops\, restaurants\, consultants\, and more. It’s a great opportunity to shop local\, connect\, and learn.\n🗣️ Panel Discussion | 2:00 p.m. – 3:00 p.m.\nHear from local women business owners as they discuss:\nPay equity\nAdvice for women starting a business\nWhy supporting women-owned businesses matters and how to do it effectively\nMeet our featured panelists:\n🌿 Jessica Catlin\, Founder of Cultivated Comfort — End-of-life educator and doula helping families approach life’s final chapter with clarity\, dignity\, and compassionate planning.\n🌸 Chloe Anderson-Adeyemi\, Founder of Nubian Nurturance — Certified Business Advisor supporting women- and minority-owned businesses across the Finger Lakes region.\n🧘🏾‍♀️ Jacquelyn Cuyler\, Founder of TRANScendental Healing — Healer\, educator\, and author leading transformative conversations on trauma\, consciousness\, and holistic healing.\n💃 Rebecca Phelps\, Founder of Gracious Dance — Building inclusive\, movement-centered community programs that support healing and creative expression.\n📸 Danielle DiNatale\, Owner of 13 One Photography — Celebrating 18 seasons in business and capturing life’s most meaningful moments.\nCome celebrate\, support\, and learn. Women Mean Business. \nConfirmed Vendors :\nChelsadelic Art – NOW member Chelsea Merritt\nConversation Pieces – NOW Member Yolanda Sheffa\nThat Other Tarot Girl – NOW Member Halie Washburn\nRosa Mar Creations – Mariah Morrero\nCultivated Comfort – NOW Member Jessica Caitlin\nNubian Nurturance – NOW Member Chloe Anderson\nGenuWine Productions – NOW Member Sandy Stettner\nKindred Connection LLC – NOW Member Jenna Hine\nYou are Beautifully Made LLC – NOW Member Ronieka Burns\nTrue Body\, Mind\, and Spirit – NOW Member Amy Mantrow\nRoc SRJ – Jilian Quigley\nSundry Pottery – Kiarra Chirico\nBewitched Coffee Co. – Anna Jeter\nThe Crooked Crumble – Ashley Martin\nIsland Vybze Juice Bar – Vaughnette Manhertz\nLeague of Women Voters Rochester – Barbara Grosh\, President\nGood Vibes Music Shop – Becky Sheldon\nThe J Cater Shop – Jen Cater\nMy Bookery Roc – Kimberly Dietz\nAerry Berry Farm – Aeryn Boyd\nAuthor Kaeia Perez – Everwomb\nVisibly Wicked LLC – Athena Vander Wyst\nHigh Strung Products – Andi Brown\nLove Fern & Co – Leslie Fay\nJoi the Florist – Sh’Nya J. Kearse\nTail Wagging Treats – Becky Brock Munson
URL:https://blackownedinrochester.com/event/women-mean-busine-annual-expo/
LOCATION:ARTISANworks\, 565 Blossom Rd\, Rochester\, NY\, 14610\, United States
CATEGORIES:Free Events in Rochester NY
ATTACH;FMTTYPE=image/jpeg:https://blackownedinrochester.com/wp-content/uploads/2026/03/648090442_10100424436733803_7964494788624355193_n.jpg
ORGANIZER;CN="Community Organizer":MAILTO:blackownedinrochester+events@gmail.com
END:VEVENT
BEGIN:VEVENT
DTSTART;TZID=America/New_York:20260304T190000
DTEND;TZID=America/New_York:20260304T210000
DTSTAMP:20260423T123220
CREATED:20260306T204328Z
LAST-MODIFIED:20260306T204328Z
UID:10000702-1772650800-1772658000@blackownedinrochester.com
SUMMARY:Adult Skate Night @ Willie W Lightfoot R-Center
DESCRIPTION:Bring your skates to get your roll on with your peers. You will enjoy great music and fun conversations with others while skating. Please note all exclusion dates for skate night!\nRestrictions\nGender\nCo-ed\nAge Restriction\n18+
URL:https://blackownedinrochester.com/event/adult-skate-night-willie-w-lightfoot-r-center/2026-03-04/
LOCATION:Willie W. Lightfoot R-Center\, 271 Flint St\, Rochester\, NY\, 14608\, United States
CATEGORIES:Free Events in Rochester NY
ORGANIZER;CN="Community Organizer":MAILTO:blackownedinrochester+events@gmail.com
END:VEVENT
BEGIN:VEVENT
DTSTART;TZID=America/New_York:20260213T180000
DTEND;TZID=America/New_York:20260213T200000
DTSTAMP:20260423T123220
CREATED:20260204T155927Z
LAST-MODIFIED:20260204T155927Z
UID:10000697-1771005600-1771012800@blackownedinrochester.com
SUMMARY:Galentine's Day–Memorial Art Gallery
DESCRIPTION:Join us for the best day of the year! Come celebrate yourself\, your friendships\, and the artwork of the Impressionists at MAG! \nWe will have vendors from female-owned businesses\, art creating\, music\, mingling\, mini art tours highlighting female artists in our collection at 6:30 and 7:00 pm\, light fare\, a cash bar\, and more. Join us and treat yourself to a night of art\, fun\, and friendship. \nVendors include: \nBurn Bright Books\nErin’s Frame of mind\nFiggy Studio & Shop\nFilipina Beauty\nHenna Rising\nLauren Rae Pottery\nLittle Blue Thistle\nMay & Birch\nJoLuxe Permanent Jewelry\nSecond Look Styling & Boutique\nTealightful Tea\nVictory Books \n(You can keep any needlepoint pillows with your face on it and the lead headline from a newspaper from the year you were born at home or you can bring them!)
URL:https://blackownedinrochester.com/event/galentines-day-memorial-art-gallery-2/
LOCATION:Memorial Art Gallery\, 500 University Ave\, Rochester\, 14607\, United States
CATEGORIES:Free Events in Rochester NY
ATTACH;FMTTYPE=image/jpeg:https://blackownedinrochester.com/wp-content/uploads/2026/02/54328023355_a3002bc9fa_o-1.jpg
ORGANIZER;CN="Community Organizer":MAILTO:blackownedinrochester+events@gmail.com
END:VEVENT
END:VCALENDAR