BEGIN:VCALENDAR
VERSION:2.0
PRODID:-//Black-Owned in Rochester - ECPv6.15.20//NONSGML v1.0//EN
CALSCALE:GREGORIAN
METHOD:PUBLISH
X-WR-CALNAME:Black-Owned in Rochester
X-ORIGINAL-URL:https://blackownedinrochester.com
X-WR-CALDESC:Events for Black-Owned in Rochester
REFRESH-INTERVAL;VALUE=DURATION:PT1H
X-Robots-Tag:noindex
X-PUBLISHED-TTL:PT1H
BEGIN:VTIMEZONE
TZID:America/New_York
BEGIN:DAYLIGHT
TZOFFSETFROM:-0500
TZOFFSETTO:-0400
TZNAME:EDT
DTSTART:20250309T070000
END:DAYLIGHT
BEGIN:STANDARD
TZOFFSETFROM:-0400
TZOFFSETTO:-0500
TZNAME:EST
DTSTART:20251102T060000
END:STANDARD
BEGIN:DAYLIGHT
TZOFFSETFROM:-0500
TZOFFSETTO:-0400
TZNAME:EDT
DTSTART:20260308T070000
END:DAYLIGHT
BEGIN:STANDARD
TZOFFSETFROM:-0400
TZOFFSETTO:-0500
TZNAME:EST
DTSTART:20261101T060000
END:STANDARD
BEGIN:DAYLIGHT
TZOFFSETFROM:-0500
TZOFFSETTO:-0400
TZNAME:EDT
DTSTART:20270314T070000
END:DAYLIGHT
BEGIN:STANDARD
TZOFFSETFROM:-0400
TZOFFSETTO:-0500
TZNAME:EST
DTSTART:20271107T060000
END:STANDARD
END:VTIMEZONE
BEGIN:VEVENT
DTSTART;TZID=America/New_York:20260814T160000
DTEND;TZID=America/New_York:20260817T000000
DTSTAMP:20260423T120352
CREATED:20250328T023459Z
LAST-MODIFIED:20260417T203427Z
UID:10000569-1786723200-1786924800@blackownedinrochester.com
SUMMARY:Hoochenanny Whiskey & Music Festival
DESCRIPTION:Hoochenanny Whiskey & Music Festival \nEvent Overview\nGENERAL ADMISSION (GA)  \nLive Performances: Access to all shows on two stages\nBarrel Bistro: Food available for purchase with shaded\, tented seating\nArtisans’ Bazaar: Shop from local vendors\nConcert Pavilion: Covered space with full bar\, festival and band merch\, and seating\nLager Land: Seasonal beer tastings available for purchase. Must be 21 or over\nYouth Admission: Ages 10 and under are free with a ticketed parent or guardian \nGENERAL ADMISSION + (GA+)\nGA+ passes include everything in General Admission\, plus: \nWorld of Whiskey: An immersive\, air-conditioned tent with five spaces to explore\, including American Whiskey Journey and Rickhouse Rendezvous with complimentary tastings\, plus Libations Lounge and Rarities Bar with drinks for purchase\, and Fireside Chats\nStageview Lounge (NEW): Raised platform with covered private bar and lounge seating\nUpgraded Restrooms\nSide Stage Views \nVIP\nVIP passes include everything in General Admission\, plus: \nWorld of Whiskey\nVIP Loft: Two-story tent with catering\, seating\, cocktail lounges\, cigar bar\, exclusive whiskey tastings\, and elevated stage views\nUpgraded Restrooms\nVIP Bridge: Raised platform with the closest Main Stage views\nRe-Entry: In and out access throughout the day\nComplimentary Parking: Within walking distance\, while space lasts\, arrive early \nPlease Note: All sales are final.
URL:https://blackownedinrochester.com/event/hoochenanny-whiskey-music-festival/
LOCATION:Central Park West\, 1100 Ayrault Road\, Fairport\, NY\, 14450\, United States
CATEGORIES:Festivals,Live Music Rochester NY
ATTACH;FMTTYPE=image/png:https://blackownedinrochester.com/wp-content/uploads/2025/03/Screenshot-2026-04-17-at-4.26.47-PM.png
ORGANIZER;CN="Community Organizer":MAILTO:blackownedinrochester+events@gmail.com
END:VEVENT
BEGIN:VEVENT
DTSTART;TZID=America/New_York:20260815T080000
DTEND;TZID=America/New_York:20260815T160000
DTSTAMP:20260423T120352
CREATED:20250715T154707Z
LAST-MODIFIED:20260408T220044Z
UID:10000355-1786780800-1786809600@blackownedinrochester.com
SUMMARY:Hilton’s Classic Wheels on Main Street - Hilton
DESCRIPTION:13th Annual Hilton’s Classic Wheels on Main Street\nSaturday August 15\, 2026\n8:00 AM – 4:00 PM \nWe are back this year with another great show planned for Hilton! \nClick on the link for the flyer \nQuestions?: call Jeff at (585)764-4198 or email: gilligansae@hotmail.com \nAGAIN FOR 2025…\nMUST BE PRE-REGISTERED BY MAIL OR ONLINE TO SECURE YOUR SPOT ON MAIN STREET \nRE-ARRANGED CLASSES FOR 2025… SEE FLYER…\nREGISTRATION / CAR ENTRY 8:00 AM – 11 AM\n… \nPRE-REGISTER ONLINE AT EVENTBRITE! \n*Eventbrite fees apply. Refunds available except for Eventbrite fees. \nCheck us out on FACEBOOK \nWe would like to thank our generous sponsors\, committee members\, the Village of Hilton\, the community\, and the past (and hopefully future) attendees of this great show in Hilton. \nWe look forward to putting on another great show this year. See you on August 15th! \nSincerely\,\nJeffrey LaChausse & Hilton’s Classic Wheels on Main Street Committee.
URL:https://blackownedinrochester.com/event/hiltons-classic-wheels-on-main-street-hilton/
LOCATION:Hilton Main St.\, 16A Main St\, Hilton\, 14468\, United States
CATEGORIES:Festivals,Free Events in Rochester NY
ATTACH;FMTTYPE=image/png:https://blackownedinrochester.com/wp-content/uploads/2025/07/Screenshot-2026-04-08-at-5.58.24-PM.png
ORGANIZER;CN="Community Organizer":MAILTO:blackownedinrochester+events@gmail.com
END:VEVENT
BEGIN:VEVENT
DTSTART;TZID=America/New_York:20260815T110000
DTEND;TZID=America/New_York:20260815T170000
DTSTAMP:20260423T120352
CREATED:20260409T152835Z
LAST-MODIFIED:20260409T152911Z
UID:10000851-1786791600-1786813200@blackownedinrochester.com
SUMMARY:South Wedge Festival
DESCRIPTION:The mission of South Wedge Fest is to bring the community together to celebrate the uniqueness of the South Wedge while having fun. \nYou will have the chance to visit local artists\, vendors\, food trucks\, and the eclectic businesses on South Ave\, while grooving to a line-up of homegrown bands. \nPet Parade Registration\nPets and parents\, come march through the neighborhood to the festival main stage and show off our furriest neighbors. Award categories include: Best Dressed\, Most Unique\, Owner Look Alike\, Best Smile\, Sassiest Pet. \nArtists/Vendor Registration\nThe South Wedge is an eclectic community known for celebrating creative expression. We invite artists from the community and region to join us. \nSponsor\nApply to sponsor this year’s festival
URL:https://blackownedinrochester.com/event/south-wedge-festival/
LOCATION:South Wedge\, South Ave\, Rochester\, 14620\, United States
CATEGORIES:Festivals,Free Events in Rochester NY,Live Music Rochester NY,Vendor Markets Rochester NY
ORGANIZER;CN="Community Organizer":MAILTO:blackownedinrochester+events@gmail.com
END:VEVENT
BEGIN:VEVENT
DTSTART;TZID=America/New_York:20260823T100000
DTEND;TZID=America/New_York:20260823T170000
DTSTAMP:20260423T120352
CREATED:20260210T180948Z
LAST-MODIFIED:20260408T192213Z
UID:10000700-1787479200-1787504400@blackownedinrochester.com
SUMMARY:Rochester VegFest 2026
DESCRIPTION:VegFest 2026 will be hosted again at Parcel 5\non Sunday\, August 23\, 2026.\nPlease join us for our next annual festival celebration of healthy plant-based living!
URL:https://blackownedinrochester.com/event/rochester-vegfest/
LOCATION:Parcel 5\, 285 E Main St\, Rochester\, NY\, 14604\, United States
CATEGORIES:Festivals,Free Events in Rochester NY
ATTACH;FMTTYPE=image/jpeg:https://blackownedinrochester.com/wp-content/uploads/2026/02/Vegfest-Returns-2026-10-5-1.jpg
ORGANIZER;CN="Community Organizer":MAILTO:blackownedinrochester+events@gmail.com
END:VEVENT
BEGIN:VEVENT
DTSTART;TZID=America/New_York:20260915T120000
DTEND;TZID=America/New_York:20260926T230000
DTSTAMP:20260423T120352
CREATED:20250828T173541Z
LAST-MODIFIED:20260408T194519Z
UID:10000634-1789473600-1790463600@blackownedinrochester.com
SUMMARY:Rochester Fringe Festival
DESCRIPTION:Join us for the 2026 Rochester Fringe Festival — from September 15 to 26 — for twelve days of inspiration\, discovery\, and the entire city as your stage. \nCome experience one of New York State’s most dynamic cultural celebrations! Now in its 14th year\, the KeyBank Rochester Fringe Festival continues to enchant audiences as the largest multidisciplinary performing arts festival in the state and one of the top-attended fringe festivals in the U.S. \nMarvel at over 600 performances spread across 30+ venues\, ranging from grand theaters to intimate galleries\, pop-up stages\, and outdoor plazas. \nEnjoy comedy\, theatre\, dance\, music\, spoken word\, visual arts\, film screenings\, kids’ performances\, and multidisciplinary spectacles—many of which are either free or affordably priced\, making the Fringe an accessible celebration for all audiences.
URL:https://blackownedinrochester.com/event/rochester-fringe-festival/
LOCATION:Rochester\, NY\, Rochester\, NY\, United States
CATEGORIES:Festivals,Free Events in Rochester NY,Live Music Rochester NY
ATTACH;FMTTYPE=image/jpeg:https://blackownedinrochester.com/wp-content/uploads/2025/08/Bandaloop-12.jpg
ORGANIZER;CN="Community Organizer":MAILTO:blackownedinrochester+events@gmail.com
END:VEVENT
BEGIN:VEVENT
DTSTART;TZID=America/New_York:20260918T170000
DTEND;TZID=America/New_York:20260918T210000
DTSTAMP:20260423T120352
CREATED:20250828T155128Z
LAST-MODIFIED:20260408T201026Z
UID:10000633-1789750800-1789765200@blackownedinrochester.com
SUMMARY:Oktoberfest - Rochester Public Market
DESCRIPTION:A new annual event in the Market’s special event lineup (2025 was the third year)\,Oktoberfest is a shout-out to the German autumn advent tradition of food\, beer\, live music\, cultural performances\, games\, and more. \nWhile Oktoberfest may be more of an adult celebration in most places\, at the Market we emphasize family-friendliness — so while brews are certainly part of our Oktoberfest\, there is much more fun available for the whole family! \nOktoberfest is a collaboration of the Public Market and Rohrbach’s Brewing Company\, a prominent presence in the Market Business District and well versed in German beer and revelry traditions!
URL:https://blackownedinrochester.com/event/oktoberfest-rochester-public-market/
LOCATION:The City of Rochester Public Market\, 280 N Union St\, Rochester\, NY\, 14609\, United States
CATEGORIES:Festivals,Free Events in Rochester NY,Live Music Rochester NY
ORGANIZER;CN="Community Organizer":MAILTO:blackownedinrochester+events@gmail.com
END:VEVENT
BEGIN:VEVENT
DTSTART;TZID=America/New_York:20260919T120000
DTEND;TZID=America/New_York:20260919T210000
DTSTAMP:20260423T120352
CREATED:20260306T181522Z
LAST-MODIFIED:20260408T192209Z
UID:10000208-1789819200-1789851600@blackownedinrochester.com
SUMMARY:Pittsford Food Truck & Music Fest
DESCRIPTION:12:00 – 9:00 PM on South Main Street between State Street and Locust Street. \nThe town’s last big event of the season featuring delicious food from a variety of regional food trucks and local eateries and great music all day\, plus carnival rides and plenty of games and activities. \nHeld on Main Street\, from the Four Corners (Monroe/State streets) to Locust Street. Admission is free and food is available for purchase; open to the public.
URL:https://blackownedinrochester.com/event/pittsford-food-truck-music-fest/
LOCATION:S Main St.\, 16 S Main St\, Pittsford\, 14534\, United States
CATEGORIES:Festivals,Free Events in Rochester NY,Live Music Rochester NY
ATTACH;FMTTYPE=image/png:https://blackownedinrochester.com/wp-content/uploads/2024/07/Screen-Shot-2024-07-22-at-2.00.11-PM.png
ORGANIZER;CN="Community Organizer":MAILTO:blackownedinrochester+events@gmail.com
END:VEVENT
BEGIN:VEVENT
DTSTART;TZID=America/New_York:20261003T100000
DTEND;TZID=America/New_York:20261004T170000
DTSTAMP:20260423T120352
CREATED:20250930T153301Z
LAST-MODIFIED:20260408T200734Z
UID:10000354-1791021600-1791133200@blackownedinrochester.com
SUMMARY:Hilton Apple Festival - Hilton
DESCRIPTION:44th Annual Festival in Hilton\, NY\nCraft Shows\, Food\, auto show and more.
URL:https://blackownedinrochester.com/event/hilton-apple-festival-hilton/
LOCATION:Hilton Apple Fest\, Henry St\, Hilton\, NY\, 14468\, United States
CATEGORIES:Festivals,Free Events in Rochester NY
ATTACH;FMTTYPE=image/png:https://blackownedinrochester.com/wp-content/uploads/2024/07/hilton-apple-fest_logo.png
ORGANIZER;CN="Community Organizer":MAILTO:blackownedinrochester+events@gmail.com
END:VEVENT
BEGIN:VEVENT
DTSTART;TZID=America/New_York:20261010T100000
DTEND;TZID=America/New_York:20261010T170000
DTSTAMP:20260423T120352
CREATED:20260306T051741Z
LAST-MODIFIED:20260408T192212Z
UID:10000638-1791626400-1791651600@blackownedinrochester.com
SUMMARY:The Rochester Queer Arts Festival
DESCRIPTION:The Rochester Queer Arts Festival is back in 2026\, with a new home at Village Gate\, RQAF will be bigger and better. Most exciting of all\, we are now a FREE event for the community. \nNow\, more than ever\, it is important that we show up and support our LGBTQIA+ artists\, and our allies.
URL:https://blackownedinrochester.com/event/the-rochester-queer-arts-festival/
LOCATION:village gate square\, 274 N. Goodman St\, Rochester\, NY\, 14607\, United States
CATEGORIES:Festivals,Free Events in Rochester NY
ORGANIZER;CN="Community Organizer":MAILTO:blackownedinrochester+events@gmail.com
END:VEVENT
BEGIN:VEVENT
DTSTART;TZID=America/New_York:20261025T120000
DTEND;TZID=America/New_York:20261025T140000
DTSTAMP:20260423T120352
CREATED:20251015T171555Z
LAST-MODIFIED:20260408T201520Z
UID:10000214-1792929600-1792936800@blackownedinrochester.com
SUMMARY:Family Halloween Fest
DESCRIPTION:Our family-friendly Halloween party with crafts\, games\, prizes\, refreshments\, and indoor and outdoor activities.  \nOpen to the public\, admission is one canned good item per person to benefit the Pittsford Food Cupboard.
URL:https://blackownedinrochester.com/event/family-halloween-fest/
LOCATION:Spiegel Pittsford Community Center\, 35 Lincoln Ave\, Pittsford\, NY\, 14534\, United States
CATEGORIES:Festivals
ATTACH;FMTTYPE=image/png:https://blackownedinrochester.com/wp-content/uploads/2024/07/Screen-Shot-2024-07-22-at-1.50.59-PM.png
ORGANIZER;CN="Community Organizer":MAILTO:blackownedinrochester+events@gmail.com
END:VEVENT
BEGIN:VEVENT
DTSTART;TZID=America/New_York:20261129T080000
DTEND;TZID=America/New_York:20261129T140000
DTSTAMP:20260423T120352
CREATED:20240325T222427Z
LAST-MODIFIED:20260408T192220Z
UID:10000846-1795939200-1795960800@blackownedinrochester.com
SUMMARY:Holidays at the Market - City of Rochester Public Market
DESCRIPTION:2026 Schedule\nSunday\, November 29 (8 a.m. – 2 p.m.)\nSunday\, December 6 (8 a.m. – 2 p.m.)\nThursday\, December 10 (6-9 p.m.)  \nA Rochester holiday tradition for over a quarter-century\, Holidays at the Market features dozens of holiday-focused vendors selling fresh-cut trees and wreaths\, decorations\, specialty foods and beverage products\, hand-crafted items\, seasonal treats\, and much more!\nDuring Holidays\, the Market is decked out in holiday lights and festive music\, and offers a great volume and variety of local shopping and unique gift items. Kids can visit Santa from 9 a.m. to 12 p.m. during the Sunday events\, and from 6 to 8 p.m. during the Thursday evening event. Plus\, everyone can enjoy free horse-drawn carriage rides offered during all the events! \nSpecial Thursday Evening Event\nHolidays at the Market hosts a special Thursday evening event in addition to the three Sundays. In collaboration with the Market District Business Association\, this evening event feature specials at Market District businesses in addition to shopping with holiday-themed vendors. Entertainment throughout the Market District\, Santa and horse-drawn carriage rides will add to the shopping delights and make for a festive and memorable Holidays at the Market bonus! \nMarket Gift Tokens Make Great Holiday Gifts\nConsider giving the gift of the Market during the holiday season– get some Public Market Gift Tokens (and/or Market-branded merchandise) for your family and friends! Market Gift Tokens are available for purchase at the small white Token Center behind the Market Office\, during regular Market days and hours. Market-branded merch is available most regular Saturday Market shopping days\, in the indoor “B” Shed\, and will be available during Holidays at the Market.
URL:https://blackownedinrochester.com/event/holidays-at-the-market-city-of-rochester-public-market/2026-11-29/
LOCATION:The City of Rochester Public Market\, 280 N Union St\, Rochester\, NY\, 14609\, United States
CATEGORIES:Festivals,Free Events in Rochester NY
ATTACH;FMTTYPE=image/jpeg:https://blackownedinrochester.com/wp-content/uploads/2024/03/2310-RPM-Holidays@mrkt-web-header.jpg
ORGANIZER;CN="Community Organizer":MAILTO:blackownedinrochester+events@gmail.com
END:VEVENT
BEGIN:VEVENT
DTSTART;TZID=America/New_York:20261206T080000
DTEND;TZID=America/New_York:20261206T140000
DTSTAMP:20260423T120352
CREATED:20240325T222427Z
LAST-MODIFIED:20260408T192220Z
UID:10000847-1796544000-1796565600@blackownedinrochester.com
SUMMARY:Holidays at the Market - City of Rochester Public Market
DESCRIPTION:2026 Schedule\nSunday\, November 29 (8 a.m. – 2 p.m.)\nSunday\, December 6 (8 a.m. – 2 p.m.)\nThursday\, December 10 (6-9 p.m.)  \nA Rochester holiday tradition for over a quarter-century\, Holidays at the Market features dozens of holiday-focused vendors selling fresh-cut trees and wreaths\, decorations\, specialty foods and beverage products\, hand-crafted items\, seasonal treats\, and much more!\nDuring Holidays\, the Market is decked out in holiday lights and festive music\, and offers a great volume and variety of local shopping and unique gift items. Kids can visit Santa from 9 a.m. to 12 p.m. during the Sunday events\, and from 6 to 8 p.m. during the Thursday evening event. Plus\, everyone can enjoy free horse-drawn carriage rides offered during all the events! \nSpecial Thursday Evening Event\nHolidays at the Market hosts a special Thursday evening event in addition to the three Sundays. In collaboration with the Market District Business Association\, this evening event feature specials at Market District businesses in addition to shopping with holiday-themed vendors. Entertainment throughout the Market District\, Santa and horse-drawn carriage rides will add to the shopping delights and make for a festive and memorable Holidays at the Market bonus! \nMarket Gift Tokens Make Great Holiday Gifts\nConsider giving the gift of the Market during the holiday season– get some Public Market Gift Tokens (and/or Market-branded merchandise) for your family and friends! Market Gift Tokens are available for purchase at the small white Token Center behind the Market Office\, during regular Market days and hours. Market-branded merch is available most regular Saturday Market shopping days\, in the indoor “B” Shed\, and will be available during Holidays at the Market.
URL:https://blackownedinrochester.com/event/holidays-at-the-market-city-of-rochester-public-market/2026-12-06/
LOCATION:The City of Rochester Public Market\, 280 N Union St\, Rochester\, NY\, 14609\, United States
CATEGORIES:Festivals,Free Events in Rochester NY
ATTACH;FMTTYPE=image/jpeg:https://blackownedinrochester.com/wp-content/uploads/2024/03/2310-RPM-Holidays@mrkt-web-header.jpg
ORGANIZER;CN="Community Organizer":MAILTO:blackownedinrochester+events@gmail.com
END:VEVENT
BEGIN:VEVENT
DTSTART;TZID=America/New_York:20261210T180000
DTEND;TZID=America/New_York:20261210T210000
DTSTAMP:20260423T120352
CREATED:20240325T222427Z
LAST-MODIFIED:20260408T192220Z
UID:10000848-1796925600-1796936400@blackownedinrochester.com
SUMMARY:Holidays at the Market - City of Rochester Public Market
DESCRIPTION:2026 Schedule\nSunday\, November 29 (8 a.m. – 2 p.m.)\nSunday\, December 6 (8 a.m. – 2 p.m.)\nThursday\, December 10 (6-9 p.m.)  \nA Rochester holiday tradition for over a quarter-century\, Holidays at the Market features dozens of holiday-focused vendors selling fresh-cut trees and wreaths\, decorations\, specialty foods and beverage products\, hand-crafted items\, seasonal treats\, and much more!\nDuring Holidays\, the Market is decked out in holiday lights and festive music\, and offers a great volume and variety of local shopping and unique gift items. Kids can visit Santa from 9 a.m. to 12 p.m. during the Sunday events\, and from 6 to 8 p.m. during the Thursday evening event. Plus\, everyone can enjoy free horse-drawn carriage rides offered during all the events! \nSpecial Thursday Evening Event\nHolidays at the Market hosts a special Thursday evening event in addition to the three Sundays. In collaboration with the Market District Business Association\, this evening event feature specials at Market District businesses in addition to shopping with holiday-themed vendors. Entertainment throughout the Market District\, Santa and horse-drawn carriage rides will add to the shopping delights and make for a festive and memorable Holidays at the Market bonus! \nMarket Gift Tokens Make Great Holiday Gifts\nConsider giving the gift of the Market during the holiday season– get some Public Market Gift Tokens (and/or Market-branded merchandise) for your family and friends! Market Gift Tokens are available for purchase at the small white Token Center behind the Market Office\, during regular Market days and hours. Market-branded merch is available most regular Saturday Market shopping days\, in the indoor “B” Shed\, and will be available during Holidays at the Market.
URL:https://blackownedinrochester.com/event/holidays-at-the-market-city-of-rochester-public-market/2026-12-10/
LOCATION:The City of Rochester Public Market\, 280 N Union St\, Rochester\, NY\, 14609\, United States
CATEGORIES:Festivals,Free Events in Rochester NY
ATTACH;FMTTYPE=image/jpeg:https://blackownedinrochester.com/wp-content/uploads/2024/03/2310-RPM-Holidays@mrkt-web-header.jpg
ORGANIZER;CN="Community Organizer":MAILTO:blackownedinrochester+events@gmail.com
END:VEVENT
END:VCALENDAR